BEGIN:VCALENDAR
VERSION:2.0
PRODID:https://www.kufer.de/kuferweb / DE
METHOD:PUBLISH
CALSCALE:GREGORIAN
X-WR-TIMEZONE:Europe/Berlin
BEGIN:VTIMEZONE
TZID:Europe/Berlin
X-LIC-LOCATION:Europe/Berlin
BEGIN:DAYLIGHT
TZOFFSETFROM:+0100
TZOFFSETTO:+0200
TZNAME:CEST
DTSTART:19700329T020000
RRULE:FREQ=YEARLY;INTERVAL=1;BYDAY=-1SU;BYMONTH=3
END:DAYLIGHT
BEGIN:STANDARD
TZOFFSETFROM:+0200
TZOFFSETTO:+0100
TZNAME:CET
DTSTART:19701025T030000
RRULE:FREQ=YEARLY;INTERVAL=1;BYDAY=-1SU;BYMONTH=10
END:STANDARD
END:VTIMEZONE
BEGIN:VEVENT
DTSTAMP:20260422T232013
DTSTART;TZID=Europe/Berlin:20260125T103000
DTEND;TZID=Europe/Berlin:20260125T124500
UID:2602611006-20260125T103000@DÜSSELDORF ASG-BILDUNGSFORUM
SUMMARY:Alleine erziehen - gemeinsam aktiv (2602611006) 
LOCATION:ASG-R43;Großer Kindergruppenraum, Rather Kreuzweg 43, 40472 Düsseldorf
END:VEVENT
BEGIN:VEVENT
DTSTAMP:20260422T232013
DTSTART;TZID=Europe/Berlin:20260208T103000
DTEND;TZID=Europe/Berlin:20260208T124500
UID:2602611006-20260208T103000@DÜSSELDORF ASG-BILDUNGSFORUM
SUMMARY:Alleine erziehen - gemeinsam aktiv (2602611006) 
LOCATION:ASG-R43;Großer Kindergruppenraum, Rather Kreuzweg 43, 40472 Düsseldorf
END:VEVENT
BEGIN:VEVENT
DTSTAMP:20260422T232013
DTSTART;TZID=Europe/Berlin:20260222T103000
DTEND;TZID=Europe/Berlin:20260222T124500
UID:2602611006-20260222T103000@DÜSSELDORF ASG-BILDUNGSFORUM
SUMMARY:Alleine erziehen - gemeinsam aktiv (2602611006) 
LOCATION:ASG-R43;Großer Kindergruppenraum, Rather Kreuzweg 43, 40472 Düsseldorf
END:VEVENT
BEGIN:VEVENT
DTSTAMP:20260422T232013
DTSTART;TZID=Europe/Berlin:20260308T103000
DTEND;TZID=Europe/Berlin:20260308T124500
UID:2602611006-20260308T103000@DÜSSELDORF ASG-BILDUNGSFORUM
SUMMARY:Alleine erziehen - gemeinsam aktiv (2602611006) 
LOCATION:ASG-R43;Großer Kindergruppenraum, Rather Kreuzweg 43, 40472 Düsseldorf
END:VEVENT
BEGIN:VEVENT
DTSTAMP:20260422T232013
DTSTART;TZID=Europe/Berlin:20260322T103000
DTEND;TZID=Europe/Berlin:20260322T124500
UID:2602611006-20260322T103000@DÜSSELDORF ASG-BILDUNGSFORUM
SUMMARY:Alleine erziehen - gemeinsam aktiv (2602611006) 
LOCATION:ASG-R43;Großer Kindergruppenraum, Rather Kreuzweg 43, 40472 Düsseldorf
END:VEVENT
BEGIN:VEVENT
DTSTAMP:20260422T232013
DTSTART;TZID=Europe/Berlin:20260412T103000
DTEND;TZID=Europe/Berlin:20260412T124500
UID:2602611006-20260412T103000@DÜSSELDORF ASG-BILDUNGSFORUM
SUMMARY:Alleine erziehen - gemeinsam aktiv (2602611006) 
LOCATION:ASG-R43;Großer Kindergruppenraum, Rather Kreuzweg 43, 40472 Düsseldorf
END:VEVENT
BEGIN:VEVENT
DTSTAMP:20260422T232013
DTSTART;TZID=Europe/Berlin:20260503T103000
DTEND;TZID=Europe/Berlin:20260503T124500
UID:2602611006-20260503T103000@DÜSSELDORF ASG-BILDUNGSFORUM
SUMMARY:Alleine erziehen - gemeinsam aktiv (2602611006) 
LOCATION:ASG-R43;Großer Kindergruppenraum, Rather Kreuzweg 43, 40472 Düsseldorf
END:VEVENT
BEGIN:VEVENT
DTSTAMP:20260422T232013
DTSTART;TZID=Europe/Berlin:20260517T103000
DTEND;TZID=Europe/Berlin:20260517T124500
UID:2602611006-20260517T103000@DÜSSELDORF ASG-BILDUNGSFORUM
SUMMARY:Alleine erziehen - gemeinsam aktiv (2602611006) 
LOCATION:ASG-R43;Großer Kindergruppenraum, Rather Kreuzweg 43, 40472 Düsseldorf
END:VEVENT
BEGIN:VEVENT
DTSTAMP:20260422T232013
DTSTART;TZID=Europe/Berlin:20260531T103000
DTEND;TZID=Europe/Berlin:20260531T124500
UID:2602611006-20260531T103000@DÜSSELDORF ASG-BILDUNGSFORUM
SUMMARY:Alleine erziehen - gemeinsam aktiv (2602611006) 
LOCATION:ASG-R43;Großer Kindergruppenraum, Rather Kreuzweg 43, 40472 Düsseldorf
END:VEVENT
BEGIN:VEVENT
DTSTAMP:20260422T232013
DTSTART;TZID=Europe/Berlin:20260614T103000
DTEND;TZID=Europe/Berlin:20260614T124500
UID:2602611006-20260614T103000@DÜSSELDORF ASG-BILDUNGSFORUM
SUMMARY:Alleine erziehen - gemeinsam aktiv (2602611006) 
LOCATION:ASG-R43;Großer Kindergruppenraum, Rather Kreuzweg 43, 40472 Düsseldorf
END:VEVENT
BEGIN:VEVENT
DTSTAMP:20260422T232013
DTSTART;TZID=Europe/Berlin:20260628T103000
DTEND;TZID=Europe/Berlin:20260628T124500
UID:2602611006-20260628T103000@DÜSSELDORF ASG-BILDUNGSFORUM
SUMMARY:Alleine erziehen - gemeinsam aktiv (2602611006) 
LOCATION:ASG-R43;Großer Kindergruppenraum, Rather Kreuzweg 43, 40472 Düsseldorf
END:VEVENT
BEGIN:VEVENT
DTSTAMP:20260422T232013
DTSTART;TZID=Europe/Berlin:20260712T103000
DTEND;TZID=Europe/Berlin:20260712T124500
UID:2602611006-20260712T103000@DÜSSELDORF ASG-BILDUNGSFORUM
SUMMARY:Alleine erziehen - gemeinsam aktiv (2602611006) 
LOCATION:ASG-R43;Großer Kindergruppenraum, Rather Kreuzweg 43, 40472 Düsseldorf
END:VEVENT
END:VCALENDAR