BEGIN:VCALENDAR
VERSION:2.0
PRODID:https://www.kufer.de/kuferweb / DE
METHOD:PUBLISH
CALSCALE:GREGORIAN
X-WR-TIMEZONE:Europe/Berlin
BEGIN:VTIMEZONE
TZID:Europe/Berlin
X-LIC-LOCATION:Europe/Berlin
BEGIN:DAYLIGHT
TZOFFSETFROM:+0100
TZOFFSETTO:+0200
TZNAME:CEST
DTSTART:19700329T020000
RRULE:FREQ=YEARLY;INTERVAL=1;BYDAY=-1SU;BYMONTH=3
END:DAYLIGHT
BEGIN:STANDARD
TZOFFSETFROM:+0200
TZOFFSETTO:+0100
TZNAME:CET
DTSTART:19701025T030000
RRULE:FREQ=YEARLY;INTERVAL=1;BYDAY=-1SU;BYMONTH=10
END:STANDARD
END:VTIMEZONE
BEGIN:VEVENT
DTSTAMP:20260420T092342
DTSTART;TZID=Europe/Berlin:20260118T103000
DTEND;TZID=Europe/Berlin:20260118T124500
UID:2602611013-20260118T103000@DÜSSELDORF ASG-BILDUNGSFORUM
SUMMARY:Alleine erziehen - gemeinsam aktiv (2602611013) 
LOCATION:ASG-G90;E0.02, Gerresheimer Straße 90, 40233 Düsseldorf
END:VEVENT
BEGIN:VEVENT
DTSTAMP:20260420T092342
DTSTART;TZID=Europe/Berlin:20260201T103000
DTEND;TZID=Europe/Berlin:20260201T124500
UID:2602611013-20260201T103000@DÜSSELDORF ASG-BILDUNGSFORUM
SUMMARY:Alleine erziehen - gemeinsam aktiv (2602611013) 
LOCATION:ASG-G90;E0.02, Gerresheimer Straße 90, 40233 Düsseldorf
END:VEVENT
BEGIN:VEVENT
DTSTAMP:20260420T092342
DTSTART;TZID=Europe/Berlin:20260222T103000
DTEND;TZID=Europe/Berlin:20260222T124500
UID:2602611013-20260222T103000@DÜSSELDORF ASG-BILDUNGSFORUM
SUMMARY:Alleine erziehen - gemeinsam aktiv (2602611013) 
LOCATION:ASG-G90;E0.02, Gerresheimer Straße 90, 40233 Düsseldorf
END:VEVENT
BEGIN:VEVENT
DTSTAMP:20260420T092342
DTSTART;TZID=Europe/Berlin:20260308T103000
DTEND;TZID=Europe/Berlin:20260308T124500
UID:2602611013-20260308T103000@DÜSSELDORF ASG-BILDUNGSFORUM
SUMMARY:Alleine erziehen - gemeinsam aktiv (2602611013) 
LOCATION:ASG-G90;E0.02, Gerresheimer Straße 90, 40233 Düsseldorf
END:VEVENT
BEGIN:VEVENT
DTSTAMP:20260420T092342
DTSTART;TZID=Europe/Berlin:20260322T103000
DTEND;TZID=Europe/Berlin:20260322T124500
UID:2602611013-20260322T103000@DÜSSELDORF ASG-BILDUNGSFORUM
SUMMARY:Alleine erziehen - gemeinsam aktiv (2602611013) 
LOCATION:ASG-G90;E0.02, Gerresheimer Straße 90, 40233 Düsseldorf
END:VEVENT
BEGIN:VEVENT
DTSTAMP:20260420T092342
DTSTART;TZID=Europe/Berlin:20260419T103000
DTEND;TZID=Europe/Berlin:20260419T124500
UID:2602611013-20260419T103000@DÜSSELDORF ASG-BILDUNGSFORUM
SUMMARY:Alleine erziehen - gemeinsam aktiv (2602611013) 
LOCATION:ASG-G90;E0.02, Gerresheimer Straße 90, 40233 Düsseldorf
END:VEVENT
BEGIN:VEVENT
DTSTAMP:20260420T092342
DTSTART;TZID=Europe/Berlin:20260503T103000
DTEND;TZID=Europe/Berlin:20260503T124500
UID:2602611013-20260503T103000@DÜSSELDORF ASG-BILDUNGSFORUM
SUMMARY:Alleine erziehen - gemeinsam aktiv (2602611013) 
LOCATION:ASG-G90;E0.02, Gerresheimer Straße 90, 40233 Düsseldorf
END:VEVENT
BEGIN:VEVENT
DTSTAMP:20260420T092342
DTSTART;TZID=Europe/Berlin:20260517T103000
DTEND;TZID=Europe/Berlin:20260517T124500
UID:2602611013-20260517T103000@DÜSSELDORF ASG-BILDUNGSFORUM
SUMMARY:Alleine erziehen - gemeinsam aktiv (2602611013) 
LOCATION:ASG-G90;E0.02, Gerresheimer Straße 90, 40233 Düsseldorf
END:VEVENT
BEGIN:VEVENT
DTSTAMP:20260420T092342
DTSTART;TZID=Europe/Berlin:20260531T103000
DTEND;TZID=Europe/Berlin:20260531T124500
UID:2602611013-20260531T103000@DÜSSELDORF ASG-BILDUNGSFORUM
SUMMARY:Alleine erziehen - gemeinsam aktiv (2602611013) 
LOCATION:ASG-G90;E0.02, Gerresheimer Straße 90, 40233 Düsseldorf
END:VEVENT
BEGIN:VEVENT
DTSTAMP:20260420T092342
DTSTART;TZID=Europe/Berlin:20260614T103000
DTEND;TZID=Europe/Berlin:20260614T124500
UID:2602611013-20260614T103000@DÜSSELDORF ASG-BILDUNGSFORUM
SUMMARY:Alleine erziehen - gemeinsam aktiv (2602611013) 
LOCATION:ASG-G90;E0.02, Gerresheimer Straße 90, 40233 Düsseldorf
END:VEVENT
END:VCALENDAR