BEGIN:VCALENDAR
VERSION:2.0
PRODID:https://www.kufer.de/kuferweb / DE
METHOD:PUBLISH
CALSCALE:GREGORIAN
X-WR-TIMEZONE:Europe/Berlin
BEGIN:VTIMEZONE
TZID:Europe/Berlin
X-LIC-LOCATION:Europe/Berlin
BEGIN:DAYLIGHT
TZOFFSETFROM:+0100
TZOFFSETTO:+0200
TZNAME:CEST
DTSTART:19700329T020000
RRULE:FREQ=YEARLY;INTERVAL=1;BYDAY=-1SU;BYMONTH=3
END:DAYLIGHT
BEGIN:STANDARD
TZOFFSETFROM:+0200
TZOFFSETTO:+0100
TZNAME:CET
DTSTART:19701025T030000
RRULE:FREQ=YEARLY;INTERVAL=1;BYDAY=-1SU;BYMONTH=10
END:STANDARD
END:VTIMEZONE
BEGIN:VEVENT
DTSTAMP:20260420T015152
DTSTART;TZID=Europe/Berlin:20260109T190000
DTEND;TZID=Europe/Berlin:20260109T203000
UID:2602611014-20260109T190000@DÜSSELDORF ASG-BILDUNGSFORUM
SUMMARY:Tanzgruppe (intern) (2602611014) 
LOCATION:ASG-W27;001, Wildenbruchstraße 27, 40545 Düsseldorf
END:VEVENT
BEGIN:VEVENT
DTSTAMP:20260420T015152
DTSTART;TZID=Europe/Berlin:20260116T190000
DTEND;TZID=Europe/Berlin:20260116T203000
UID:2602611014-20260116T190000@DÜSSELDORF ASG-BILDUNGSFORUM
SUMMARY:Tanzgruppe (intern) (2602611014) 
LOCATION:ASG-W27;001, Wildenbruchstraße 27, 40545 Düsseldorf
END:VEVENT
BEGIN:VEVENT
DTSTAMP:20260420T015152
DTSTART;TZID=Europe/Berlin:20260130T190000
DTEND;TZID=Europe/Berlin:20260130T203000
UID:2602611014-20260130T190000@DÜSSELDORF ASG-BILDUNGSFORUM
SUMMARY:Tanzgruppe (intern) (2602611014) 
LOCATION:ASG-W27;001, Wildenbruchstraße 27, 40545 Düsseldorf
END:VEVENT
BEGIN:VEVENT
DTSTAMP:20260420T015152
DTSTART;TZID=Europe/Berlin:20260206T190000
DTEND;TZID=Europe/Berlin:20260206T203000
UID:2602611014-20260206T190000@DÜSSELDORF ASG-BILDUNGSFORUM
SUMMARY:Tanzgruppe (intern) (2602611014) 
LOCATION:ASG-W27;001, Wildenbruchstraße 27, 40545 Düsseldorf
END:VEVENT
BEGIN:VEVENT
DTSTAMP:20260420T015152
DTSTART;TZID=Europe/Berlin:20260213T190000
DTEND;TZID=Europe/Berlin:20260213T203000
UID:2602611014-20260213T190000@DÜSSELDORF ASG-BILDUNGSFORUM
SUMMARY:Tanzgruppe (intern) (2602611014) 
LOCATION:ASG-W27;001, Wildenbruchstraße 27, 40545 Düsseldorf
END:VEVENT
BEGIN:VEVENT
DTSTAMP:20260420T015152
DTSTART;TZID=Europe/Berlin:20260306T190000
DTEND;TZID=Europe/Berlin:20260306T203000
UID:2602611014-20260306T190000@DÜSSELDORF ASG-BILDUNGSFORUM
SUMMARY:Tanzgruppe (intern) (2602611014) 
LOCATION:ASG-W27;001, Wildenbruchstraße 27, 40545 Düsseldorf
END:VEVENT
BEGIN:VEVENT
DTSTAMP:20260420T015152
DTSTART;TZID=Europe/Berlin:20260327T190000
DTEND;TZID=Europe/Berlin:20260327T203000
UID:2602611014-20260327T190000@DÜSSELDORF ASG-BILDUNGSFORUM
SUMMARY:Tanzgruppe (intern) (2602611014) 
LOCATION:ASG-W27;001, Wildenbruchstraße 27, 40545 Düsseldorf
END:VEVENT
BEGIN:VEVENT
DTSTAMP:20260420T015152
DTSTART;TZID=Europe/Berlin:20260417T190000
DTEND;TZID=Europe/Berlin:20260417T203000
UID:2602611014-20260417T190000@DÜSSELDORF ASG-BILDUNGSFORUM
SUMMARY:Tanzgruppe (intern) (2602611014) 
LOCATION:ASG-W27;001, Wildenbruchstraße 27, 40545 Düsseldorf
END:VEVENT
BEGIN:VEVENT
DTSTAMP:20260420T015152
DTSTART;TZID=Europe/Berlin:20260515T190000
DTEND;TZID=Europe/Berlin:20260515T203000
UID:2602611014-20260515T190000@DÜSSELDORF ASG-BILDUNGSFORUM
SUMMARY:Tanzgruppe (intern) (2602611014) 
LOCATION:ASG-W27;001, Wildenbruchstraße 27, 40545 Düsseldorf
END:VEVENT
BEGIN:VEVENT
DTSTAMP:20260420T015152
DTSTART;TZID=Europe/Berlin:20260529T190000
DTEND;TZID=Europe/Berlin:20260529T203000
UID:2602611014-20260529T190000@DÜSSELDORF ASG-BILDUNGSFORUM
SUMMARY:Tanzgruppe (intern) (2602611014) 
LOCATION:ASG-W27;001, Wildenbruchstraße 27, 40545 Düsseldorf
END:VEVENT
BEGIN:VEVENT
DTSTAMP:20260420T015152
DTSTART;TZID=Europe/Berlin:20260605T190000
DTEND;TZID=Europe/Berlin:20260605T203000
UID:2602611014-20260605T190000@DÜSSELDORF ASG-BILDUNGSFORUM
SUMMARY:Tanzgruppe (intern) (2602611014) 
LOCATION:ASG-W27;001, Wildenbruchstraße 27, 40545 Düsseldorf
END:VEVENT
BEGIN:VEVENT
DTSTAMP:20260420T015152
DTSTART;TZID=Europe/Berlin:20260612T190000
DTEND;TZID=Europe/Berlin:20260612T203000
UID:2602611014-20260612T190000@DÜSSELDORF ASG-BILDUNGSFORUM
SUMMARY:Tanzgruppe (intern) (2602611014) 
LOCATION:ASG-W27;001, Wildenbruchstraße 27, 40545 Düsseldorf
END:VEVENT
BEGIN:VEVENT
DTSTAMP:20260420T015152
DTSTART;TZID=Europe/Berlin:20260703T190000
DTEND;TZID=Europe/Berlin:20260703T203000
UID:2602611014-20260703T190000@DÜSSELDORF ASG-BILDUNGSFORUM
SUMMARY:Tanzgruppe (intern) (2602611014) 
LOCATION:ASG-W27;001, Wildenbruchstraße 27, 40545 Düsseldorf
END:VEVENT
BEGIN:VEVENT
DTSTAMP:20260420T015152
DTSTART;TZID=Europe/Berlin:20260717T190000
DTEND;TZID=Europe/Berlin:20260717T203000
UID:2602611014-20260717T190000@DÜSSELDORF ASG-BILDUNGSFORUM
SUMMARY:Tanzgruppe (intern) (2602611014) 
LOCATION:ASG-W27;001, Wildenbruchstraße 27, 40545 Düsseldorf
END:VEVENT
END:VCALENDAR