BEGIN:VCALENDAR
VERSION:2.0
PRODID:https://www.kufer.de/kuferweb / DE
METHOD:PUBLISH
CALSCALE:GREGORIAN
X-WR-TIMEZONE:Europe/Berlin
BEGIN:VTIMEZONE
TZID:Europe/Berlin
X-LIC-LOCATION:Europe/Berlin
BEGIN:DAYLIGHT
TZOFFSETFROM:+0100
TZOFFSETTO:+0200
TZNAME:CEST
DTSTART:19700329T020000
RRULE:FREQ=YEARLY;INTERVAL=1;BYDAY=-1SU;BYMONTH=3
END:DAYLIGHT
BEGIN:STANDARD
TZOFFSETFROM:+0200
TZOFFSETTO:+0100
TZNAME:CET
DTSTART:19701025T030000
RRULE:FREQ=YEARLY;INTERVAL=1;BYDAY=-1SU;BYMONTH=10
END:STANDARD
END:VTIMEZONE
BEGIN:VEVENT
DTSTAMP:20260420T021139
DTSTART;TZID=Europe/Berlin:20260107T133000
DTEND;TZID=Europe/Berlin:20260107T150000
UID:2602611015-20260107T133000@DÜSSELDORF ASG-BILDUNGSFORUM
SUMMARY:Babycafé: Milchbar - Offener Treff für Schwangere, Eltern und Babys (2602611015) 
LOCATION:Familienzentrum St. Margareta, Gerricusstraße 14, 40625 Düsseldorf
END:VEVENT
BEGIN:VEVENT
DTSTAMP:20260420T021139
DTSTART;TZID=Europe/Berlin:20260114T133000
DTEND;TZID=Europe/Berlin:20260114T150000
UID:2602611015-20260114T133000@DÜSSELDORF ASG-BILDUNGSFORUM
SUMMARY:Babycafé: Milchbar - Offener Treff für Schwangere, Eltern und Babys (2602611015) 
LOCATION:Familienzentrum St. Margareta, Gerricusstraße 14, 40625 Düsseldorf
END:VEVENT
BEGIN:VEVENT
DTSTAMP:20260420T021139
DTSTART;TZID=Europe/Berlin:20260121T133000
DTEND;TZID=Europe/Berlin:20260121T150000
UID:2602611015-20260121T133000@DÜSSELDORF ASG-BILDUNGSFORUM
SUMMARY:Babycafé: Milchbar - Offener Treff für Schwangere, Eltern und Babys (2602611015) 
LOCATION:Familienzentrum St. Margareta, Gerricusstraße 14, 40625 Düsseldorf
END:VEVENT
BEGIN:VEVENT
DTSTAMP:20260420T021139
DTSTART;TZID=Europe/Berlin:20260128T133000
DTEND;TZID=Europe/Berlin:20260128T150000
UID:2602611015-20260128T133000@DÜSSELDORF ASG-BILDUNGSFORUM
SUMMARY:Babycafé: Milchbar - Offener Treff für Schwangere, Eltern und Babys (2602611015) 
LOCATION:Familienzentrum St. Margareta, Gerricusstraße 14, 40625 Düsseldorf
END:VEVENT
BEGIN:VEVENT
DTSTAMP:20260420T021139
DTSTART;TZID=Europe/Berlin:20260204T133000
DTEND;TZID=Europe/Berlin:20260204T150000
UID:2602611015-20260204T133000@DÜSSELDORF ASG-BILDUNGSFORUM
SUMMARY:Babycafé: Milchbar - Offener Treff für Schwangere, Eltern und Babys (2602611015) 
LOCATION:Familienzentrum St. Margareta, Gerricusstraße 14, 40625 Düsseldorf
END:VEVENT
BEGIN:VEVENT
DTSTAMP:20260420T021139
DTSTART;TZID=Europe/Berlin:20260211T133000
DTEND;TZID=Europe/Berlin:20260211T150000
UID:2602611015-20260211T133000@DÜSSELDORF ASG-BILDUNGSFORUM
SUMMARY:Babycafé: Milchbar - Offener Treff für Schwangere, Eltern und Babys (2602611015) 
LOCATION:Familienzentrum St. Margareta, Gerricusstraße 14, 40625 Düsseldorf
END:VEVENT
BEGIN:VEVENT
DTSTAMP:20260420T021139
DTSTART;TZID=Europe/Berlin:20260218T133000
DTEND;TZID=Europe/Berlin:20260218T150000
UID:2602611015-20260218T133000@DÜSSELDORF ASG-BILDUNGSFORUM
SUMMARY:Babycafé: Milchbar - Offener Treff für Schwangere, Eltern und Babys (2602611015) 
LOCATION:Familienzentrum St. Margareta, Gerricusstraße 14, 40625 Düsseldorf
END:VEVENT
BEGIN:VEVENT
DTSTAMP:20260420T021139
DTSTART;TZID=Europe/Berlin:20260225T133000
DTEND;TZID=Europe/Berlin:20260225T150000
UID:2602611015-20260225T133000@DÜSSELDORF ASG-BILDUNGSFORUM
SUMMARY:Babycafé: Milchbar - Offener Treff für Schwangere, Eltern und Babys (2602611015) 
LOCATION:Familienzentrum St. Margareta, Gerricusstraße 14, 40625 Düsseldorf
END:VEVENT
BEGIN:VEVENT
DTSTAMP:20260420T021139
DTSTART;TZID=Europe/Berlin:20260304T133000
DTEND;TZID=Europe/Berlin:20260304T150000
UID:2602611015-20260304T133000@DÜSSELDORF ASG-BILDUNGSFORUM
SUMMARY:Babycafé: Milchbar - Offener Treff für Schwangere, Eltern und Babys (2602611015) 
LOCATION:Familienzentrum St. Margareta, Gerricusstraße 14, 40625 Düsseldorf
END:VEVENT
BEGIN:VEVENT
DTSTAMP:20260420T021139
DTSTART;TZID=Europe/Berlin:20260311T133000
DTEND;TZID=Europe/Berlin:20260311T150000
UID:2602611015-20260311T133000@DÜSSELDORF ASG-BILDUNGSFORUM
SUMMARY:Babycafé: Milchbar - Offener Treff für Schwangere, Eltern und Babys (2602611015) 
LOCATION:Familienzentrum St. Margareta, Gerricusstraße 14, 40625 Düsseldorf
END:VEVENT
BEGIN:VEVENT
DTSTAMP:20260420T021139
DTSTART;TZID=Europe/Berlin:20260318T133000
DTEND;TZID=Europe/Berlin:20260318T150000
UID:2602611015-20260318T133000@DÜSSELDORF ASG-BILDUNGSFORUM
SUMMARY:Babycafé: Milchbar - Offener Treff für Schwangere, Eltern und Babys (2602611015) 
LOCATION:Familienzentrum St. Margareta, Gerricusstraße 14, 40625 Düsseldorf
END:VEVENT
BEGIN:VEVENT
DTSTAMP:20260420T021139
DTSTART;TZID=Europe/Berlin:20260325T133000
DTEND;TZID=Europe/Berlin:20260325T150000
UID:2602611015-20260325T133000@DÜSSELDORF ASG-BILDUNGSFORUM
SUMMARY:Babycafé: Milchbar - Offener Treff für Schwangere, Eltern und Babys (2602611015) 
LOCATION:Familienzentrum St. Margareta, Gerricusstraße 14, 40625 Düsseldorf
END:VEVENT
BEGIN:VEVENT
DTSTAMP:20260420T021139
DTSTART;TZID=Europe/Berlin:20260417T143000
DTEND;TZID=Europe/Berlin:20260417T160000
UID:2602611015-20260417T143000@DÜSSELDORF ASG-BILDUNGSFORUM
SUMMARY:Babycafé: Milchbar - Offener Treff für Schwangere, Eltern und Babys (2602611015) 
LOCATION:Familienzentrum St. Margareta, Gerricusstraße 14, 40625 Düsseldorf
END:VEVENT
BEGIN:VEVENT
DTSTAMP:20260420T021139
DTSTART;TZID=Europe/Berlin:20260424T143000
DTEND;TZID=Europe/Berlin:20260424T160000
UID:2602611015-20260424T143000@DÜSSELDORF ASG-BILDUNGSFORUM
SUMMARY:Babycafé: Milchbar - Offener Treff für Schwangere, Eltern und Babys (2602611015) 
LOCATION:Familienzentrum St. Margareta, Gerricusstraße 14, 40625 Düsseldorf
END:VEVENT
BEGIN:VEVENT
DTSTAMP:20260420T021139
DTSTART;TZID=Europe/Berlin:20260508T143000
DTEND;TZID=Europe/Berlin:20260508T160000
UID:2602611015-20260508T143000@DÜSSELDORF ASG-BILDUNGSFORUM
SUMMARY:Babycafé: Milchbar - Offener Treff für Schwangere, Eltern und Babys (2602611015) 
LOCATION:Familienzentrum St. Margareta, Gerricusstraße 14, 40625 Düsseldorf
END:VEVENT
BEGIN:VEVENT
DTSTAMP:20260420T021139
DTSTART;TZID=Europe/Berlin:20260515T143000
DTEND;TZID=Europe/Berlin:20260515T160000
UID:2602611015-20260515T143000@DÜSSELDORF ASG-BILDUNGSFORUM
SUMMARY:Babycafé: Milchbar - Offener Treff für Schwangere, Eltern und Babys (2602611015) 
LOCATION:Familienzentrum St. Margareta, Gerricusstraße 14, 40625 Düsseldorf
END:VEVENT
BEGIN:VEVENT
DTSTAMP:20260420T021139
DTSTART;TZID=Europe/Berlin:20260522T143000
DTEND;TZID=Europe/Berlin:20260522T160000
UID:2602611015-20260522T143000@DÜSSELDORF ASG-BILDUNGSFORUM
SUMMARY:Babycafé: Milchbar - Offener Treff für Schwangere, Eltern und Babys (2602611015) 
LOCATION:Familienzentrum St. Margareta, Gerricusstraße 14, 40625 Düsseldorf
END:VEVENT
BEGIN:VEVENT
DTSTAMP:20260420T021139
DTSTART;TZID=Europe/Berlin:20260529T143000
DTEND;TZID=Europe/Berlin:20260529T160000
UID:2602611015-20260529T143000@DÜSSELDORF ASG-BILDUNGSFORUM
SUMMARY:Babycafé: Milchbar - Offener Treff für Schwangere, Eltern und Babys (2602611015) 
LOCATION:Familienzentrum St. Margareta, Gerricusstraße 14, 40625 Düsseldorf
END:VEVENT
BEGIN:VEVENT
DTSTAMP:20260420T021139
DTSTART;TZID=Europe/Berlin:20260605T143000
DTEND;TZID=Europe/Berlin:20260605T160000
UID:2602611015-20260605T143000@DÜSSELDORF ASG-BILDUNGSFORUM
SUMMARY:Babycafé: Milchbar - Offener Treff für Schwangere, Eltern und Babys (2602611015) 
LOCATION:Familienzentrum St. Margareta, Gerricusstraße 14, 40625 Düsseldorf
END:VEVENT
BEGIN:VEVENT
DTSTAMP:20260420T021139
DTSTART;TZID=Europe/Berlin:20260612T143000
DTEND;TZID=Europe/Berlin:20260612T160000
UID:2602611015-20260612T143000@DÜSSELDORF ASG-BILDUNGSFORUM
SUMMARY:Babycafé: Milchbar - Offener Treff für Schwangere, Eltern und Babys (2602611015) 
LOCATION:Familienzentrum St. Margareta, Gerricusstraße 14, 40625 Düsseldorf
END:VEVENT
BEGIN:VEVENT
DTSTAMP:20260420T021139
DTSTART;TZID=Europe/Berlin:20260619T143000
DTEND;TZID=Europe/Berlin:20260619T160000
UID:2602611015-20260619T143000@DÜSSELDORF ASG-BILDUNGSFORUM
SUMMARY:Babycafé: Milchbar - Offener Treff für Schwangere, Eltern und Babys (2602611015) 
LOCATION:Familienzentrum St. Margareta, Gerricusstraße 14, 40625 Düsseldorf
END:VEVENT
BEGIN:VEVENT
DTSTAMP:20260420T021139
DTSTART;TZID=Europe/Berlin:20260626T143000
DTEND;TZID=Europe/Berlin:20260626T160000
UID:2602611015-20260626T143000@DÜSSELDORF ASG-BILDUNGSFORUM
SUMMARY:Babycafé: Milchbar - Offener Treff für Schwangere, Eltern und Babys (2602611015) 
LOCATION:Familienzentrum St. Margareta, Gerricusstraße 14, 40625 Düsseldorf
END:VEVENT
BEGIN:VEVENT
DTSTAMP:20260420T021139
DTSTART;TZID=Europe/Berlin:20260703T143000
DTEND;TZID=Europe/Berlin:20260703T160000
UID:2602611015-20260703T143000@DÜSSELDORF ASG-BILDUNGSFORUM
SUMMARY:Babycafé: Milchbar - Offener Treff für Schwangere, Eltern und Babys (2602611015) 
LOCATION:Familienzentrum St. Margareta, Gerricusstraße 14, 40625 Düsseldorf
END:VEVENT
BEGIN:VEVENT
DTSTAMP:20260420T021139
DTSTART;TZID=Europe/Berlin:20260710T143000
DTEND;TZID=Europe/Berlin:20260710T160000
UID:2602611015-20260710T143000@DÜSSELDORF ASG-BILDUNGSFORUM
SUMMARY:Babycafé: Milchbar - Offener Treff für Schwangere, Eltern und Babys (2602611015) 
LOCATION:Familienzentrum St. Margareta, Gerricusstraße 14, 40625 Düsseldorf
END:VEVENT
BEGIN:VEVENT
DTSTAMP:20260420T021139
DTSTART;TZID=Europe/Berlin:20260717T143000
DTEND;TZID=Europe/Berlin:20260717T160000
UID:2602611015-20260717T143000@DÜSSELDORF ASG-BILDUNGSFORUM
SUMMARY:Babycafé: Milchbar - Offener Treff für Schwangere, Eltern und Babys (2602611015) 
LOCATION:Familienzentrum St. Margareta, Gerricusstraße 14, 40625 Düsseldorf
END:VEVENT
END:VCALENDAR