BEGIN:VCALENDAR
VERSION:2.0
PRODID:https://www.kufer.de/kuferweb / DE
METHOD:PUBLISH
CALSCALE:GREGORIAN
X-WR-TIMEZONE:Europe/Berlin
BEGIN:VTIMEZONE
TZID:Europe/Berlin
X-LIC-LOCATION:Europe/Berlin
BEGIN:DAYLIGHT
TZOFFSETFROM:+0100
TZOFFSETTO:+0200
TZNAME:CEST
DTSTART:19700329T020000
RRULE:FREQ=YEARLY;INTERVAL=1;BYDAY=-1SU;BYMONTH=3
END:DAYLIGHT
BEGIN:STANDARD
TZOFFSETFROM:+0200
TZOFFSETTO:+0100
TZNAME:CET
DTSTART:19701025T030000
RRULE:FREQ=YEARLY;INTERVAL=1;BYDAY=-1SU;BYMONTH=10
END:STANDARD
END:VTIMEZONE
BEGIN:VEVENT
DTSTAMP:20260419T212623
DTSTART;TZID=Europe/Berlin:20260107T150000
DTEND;TZID=Europe/Berlin:20260107T163000
UID:2602611017-20260107T150000@DÜSSELDORF ASG-BILDUNGSFORUM
SUMMARY:Babycafé: Milchbar - Offener Treff für Schwangere, Eltern und Babys (2602611017) 
LOCATION:Familienzentrum St. Margareta, Gerricusstraße 14, 40625 Düsseldorf
END:VEVENT
BEGIN:VEVENT
DTSTAMP:20260419T212623
DTSTART;TZID=Europe/Berlin:20260114T150000
DTEND;TZID=Europe/Berlin:20260114T163000
UID:2602611017-20260114T150000@DÜSSELDORF ASG-BILDUNGSFORUM
SUMMARY:Babycafé: Milchbar - Offener Treff für Schwangere, Eltern und Babys (2602611017) 
LOCATION:Familienzentrum St. Margareta, Gerricusstraße 14, 40625 Düsseldorf
END:VEVENT
BEGIN:VEVENT
DTSTAMP:20260419T212623
DTSTART;TZID=Europe/Berlin:20260121T150000
DTEND;TZID=Europe/Berlin:20260121T163000
UID:2602611017-20260121T150000@DÜSSELDORF ASG-BILDUNGSFORUM
SUMMARY:Babycafé: Milchbar - Offener Treff für Schwangere, Eltern und Babys (2602611017) 
LOCATION:Familienzentrum St. Margareta, Gerricusstraße 14, 40625 Düsseldorf
END:VEVENT
BEGIN:VEVENT
DTSTAMP:20260419T212623
DTSTART;TZID=Europe/Berlin:20260128T150000
DTEND;TZID=Europe/Berlin:20260128T163000
UID:2602611017-20260128T150000@DÜSSELDORF ASG-BILDUNGSFORUM
SUMMARY:Babycafé: Milchbar - Offener Treff für Schwangere, Eltern und Babys (2602611017) 
LOCATION:Familienzentrum St. Margareta, Gerricusstraße 14, 40625 Düsseldorf
END:VEVENT
BEGIN:VEVENT
DTSTAMP:20260419T212623
DTSTART;TZID=Europe/Berlin:20260204T150000
DTEND;TZID=Europe/Berlin:20260204T163000
UID:2602611017-20260204T150000@DÜSSELDORF ASG-BILDUNGSFORUM
SUMMARY:Babycafé: Milchbar - Offener Treff für Schwangere, Eltern und Babys (2602611017) 
LOCATION:Familienzentrum St. Margareta, Gerricusstraße 14, 40625 Düsseldorf
END:VEVENT
BEGIN:VEVENT
DTSTAMP:20260419T212623
DTSTART;TZID=Europe/Berlin:20260211T150000
DTEND;TZID=Europe/Berlin:20260211T163000
UID:2602611017-20260211T150000@DÜSSELDORF ASG-BILDUNGSFORUM
SUMMARY:Babycafé: Milchbar - Offener Treff für Schwangere, Eltern und Babys (2602611017) 
LOCATION:Familienzentrum St. Margareta, Gerricusstraße 14, 40625 Düsseldorf
END:VEVENT
BEGIN:VEVENT
DTSTAMP:20260419T212623
DTSTART;TZID=Europe/Berlin:20260218T150000
DTEND;TZID=Europe/Berlin:20260218T163000
UID:2602611017-20260218T150000@DÜSSELDORF ASG-BILDUNGSFORUM
SUMMARY:Babycafé: Milchbar - Offener Treff für Schwangere, Eltern und Babys (2602611017) 
LOCATION:Familienzentrum St. Margareta, Gerricusstraße 14, 40625 Düsseldorf
END:VEVENT
BEGIN:VEVENT
DTSTAMP:20260419T212623
DTSTART;TZID=Europe/Berlin:20260225T150000
DTEND;TZID=Europe/Berlin:20260225T163000
UID:2602611017-20260225T150000@DÜSSELDORF ASG-BILDUNGSFORUM
SUMMARY:Babycafé: Milchbar - Offener Treff für Schwangere, Eltern und Babys (2602611017) 
LOCATION:Familienzentrum St. Margareta, Gerricusstraße 14, 40625 Düsseldorf
END:VEVENT
BEGIN:VEVENT
DTSTAMP:20260419T212623
DTSTART;TZID=Europe/Berlin:20260304T150000
DTEND;TZID=Europe/Berlin:20260304T163000
UID:2602611017-20260304T150000@DÜSSELDORF ASG-BILDUNGSFORUM
SUMMARY:Babycafé: Milchbar - Offener Treff für Schwangere, Eltern und Babys (2602611017) 
LOCATION:Familienzentrum St. Margareta, Gerricusstraße 14, 40625 Düsseldorf
END:VEVENT
BEGIN:VEVENT
DTSTAMP:20260419T212623
DTSTART;TZID=Europe/Berlin:20260311T150000
DTEND;TZID=Europe/Berlin:20260311T163000
UID:2602611017-20260311T150000@DÜSSELDORF ASG-BILDUNGSFORUM
SUMMARY:Babycafé: Milchbar - Offener Treff für Schwangere, Eltern und Babys (2602611017) 
LOCATION:Familienzentrum St. Margareta, Gerricusstraße 14, 40625 Düsseldorf
END:VEVENT
BEGIN:VEVENT
DTSTAMP:20260419T212623
DTSTART;TZID=Europe/Berlin:20260318T150000
DTEND;TZID=Europe/Berlin:20260318T163000
UID:2602611017-20260318T150000@DÜSSELDORF ASG-BILDUNGSFORUM
SUMMARY:Babycafé: Milchbar - Offener Treff für Schwangere, Eltern und Babys (2602611017) 
LOCATION:Familienzentrum St. Margareta, Gerricusstraße 14, 40625 Düsseldorf
END:VEVENT
BEGIN:VEVENT
DTSTAMP:20260419T212623
DTSTART;TZID=Europe/Berlin:20260325T150000
DTEND;TZID=Europe/Berlin:20260325T163000
UID:2602611017-20260325T150000@DÜSSELDORF ASG-BILDUNGSFORUM
SUMMARY:Babycafé: Milchbar - Offener Treff für Schwangere, Eltern und Babys (2602611017) 
LOCATION:Familienzentrum St. Margareta, Gerricusstraße 14, 40625 Düsseldorf
END:VEVENT
BEGIN:VEVENT
DTSTAMP:20260419T212623
DTSTART;TZID=Europe/Berlin:20260417T160000
DTEND;TZID=Europe/Berlin:20260417T173000
UID:2602611017-20260417T160000@DÜSSELDORF ASG-BILDUNGSFORUM
SUMMARY:Babycafé: Milchbar - Offener Treff für Schwangere, Eltern und Babys (2602611017) 
LOCATION:Familienzentrum St. Margareta, Gerricusstraße 14, 40625 Düsseldorf
END:VEVENT
BEGIN:VEVENT
DTSTAMP:20260419T212623
DTSTART;TZID=Europe/Berlin:20260424T160000
DTEND;TZID=Europe/Berlin:20260424T173000
UID:2602611017-20260424T160000@DÜSSELDORF ASG-BILDUNGSFORUM
SUMMARY:Babycafé: Milchbar - Offener Treff für Schwangere, Eltern und Babys (2602611017) 
LOCATION:Familienzentrum St. Margareta, Gerricusstraße 14, 40625 Düsseldorf
END:VEVENT
BEGIN:VEVENT
DTSTAMP:20260419T212623
DTSTART;TZID=Europe/Berlin:20260508T160000
DTEND;TZID=Europe/Berlin:20260508T173000
UID:2602611017-20260508T160000@DÜSSELDORF ASG-BILDUNGSFORUM
SUMMARY:Babycafé: Milchbar - Offener Treff für Schwangere, Eltern und Babys (2602611017) 
LOCATION:Familienzentrum St. Margareta, Gerricusstraße 14, 40625 Düsseldorf
END:VEVENT
BEGIN:VEVENT
DTSTAMP:20260419T212623
DTSTART;TZID=Europe/Berlin:20260515T160000
DTEND;TZID=Europe/Berlin:20260515T173000
UID:2602611017-20260515T160000@DÜSSELDORF ASG-BILDUNGSFORUM
SUMMARY:Babycafé: Milchbar - Offener Treff für Schwangere, Eltern und Babys (2602611017) 
LOCATION:Familienzentrum St. Margareta, Gerricusstraße 14, 40625 Düsseldorf
END:VEVENT
BEGIN:VEVENT
DTSTAMP:20260419T212623
DTSTART;TZID=Europe/Berlin:20260522T160000
DTEND;TZID=Europe/Berlin:20260522T173000
UID:2602611017-20260522T160000@DÜSSELDORF ASG-BILDUNGSFORUM
SUMMARY:Babycafé: Milchbar - Offener Treff für Schwangere, Eltern und Babys (2602611017) 
LOCATION:Familienzentrum St. Margareta, Gerricusstraße 14, 40625 Düsseldorf
END:VEVENT
BEGIN:VEVENT
DTSTAMP:20260419T212623
DTSTART;TZID=Europe/Berlin:20260529T160000
DTEND;TZID=Europe/Berlin:20260529T173000
UID:2602611017-20260529T160000@DÜSSELDORF ASG-BILDUNGSFORUM
SUMMARY:Babycafé: Milchbar - Offener Treff für Schwangere, Eltern und Babys (2602611017) 
LOCATION:Familienzentrum St. Margareta, Gerricusstraße 14, 40625 Düsseldorf
END:VEVENT
BEGIN:VEVENT
DTSTAMP:20260419T212623
DTSTART;TZID=Europe/Berlin:20260605T160000
DTEND;TZID=Europe/Berlin:20260605T173000
UID:2602611017-20260605T160000@DÜSSELDORF ASG-BILDUNGSFORUM
SUMMARY:Babycafé: Milchbar - Offener Treff für Schwangere, Eltern und Babys (2602611017) 
LOCATION:Familienzentrum St. Margareta, Gerricusstraße 14, 40625 Düsseldorf
END:VEVENT
BEGIN:VEVENT
DTSTAMP:20260419T212623
DTSTART;TZID=Europe/Berlin:20260612T160000
DTEND;TZID=Europe/Berlin:20260612T173000
UID:2602611017-20260612T160000@DÜSSELDORF ASG-BILDUNGSFORUM
SUMMARY:Babycafé: Milchbar - Offener Treff für Schwangere, Eltern und Babys (2602611017) 
LOCATION:Familienzentrum St. Margareta, Gerricusstraße 14, 40625 Düsseldorf
END:VEVENT
BEGIN:VEVENT
DTSTAMP:20260419T212623
DTSTART;TZID=Europe/Berlin:20260619T160000
DTEND;TZID=Europe/Berlin:20260619T173000
UID:2602611017-20260619T160000@DÜSSELDORF ASG-BILDUNGSFORUM
SUMMARY:Babycafé: Milchbar - Offener Treff für Schwangere, Eltern und Babys (2602611017) 
LOCATION:Familienzentrum St. Margareta, Gerricusstraße 14, 40625 Düsseldorf
END:VEVENT
BEGIN:VEVENT
DTSTAMP:20260419T212623
DTSTART;TZID=Europe/Berlin:20260626T160000
DTEND;TZID=Europe/Berlin:20260626T173000
UID:2602611017-20260626T160000@DÜSSELDORF ASG-BILDUNGSFORUM
SUMMARY:Babycafé: Milchbar - Offener Treff für Schwangere, Eltern und Babys (2602611017) 
LOCATION:Familienzentrum St. Margareta, Gerricusstraße 14, 40625 Düsseldorf
END:VEVENT
BEGIN:VEVENT
DTSTAMP:20260419T212623
DTSTART;TZID=Europe/Berlin:20260703T160000
DTEND;TZID=Europe/Berlin:20260703T173000
UID:2602611017-20260703T160000@DÜSSELDORF ASG-BILDUNGSFORUM
SUMMARY:Babycafé: Milchbar - Offener Treff für Schwangere, Eltern und Babys (2602611017) 
LOCATION:Familienzentrum St. Margareta, Gerricusstraße 14, 40625 Düsseldorf
END:VEVENT
BEGIN:VEVENT
DTSTAMP:20260419T212623
DTSTART;TZID=Europe/Berlin:20260710T160000
DTEND;TZID=Europe/Berlin:20260710T173000
UID:2602611017-20260710T160000@DÜSSELDORF ASG-BILDUNGSFORUM
SUMMARY:Babycafé: Milchbar - Offener Treff für Schwangere, Eltern und Babys (2602611017) 
LOCATION:Familienzentrum St. Margareta, Gerricusstraße 14, 40625 Düsseldorf
END:VEVENT
BEGIN:VEVENT
DTSTAMP:20260419T212623
DTSTART;TZID=Europe/Berlin:20260717T160000
DTEND;TZID=Europe/Berlin:20260717T173000
UID:2602611017-20260717T160000@DÜSSELDORF ASG-BILDUNGSFORUM
SUMMARY:Babycafé: Milchbar - Offener Treff für Schwangere, Eltern und Babys (2602611017) 
LOCATION:Familienzentrum St. Margareta, Gerricusstraße 14, 40625 Düsseldorf
END:VEVENT
END:VCALENDAR