BEGIN:VCALENDAR
VERSION:2.0
PRODID:https://www.kufer.de/kuferweb / DE
METHOD:PUBLISH
CALSCALE:GREGORIAN
X-WR-TIMEZONE:Europe/Berlin
BEGIN:VTIMEZONE
TZID:Europe/Berlin
X-LIC-LOCATION:Europe/Berlin
BEGIN:DAYLIGHT
TZOFFSETFROM:+0100
TZOFFSETTO:+0200
TZNAME:CEST
DTSTART:19700329T020000
RRULE:FREQ=YEARLY;INTERVAL=1;BYDAY=-1SU;BYMONTH=3
END:DAYLIGHT
BEGIN:STANDARD
TZOFFSETFROM:+0200
TZOFFSETTO:+0100
TZNAME:CET
DTSTART:19701025T030000
RRULE:FREQ=YEARLY;INTERVAL=1;BYDAY=-1SU;BYMONTH=10
END:STANDARD
END:VTIMEZONE
BEGIN:VEVENT
DTSTAMP:20260423T005849
DTSTART;TZID=Europe/Berlin:20260112T150000
DTEND;TZID=Europe/Berlin:20260112T163000
UID:2602611053-20260112T150000@DÜSSELDORF ASG-BILDUNGSFORUM
SUMMARY:Welcome: Sprachcafé im Rather Familienzentrum® (2602611053) 
LOCATION:ASG-R43;U3-Gruppe, Rather Kreuzweg 43, 40472 Düsseldorf
END:VEVENT
BEGIN:VEVENT
DTSTAMP:20260423T005849
DTSTART;TZID=Europe/Berlin:20260119T150000
DTEND;TZID=Europe/Berlin:20260119T163000
UID:2602611053-20260119T150000@DÜSSELDORF ASG-BILDUNGSFORUM
SUMMARY:Welcome: Sprachcafé im Rather Familienzentrum® (2602611053) 
LOCATION:ASG-R43;U3-Gruppe, Rather Kreuzweg 43, 40472 Düsseldorf
END:VEVENT
BEGIN:VEVENT
DTSTAMP:20260423T005849
DTSTART;TZID=Europe/Berlin:20260126T150000
DTEND;TZID=Europe/Berlin:20260126T163000
UID:2602611053-20260126T150000@DÜSSELDORF ASG-BILDUNGSFORUM
SUMMARY:Welcome: Sprachcafé im Rather Familienzentrum® (2602611053) 
LOCATION:ASG-R43;U3-Gruppe, Rather Kreuzweg 43, 40472 Düsseldorf
END:VEVENT
BEGIN:VEVENT
DTSTAMP:20260423T005849
DTSTART;TZID=Europe/Berlin:20260202T150000
DTEND;TZID=Europe/Berlin:20260202T163000
UID:2602611053-20260202T150000@DÜSSELDORF ASG-BILDUNGSFORUM
SUMMARY:Welcome: Sprachcafé im Rather Familienzentrum® (2602611053) 
LOCATION:ASG-R43;U3-Gruppe, Rather Kreuzweg 43, 40472 Düsseldorf
END:VEVENT
BEGIN:VEVENT
DTSTAMP:20260423T005849
DTSTART;TZID=Europe/Berlin:20260209T150000
DTEND;TZID=Europe/Berlin:20260209T163000
UID:2602611053-20260209T150000@DÜSSELDORF ASG-BILDUNGSFORUM
SUMMARY:Welcome: Sprachcafé im Rather Familienzentrum® (2602611053) 
LOCATION:ASG-R43;U3-Gruppe, Rather Kreuzweg 43, 40472 Düsseldorf
END:VEVENT
BEGIN:VEVENT
DTSTAMP:20260423T005849
DTSTART;TZID=Europe/Berlin:20260223T150000
DTEND;TZID=Europe/Berlin:20260223T163000
UID:2602611053-20260223T150000@DÜSSELDORF ASG-BILDUNGSFORUM
SUMMARY:Welcome: Sprachcafé im Rather Familienzentrum® (2602611053) 
LOCATION:ASG-R43;U3-Gruppe, Rather Kreuzweg 43, 40472 Düsseldorf
END:VEVENT
BEGIN:VEVENT
DTSTAMP:20260423T005849
DTSTART;TZID=Europe/Berlin:20260302T150000
DTEND;TZID=Europe/Berlin:20260302T163000
UID:2602611053-20260302T150000@DÜSSELDORF ASG-BILDUNGSFORUM
SUMMARY:Welcome: Sprachcafé im Rather Familienzentrum® (2602611053) 
LOCATION:ASG-R43;U3-Gruppe, Rather Kreuzweg 43, 40472 Düsseldorf
END:VEVENT
BEGIN:VEVENT
DTSTAMP:20260423T005849
DTSTART;TZID=Europe/Berlin:20260309T150000
DTEND;TZID=Europe/Berlin:20260309T163000
UID:2602611053-20260309T150000@DÜSSELDORF ASG-BILDUNGSFORUM
SUMMARY:Welcome: Sprachcafé im Rather Familienzentrum® (2602611053) 
LOCATION:ASG-R43;U3-Gruppe, Rather Kreuzweg 43, 40472 Düsseldorf
END:VEVENT
BEGIN:VEVENT
DTSTAMP:20260423T005849
DTSTART;TZID=Europe/Berlin:20260316T150000
DTEND;TZID=Europe/Berlin:20260316T163000
UID:2602611053-20260316T150000@DÜSSELDORF ASG-BILDUNGSFORUM
SUMMARY:Welcome: Sprachcafé im Rather Familienzentrum® (2602611053) 
LOCATION:ASG-R43;U3-Gruppe, Rather Kreuzweg 43, 40472 Düsseldorf
END:VEVENT
BEGIN:VEVENT
DTSTAMP:20260423T005849
DTSTART;TZID=Europe/Berlin:20260323T150000
DTEND;TZID=Europe/Berlin:20260323T163000
UID:2602611053-20260323T150000@DÜSSELDORF ASG-BILDUNGSFORUM
SUMMARY:Welcome: Sprachcafé im Rather Familienzentrum® (2602611053) 
LOCATION:ASG-R43;U3-Gruppe, Rather Kreuzweg 43, 40472 Düsseldorf
END:VEVENT
BEGIN:VEVENT
DTSTAMP:20260423T005849
DTSTART;TZID=Europe/Berlin:20260413T150000
DTEND;TZID=Europe/Berlin:20260413T163000
UID:2602611053-20260413T150000@DÜSSELDORF ASG-BILDUNGSFORUM
SUMMARY:Welcome: Sprachcafé im Rather Familienzentrum® (2602611053) 
LOCATION:ASG-R43;U3-Gruppe, Rather Kreuzweg 43, 40472 Düsseldorf
END:VEVENT
BEGIN:VEVENT
DTSTAMP:20260423T005849
DTSTART;TZID=Europe/Berlin:20260420T150000
DTEND;TZID=Europe/Berlin:20260420T163000
UID:2602611053-20260420T150000@DÜSSELDORF ASG-BILDUNGSFORUM
SUMMARY:Welcome: Sprachcafé im Rather Familienzentrum® (2602611053) 
LOCATION:ASG-R43;U3-Gruppe, Rather Kreuzweg 43, 40472 Düsseldorf
END:VEVENT
BEGIN:VEVENT
DTSTAMP:20260423T005849
DTSTART;TZID=Europe/Berlin:20260427T150000
DTEND;TZID=Europe/Berlin:20260427T163000
UID:2602611053-20260427T150000@DÜSSELDORF ASG-BILDUNGSFORUM
SUMMARY:Welcome: Sprachcafé im Rather Familienzentrum® (2602611053) 
LOCATION:ASG-R43;U3-Gruppe, Rather Kreuzweg 43, 40472 Düsseldorf
END:VEVENT
BEGIN:VEVENT
DTSTAMP:20260423T005849
DTSTART;TZID=Europe/Berlin:20260504T150000
DTEND;TZID=Europe/Berlin:20260504T163000
UID:2602611053-20260504T150000@DÜSSELDORF ASG-BILDUNGSFORUM
SUMMARY:Welcome: Sprachcafé im Rather Familienzentrum® (2602611053) 
LOCATION:ASG-R43;U3-Gruppe, Rather Kreuzweg 43, 40472 Düsseldorf
END:VEVENT
BEGIN:VEVENT
DTSTAMP:20260423T005849
DTSTART;TZID=Europe/Berlin:20260511T150000
DTEND;TZID=Europe/Berlin:20260511T163000
UID:2602611053-20260511T150000@DÜSSELDORF ASG-BILDUNGSFORUM
SUMMARY:Welcome: Sprachcafé im Rather Familienzentrum® (2602611053) 
LOCATION:ASG-R43;U3-Gruppe, Rather Kreuzweg 43, 40472 Düsseldorf
END:VEVENT
BEGIN:VEVENT
DTSTAMP:20260423T005849
DTSTART;TZID=Europe/Berlin:20260518T150000
DTEND;TZID=Europe/Berlin:20260518T163000
UID:2602611053-20260518T150000@DÜSSELDORF ASG-BILDUNGSFORUM
SUMMARY:Welcome: Sprachcafé im Rather Familienzentrum® (2602611053) 
LOCATION:ASG-R43;U3-Gruppe, Rather Kreuzweg 43, 40472 Düsseldorf
END:VEVENT
BEGIN:VEVENT
DTSTAMP:20260423T005849
DTSTART;TZID=Europe/Berlin:20260601T150000
DTEND;TZID=Europe/Berlin:20260601T163000
UID:2602611053-20260601T150000@DÜSSELDORF ASG-BILDUNGSFORUM
SUMMARY:Welcome: Sprachcafé im Rather Familienzentrum® (2602611053) 
LOCATION:ASG-R43;U3-Gruppe, Rather Kreuzweg 43, 40472 Düsseldorf
END:VEVENT
BEGIN:VEVENT
DTSTAMP:20260423T005849
DTSTART;TZID=Europe/Berlin:20260608T150000
DTEND;TZID=Europe/Berlin:20260608T163000
UID:2602611053-20260608T150000@DÜSSELDORF ASG-BILDUNGSFORUM
SUMMARY:Welcome: Sprachcafé im Rather Familienzentrum® (2602611053) 
LOCATION:ASG-R43;U3-Gruppe, Rather Kreuzweg 43, 40472 Düsseldorf
END:VEVENT
BEGIN:VEVENT
DTSTAMP:20260423T005849
DTSTART;TZID=Europe/Berlin:20260615T150000
DTEND;TZID=Europe/Berlin:20260615T163000
UID:2602611053-20260615T150000@DÜSSELDORF ASG-BILDUNGSFORUM
SUMMARY:Welcome: Sprachcafé im Rather Familienzentrum® (2602611053) 
LOCATION:ASG-R43;U3-Gruppe, Rather Kreuzweg 43, 40472 Düsseldorf
END:VEVENT
BEGIN:VEVENT
DTSTAMP:20260423T005849
DTSTART;TZID=Europe/Berlin:20260622T150000
DTEND;TZID=Europe/Berlin:20260622T163000
UID:2602611053-20260622T150000@DÜSSELDORF ASG-BILDUNGSFORUM
SUMMARY:Welcome: Sprachcafé im Rather Familienzentrum® (2602611053) 
LOCATION:ASG-R43;U3-Gruppe, Rather Kreuzweg 43, 40472 Düsseldorf
END:VEVENT
BEGIN:VEVENT
DTSTAMP:20260423T005849
DTSTART;TZID=Europe/Berlin:20260629T150000
DTEND;TZID=Europe/Berlin:20260629T163000
UID:2602611053-20260629T150000@DÜSSELDORF ASG-BILDUNGSFORUM
SUMMARY:Welcome: Sprachcafé im Rather Familienzentrum® (2602611053) 
LOCATION:ASG-R43;U3-Gruppe, Rather Kreuzweg 43, 40472 Düsseldorf
END:VEVENT
BEGIN:VEVENT
DTSTAMP:20260423T005849
DTSTART;TZID=Europe/Berlin:20260706T150000
DTEND;TZID=Europe/Berlin:20260706T163000
UID:2602611053-20260706T150000@DÜSSELDORF ASG-BILDUNGSFORUM
SUMMARY:Welcome: Sprachcafé im Rather Familienzentrum® (2602611053) 
LOCATION:ASG-R43;U3-Gruppe, Rather Kreuzweg 43, 40472 Düsseldorf
END:VEVENT
BEGIN:VEVENT
DTSTAMP:20260423T005849
DTSTART;TZID=Europe/Berlin:20260713T150000
DTEND;TZID=Europe/Berlin:20260713T163000
UID:2602611053-20260713T150000@DÜSSELDORF ASG-BILDUNGSFORUM
SUMMARY:Welcome: Sprachcafé im Rather Familienzentrum® (2602611053) 
LOCATION:ASG-R43;U3-Gruppe, Rather Kreuzweg 43, 40472 Düsseldorf
END:VEVENT
END:VCALENDAR