BEGIN:VCALENDAR
VERSION:2.0
PRODID:https://www.kufer.de/kuferweb / DE
METHOD:PUBLISH
CALSCALE:GREGORIAN
X-WR-TIMEZONE:Europe/Berlin
BEGIN:VTIMEZONE
TZID:Europe/Berlin
X-LIC-LOCATION:Europe/Berlin
BEGIN:DAYLIGHT
TZOFFSETFROM:+0100
TZOFFSETTO:+0200
TZNAME:CEST
DTSTART:19700329T020000
RRULE:FREQ=YEARLY;INTERVAL=1;BYDAY=-1SU;BYMONTH=3
END:DAYLIGHT
BEGIN:STANDARD
TZOFFSETFROM:+0200
TZOFFSETTO:+0100
TZNAME:CET
DTSTART:19701025T030000
RRULE:FREQ=YEARLY;INTERVAL=1;BYDAY=-1SU;BYMONTH=10
END:STANDARD
END:VTIMEZONE
BEGIN:VEVENT
DTSTAMP:20260423T022039
DTSTART;TZID=Europe/Berlin:20260819T200000
DTEND;TZID=Europe/Berlin:20260819T230000
UID:2602612000-20260819T200000@DÜSSELDORF ASG-BILDUNGSFORUM
SUMMARY:Offene Vätergruppe Vätertreff im Rather Familienzentrum® (2602612000) 
LOCATION:ASG-R43;Saal, Rather Kreuzweg 43, 40472 Düsseldorf
END:VEVENT
BEGIN:VEVENT
DTSTAMP:20260423T022039
DTSTART;TZID=Europe/Berlin:20260916T200000
DTEND;TZID=Europe/Berlin:20260916T230000
UID:2602612000-20260916T200000@DÜSSELDORF ASG-BILDUNGSFORUM
SUMMARY:Offene Vätergruppe Vätertreff im Rather Familienzentrum® (2602612000) 
LOCATION:ASG-R43;Saal, Rather Kreuzweg 43, 40472 Düsseldorf
END:VEVENT
BEGIN:VEVENT
DTSTAMP:20260423T022039
DTSTART;TZID=Europe/Berlin:20261014T200000
DTEND;TZID=Europe/Berlin:20261014T230000
UID:2602612000-20261014T200000@DÜSSELDORF ASG-BILDUNGSFORUM
SUMMARY:Offene Vätergruppe Vätertreff im Rather Familienzentrum® (2602612000) 
LOCATION:ASG-R43;Saal, Rather Kreuzweg 43, 40472 Düsseldorf
END:VEVENT
BEGIN:VEVENT
DTSTAMP:20260423T022039
DTSTART;TZID=Europe/Berlin:20261118T200000
DTEND;TZID=Europe/Berlin:20261118T230000
UID:2602612000-20261118T200000@DÜSSELDORF ASG-BILDUNGSFORUM
SUMMARY:Offene Vätergruppe Vätertreff im Rather Familienzentrum® (2602612000) 
LOCATION:ASG-R43;Saal, Rather Kreuzweg 43, 40472 Düsseldorf
END:VEVENT
BEGIN:VEVENT
DTSTAMP:20260423T022039
DTSTART;TZID=Europe/Berlin:20261209T200000
DTEND;TZID=Europe/Berlin:20261209T230000
UID:2602612000-20261209T200000@DÜSSELDORF ASG-BILDUNGSFORUM
SUMMARY:Offene Vätergruppe Vätertreff im Rather Familienzentrum® (2602612000) 
LOCATION:ASG-R43;Saal, Rather Kreuzweg 43, 40472 Düsseldorf
END:VEVENT
END:VCALENDAR