BEGIN:VCALENDAR
VERSION:2.0
PRODID:https://www.kufer.de/kuferweb / DE
METHOD:PUBLISH
CALSCALE:GREGORIAN
X-WR-TIMEZONE:Europe/Berlin
BEGIN:VTIMEZONE
TZID:Europe/Berlin
X-LIC-LOCATION:Europe/Berlin
BEGIN:DAYLIGHT
TZOFFSETFROM:+0100
TZOFFSETTO:+0200
TZNAME:CEST
DTSTART:19700329T020000
RRULE:FREQ=YEARLY;INTERVAL=1;BYDAY=-1SU;BYMONTH=3
END:DAYLIGHT
BEGIN:STANDARD
TZOFFSETFROM:+0200
TZOFFSETTO:+0100
TZNAME:CET
DTSTART:19701025T030000
RRULE:FREQ=YEARLY;INTERVAL=1;BYDAY=-1SU;BYMONTH=10
END:STANDARD
END:VTIMEZONE
BEGIN:VEVENT
DTSTAMP:20260422T130908
DTSTART;TZID=Europe/Berlin:20260904T143000
DTEND;TZID=Europe/Berlin:20260904T160000
UID:2602612015-20260904T143000@DÜSSELDORF ASG-BILDUNGSFORUM
SUMMARY:Babycafé: Milchbar - Offener Treff für Schwangere, Eltern und Babys (2602612015) 
LOCATION:Familienzentrum St. Margareta, Gerricusstraße 14, 40625 Düsseldorf
END:VEVENT
BEGIN:VEVENT
DTSTAMP:20260422T130908
DTSTART;TZID=Europe/Berlin:20260911T143000
DTEND;TZID=Europe/Berlin:20260911T160000
UID:2602612015-20260911T143000@DÜSSELDORF ASG-BILDUNGSFORUM
SUMMARY:Babycafé: Milchbar - Offener Treff für Schwangere, Eltern und Babys (2602612015) 
LOCATION:Familienzentrum St. Margareta, Gerricusstraße 14, 40625 Düsseldorf
END:VEVENT
BEGIN:VEVENT
DTSTAMP:20260422T130908
DTSTART;TZID=Europe/Berlin:20260918T143000
DTEND;TZID=Europe/Berlin:20260918T160000
UID:2602612015-20260918T143000@DÜSSELDORF ASG-BILDUNGSFORUM
SUMMARY:Babycafé: Milchbar - Offener Treff für Schwangere, Eltern und Babys (2602612015) 
LOCATION:Familienzentrum St. Margareta, Gerricusstraße 14, 40625 Düsseldorf
END:VEVENT
BEGIN:VEVENT
DTSTAMP:20260422T130908
DTSTART;TZID=Europe/Berlin:20260925T143000
DTEND;TZID=Europe/Berlin:20260925T160000
UID:2602612015-20260925T143000@DÜSSELDORF ASG-BILDUNGSFORUM
SUMMARY:Babycafé: Milchbar - Offener Treff für Schwangere, Eltern und Babys (2602612015) 
LOCATION:Familienzentrum St. Margareta, Gerricusstraße 14, 40625 Düsseldorf
END:VEVENT
BEGIN:VEVENT
DTSTAMP:20260422T130908
DTSTART;TZID=Europe/Berlin:20261002T143000
DTEND;TZID=Europe/Berlin:20261002T160000
UID:2602612015-20261002T143000@DÜSSELDORF ASG-BILDUNGSFORUM
SUMMARY:Babycafé: Milchbar - Offener Treff für Schwangere, Eltern und Babys (2602612015) 
LOCATION:Familienzentrum St. Margareta, Gerricusstraße 14, 40625 Düsseldorf
END:VEVENT
BEGIN:VEVENT
DTSTAMP:20260422T130908
DTSTART;TZID=Europe/Berlin:20261009T143000
DTEND;TZID=Europe/Berlin:20261009T160000
UID:2602612015-20261009T143000@DÜSSELDORF ASG-BILDUNGSFORUM
SUMMARY:Babycafé: Milchbar - Offener Treff für Schwangere, Eltern und Babys (2602612015) 
LOCATION:Familienzentrum St. Margareta, Gerricusstraße 14, 40625 Düsseldorf
END:VEVENT
BEGIN:VEVENT
DTSTAMP:20260422T130908
DTSTART;TZID=Europe/Berlin:20261016T143000
DTEND;TZID=Europe/Berlin:20261016T160000
UID:2602612015-20261016T143000@DÜSSELDORF ASG-BILDUNGSFORUM
SUMMARY:Babycafé: Milchbar - Offener Treff für Schwangere, Eltern und Babys (2602612015) 
LOCATION:Familienzentrum St. Margareta, Gerricusstraße 14, 40625 Düsseldorf
END:VEVENT
BEGIN:VEVENT
DTSTAMP:20260422T130908
DTSTART;TZID=Europe/Berlin:20261106T143000
DTEND;TZID=Europe/Berlin:20261106T160000
UID:2602612015-20261106T143000@DÜSSELDORF ASG-BILDUNGSFORUM
SUMMARY:Babycafé: Milchbar - Offener Treff für Schwangere, Eltern und Babys (2602612015) 
LOCATION:Familienzentrum St. Margareta, Gerricusstraße 14, 40625 Düsseldorf
END:VEVENT
BEGIN:VEVENT
DTSTAMP:20260422T130908
DTSTART;TZID=Europe/Berlin:20261113T143000
DTEND;TZID=Europe/Berlin:20261113T160000
UID:2602612015-20261113T143000@DÜSSELDORF ASG-BILDUNGSFORUM
SUMMARY:Babycafé: Milchbar - Offener Treff für Schwangere, Eltern und Babys (2602612015) 
LOCATION:Familienzentrum St. Margareta, Gerricusstraße 14, 40625 Düsseldorf
END:VEVENT
BEGIN:VEVENT
DTSTAMP:20260422T130908
DTSTART;TZID=Europe/Berlin:20261120T143000
DTEND;TZID=Europe/Berlin:20261120T160000
UID:2602612015-20261120T143000@DÜSSELDORF ASG-BILDUNGSFORUM
SUMMARY:Babycafé: Milchbar - Offener Treff für Schwangere, Eltern und Babys (2602612015) 
LOCATION:Familienzentrum St. Margareta, Gerricusstraße 14, 40625 Düsseldorf
END:VEVENT
BEGIN:VEVENT
DTSTAMP:20260422T130908
DTSTART;TZID=Europe/Berlin:20261127T143000
DTEND;TZID=Europe/Berlin:20261127T160000
UID:2602612015-20261127T143000@DÜSSELDORF ASG-BILDUNGSFORUM
SUMMARY:Babycafé: Milchbar - Offener Treff für Schwangere, Eltern und Babys (2602612015) 
LOCATION:Familienzentrum St. Margareta, Gerricusstraße 14, 40625 Düsseldorf
END:VEVENT
BEGIN:VEVENT
DTSTAMP:20260422T130908
DTSTART;TZID=Europe/Berlin:20261204T143000
DTEND;TZID=Europe/Berlin:20261204T160000
UID:2602612015-20261204T143000@DÜSSELDORF ASG-BILDUNGSFORUM
SUMMARY:Babycafé: Milchbar - Offener Treff für Schwangere, Eltern und Babys (2602612015) 
LOCATION:Familienzentrum St. Margareta, Gerricusstraße 14, 40625 Düsseldorf
END:VEVENT
BEGIN:VEVENT
DTSTAMP:20260422T130908
DTSTART;TZID=Europe/Berlin:20261211T143000
DTEND;TZID=Europe/Berlin:20261211T160000
UID:2602612015-20261211T143000@DÜSSELDORF ASG-BILDUNGSFORUM
SUMMARY:Babycafé: Milchbar - Offener Treff für Schwangere, Eltern und Babys (2602612015) 
LOCATION:Familienzentrum St. Margareta, Gerricusstraße 14, 40625 Düsseldorf
END:VEVENT
END:VCALENDAR