BEGIN:VCALENDAR
VERSION:2.0
PRODID:https://www.kufer.de/kuferweb / DE
METHOD:PUBLISH
CALSCALE:GREGORIAN
X-WR-TIMEZONE:Europe/Berlin
BEGIN:VTIMEZONE
TZID:Europe/Berlin
X-LIC-LOCATION:Europe/Berlin
BEGIN:DAYLIGHT
TZOFFSETFROM:+0100
TZOFFSETTO:+0200
TZNAME:CEST
DTSTART:19700329T020000
RRULE:FREQ=YEARLY;INTERVAL=1;BYDAY=-1SU;BYMONTH=3
END:DAYLIGHT
BEGIN:STANDARD
TZOFFSETFROM:+0200
TZOFFSETTO:+0100
TZNAME:CET
DTSTART:19701025T030000
RRULE:FREQ=YEARLY;INTERVAL=1;BYDAY=-1SU;BYMONTH=10
END:STANDARD
END:VTIMEZONE
BEGIN:VEVENT
DTSTAMP:20260420T050916
DTSTART;TZID=Europe/Berlin:20260904T160000
DTEND;TZID=Europe/Berlin:20260904T173000
UID:2602612016-20260904T160000@DÜSSELDORF ASG-BILDUNGSFORUM
SUMMARY:Babycafé: Milchbar - Offener Treff für Schwangere, Eltern und Babys (2602612016) 
LOCATION:Familienzentrum St. Margareta, Gerricusstraße 14, 40625 Düsseldorf
END:VEVENT
BEGIN:VEVENT
DTSTAMP:20260420T050916
DTSTART;TZID=Europe/Berlin:20260911T160000
DTEND;TZID=Europe/Berlin:20260911T173000
UID:2602612016-20260911T160000@DÜSSELDORF ASG-BILDUNGSFORUM
SUMMARY:Babycafé: Milchbar - Offener Treff für Schwangere, Eltern und Babys (2602612016) 
LOCATION:Familienzentrum St. Margareta, Gerricusstraße 14, 40625 Düsseldorf
END:VEVENT
BEGIN:VEVENT
DTSTAMP:20260420T050916
DTSTART;TZID=Europe/Berlin:20260918T160000
DTEND;TZID=Europe/Berlin:20260918T173000
UID:2602612016-20260918T160000@DÜSSELDORF ASG-BILDUNGSFORUM
SUMMARY:Babycafé: Milchbar - Offener Treff für Schwangere, Eltern und Babys (2602612016) 
LOCATION:Familienzentrum St. Margareta, Gerricusstraße 14, 40625 Düsseldorf
END:VEVENT
BEGIN:VEVENT
DTSTAMP:20260420T050916
DTSTART;TZID=Europe/Berlin:20260925T160000
DTEND;TZID=Europe/Berlin:20260925T173000
UID:2602612016-20260925T160000@DÜSSELDORF ASG-BILDUNGSFORUM
SUMMARY:Babycafé: Milchbar - Offener Treff für Schwangere, Eltern und Babys (2602612016) 
LOCATION:Familienzentrum St. Margareta, Gerricusstraße 14, 40625 Düsseldorf
END:VEVENT
BEGIN:VEVENT
DTSTAMP:20260420T050916
DTSTART;TZID=Europe/Berlin:20261002T160000
DTEND;TZID=Europe/Berlin:20261002T173000
UID:2602612016-20261002T160000@DÜSSELDORF ASG-BILDUNGSFORUM
SUMMARY:Babycafé: Milchbar - Offener Treff für Schwangere, Eltern und Babys (2602612016) 
LOCATION:Familienzentrum St. Margareta, Gerricusstraße 14, 40625 Düsseldorf
END:VEVENT
BEGIN:VEVENT
DTSTAMP:20260420T050916
DTSTART;TZID=Europe/Berlin:20261009T160000
DTEND;TZID=Europe/Berlin:20261009T173000
UID:2602612016-20261009T160000@DÜSSELDORF ASG-BILDUNGSFORUM
SUMMARY:Babycafé: Milchbar - Offener Treff für Schwangere, Eltern und Babys (2602612016) 
LOCATION:Familienzentrum St. Margareta, Gerricusstraße 14, 40625 Düsseldorf
END:VEVENT
BEGIN:VEVENT
DTSTAMP:20260420T050916
DTSTART;TZID=Europe/Berlin:20261016T160000
DTEND;TZID=Europe/Berlin:20261016T173000
UID:2602612016-20261016T160000@DÜSSELDORF ASG-BILDUNGSFORUM
SUMMARY:Babycafé: Milchbar - Offener Treff für Schwangere, Eltern und Babys (2602612016) 
LOCATION:Familienzentrum St. Margareta, Gerricusstraße 14, 40625 Düsseldorf
END:VEVENT
BEGIN:VEVENT
DTSTAMP:20260420T050916
DTSTART;TZID=Europe/Berlin:20261106T160000
DTEND;TZID=Europe/Berlin:20261106T173000
UID:2602612016-20261106T160000@DÜSSELDORF ASG-BILDUNGSFORUM
SUMMARY:Babycafé: Milchbar - Offener Treff für Schwangere, Eltern und Babys (2602612016) 
LOCATION:Familienzentrum St. Margareta, Gerricusstraße 14, 40625 Düsseldorf
END:VEVENT
BEGIN:VEVENT
DTSTAMP:20260420T050916
DTSTART;TZID=Europe/Berlin:20261113T160000
DTEND;TZID=Europe/Berlin:20261113T173000
UID:2602612016-20261113T160000@DÜSSELDORF ASG-BILDUNGSFORUM
SUMMARY:Babycafé: Milchbar - Offener Treff für Schwangere, Eltern und Babys (2602612016) 
LOCATION:Familienzentrum St. Margareta, Gerricusstraße 14, 40625 Düsseldorf
END:VEVENT
BEGIN:VEVENT
DTSTAMP:20260420T050916
DTSTART;TZID=Europe/Berlin:20261120T160000
DTEND;TZID=Europe/Berlin:20261120T173000
UID:2602612016-20261120T160000@DÜSSELDORF ASG-BILDUNGSFORUM
SUMMARY:Babycafé: Milchbar - Offener Treff für Schwangere, Eltern und Babys (2602612016) 
LOCATION:Familienzentrum St. Margareta, Gerricusstraße 14, 40625 Düsseldorf
END:VEVENT
BEGIN:VEVENT
DTSTAMP:20260420T050916
DTSTART;TZID=Europe/Berlin:20261127T160000
DTEND;TZID=Europe/Berlin:20261127T173000
UID:2602612016-20261127T160000@DÜSSELDORF ASG-BILDUNGSFORUM
SUMMARY:Babycafé: Milchbar - Offener Treff für Schwangere, Eltern und Babys (2602612016) 
LOCATION:Familienzentrum St. Margareta, Gerricusstraße 14, 40625 Düsseldorf
END:VEVENT
BEGIN:VEVENT
DTSTAMP:20260420T050916
DTSTART;TZID=Europe/Berlin:20261204T160000
DTEND;TZID=Europe/Berlin:20261204T173000
UID:2602612016-20261204T160000@DÜSSELDORF ASG-BILDUNGSFORUM
SUMMARY:Babycafé: Milchbar - Offener Treff für Schwangere, Eltern und Babys (2602612016) 
LOCATION:Familienzentrum St. Margareta, Gerricusstraße 14, 40625 Düsseldorf
END:VEVENT
BEGIN:VEVENT
DTSTAMP:20260420T050916
DTSTART;TZID=Europe/Berlin:20261211T160000
DTEND;TZID=Europe/Berlin:20261211T173000
UID:2602612016-20261211T160000@DÜSSELDORF ASG-BILDUNGSFORUM
SUMMARY:Babycafé: Milchbar - Offener Treff für Schwangere, Eltern und Babys (2602612016) 
LOCATION:Familienzentrum St. Margareta, Gerricusstraße 14, 40625 Düsseldorf
END:VEVENT
END:VCALENDAR