BEGIN:VCALENDAR
VERSION:2.0
PRODID:https://www.kufer.de/kuferweb / DE
METHOD:PUBLISH
CALSCALE:GREGORIAN
X-WR-TIMEZONE:Europe/Berlin
BEGIN:VTIMEZONE
TZID:Europe/Berlin
X-LIC-LOCATION:Europe/Berlin
BEGIN:DAYLIGHT
TZOFFSETFROM:+0100
TZOFFSETTO:+0200
TZNAME:CEST
DTSTART:19700329T020000
RRULE:FREQ=YEARLY;INTERVAL=1;BYDAY=-1SU;BYMONTH=3
END:DAYLIGHT
BEGIN:STANDARD
TZOFFSETFROM:+0200
TZOFFSETTO:+0100
TZNAME:CET
DTSTART:19701025T030000
RRULE:FREQ=YEARLY;INTERVAL=1;BYDAY=-1SU;BYMONTH=10
END:STANDARD
END:VTIMEZONE
BEGIN:VEVENT
DTSTAMP:20260423T004718
DTSTART;TZID=Europe/Berlin:20260904T100000
DTEND;TZID=Europe/Berlin:20260904T130000
UID:2602612034-20260904T100000@DÜSSELDORF ASG-BILDUNGSFORUM
SUMMARY:urban gardening im Rather Familienzentrum - Nachhaltig löeben in der Stadt (2602612034) 
LOCATION:ASG-R43, Rather Kreuzweg 43, 40472 Düsseldorf
END:VEVENT
BEGIN:VEVENT
DTSTAMP:20260423T004718
DTSTART;TZID=Europe/Berlin:20260911T100000
DTEND;TZID=Europe/Berlin:20260911T130000
UID:2602612034-20260911T100000@DÜSSELDORF ASG-BILDUNGSFORUM
SUMMARY:urban gardening im Rather Familienzentrum - Nachhaltig löeben in der Stadt (2602612034) 
LOCATION:ASG-R43, Rather Kreuzweg 43, 40472 Düsseldorf
END:VEVENT
BEGIN:VEVENT
DTSTAMP:20260423T004718
DTSTART;TZID=Europe/Berlin:20260918T100000
DTEND;TZID=Europe/Berlin:20260918T130000
UID:2602612034-20260918T100000@DÜSSELDORF ASG-BILDUNGSFORUM
SUMMARY:urban gardening im Rather Familienzentrum - Nachhaltig löeben in der Stadt (2602612034) 
LOCATION:ASG-R43, Rather Kreuzweg 43, 40472 Düsseldorf
END:VEVENT
BEGIN:VEVENT
DTSTAMP:20260423T004718
DTSTART;TZID=Europe/Berlin:20260925T100000
DTEND;TZID=Europe/Berlin:20260925T130000
UID:2602612034-20260925T100000@DÜSSELDORF ASG-BILDUNGSFORUM
SUMMARY:urban gardening im Rather Familienzentrum - Nachhaltig löeben in der Stadt (2602612034) 
LOCATION:ASG-R43, Rather Kreuzweg 43, 40472 Düsseldorf
END:VEVENT
BEGIN:VEVENT
DTSTAMP:20260423T004718
DTSTART;TZID=Europe/Berlin:20261002T100000
DTEND;TZID=Europe/Berlin:20261002T130000
UID:2602612034-20261002T100000@DÜSSELDORF ASG-BILDUNGSFORUM
SUMMARY:urban gardening im Rather Familienzentrum - Nachhaltig löeben in der Stadt (2602612034) 
LOCATION:ASG-R43, Rather Kreuzweg 43, 40472 Düsseldorf
END:VEVENT
BEGIN:VEVENT
DTSTAMP:20260423T004718
DTSTART;TZID=Europe/Berlin:20261009T100000
DTEND;TZID=Europe/Berlin:20261009T130000
UID:2602612034-20261009T100000@DÜSSELDORF ASG-BILDUNGSFORUM
SUMMARY:urban gardening im Rather Familienzentrum - Nachhaltig löeben in der Stadt (2602612034) 
LOCATION:ASG-R43, Rather Kreuzweg 43, 40472 Düsseldorf
END:VEVENT
BEGIN:VEVENT
DTSTAMP:20260423T004718
DTSTART;TZID=Europe/Berlin:20261016T100000
DTEND;TZID=Europe/Berlin:20261016T130000
UID:2602612034-20261016T100000@DÜSSELDORF ASG-BILDUNGSFORUM
SUMMARY:urban gardening im Rather Familienzentrum - Nachhaltig löeben in der Stadt (2602612034) 
LOCATION:ASG-R43, Rather Kreuzweg 43, 40472 Düsseldorf
END:VEVENT
BEGIN:VEVENT
DTSTAMP:20260423T004718
DTSTART;TZID=Europe/Berlin:20261106T100000
DTEND;TZID=Europe/Berlin:20261106T130000
UID:2602612034-20261106T100000@DÜSSELDORF ASG-BILDUNGSFORUM
SUMMARY:urban gardening im Rather Familienzentrum - Nachhaltig löeben in der Stadt (2602612034) 
LOCATION:ASG-R43, Rather Kreuzweg 43, 40472 Düsseldorf
END:VEVENT
BEGIN:VEVENT
DTSTAMP:20260423T004718
DTSTART;TZID=Europe/Berlin:20261113T100000
DTEND;TZID=Europe/Berlin:20261113T130000
UID:2602612034-20261113T100000@DÜSSELDORF ASG-BILDUNGSFORUM
SUMMARY:urban gardening im Rather Familienzentrum - Nachhaltig löeben in der Stadt (2602612034) 
LOCATION:ASG-R43, Rather Kreuzweg 43, 40472 Düsseldorf
END:VEVENT
BEGIN:VEVENT
DTSTAMP:20260423T004718
DTSTART;TZID=Europe/Berlin:20261120T100000
DTEND;TZID=Europe/Berlin:20261120T130000
UID:2602612034-20261120T100000@DÜSSELDORF ASG-BILDUNGSFORUM
SUMMARY:urban gardening im Rather Familienzentrum - Nachhaltig löeben in der Stadt (2602612034) 
LOCATION:ASG-R43, Rather Kreuzweg 43, 40472 Düsseldorf
END:VEVENT
BEGIN:VEVENT
DTSTAMP:20260423T004718
DTSTART;TZID=Europe/Berlin:20261127T100000
DTEND;TZID=Europe/Berlin:20261127T130000
UID:2602612034-20261127T100000@DÜSSELDORF ASG-BILDUNGSFORUM
SUMMARY:urban gardening im Rather Familienzentrum - Nachhaltig löeben in der Stadt (2602612034) 
LOCATION:ASG-R43, Rather Kreuzweg 43, 40472 Düsseldorf
END:VEVENT
BEGIN:VEVENT
DTSTAMP:20260423T004718
DTSTART;TZID=Europe/Berlin:20261204T100000
DTEND;TZID=Europe/Berlin:20261204T130000
UID:2602612034-20261204T100000@DÜSSELDORF ASG-BILDUNGSFORUM
SUMMARY:urban gardening im Rather Familienzentrum - Nachhaltig löeben in der Stadt (2602612034) 
LOCATION:ASG-R43, Rather Kreuzweg 43, 40472 Düsseldorf
END:VEVENT
BEGIN:VEVENT
DTSTAMP:20260423T004718
DTSTART;TZID=Europe/Berlin:20261211T100000
DTEND;TZID=Europe/Berlin:20261211T130000
UID:2602612034-20261211T100000@DÜSSELDORF ASG-BILDUNGSFORUM
SUMMARY:urban gardening im Rather Familienzentrum - Nachhaltig löeben in der Stadt (2602612034) 
LOCATION:ASG-R43, Rather Kreuzweg 43, 40472 Düsseldorf
END:VEVENT
END:VCALENDAR