BEGIN:VCALENDAR
VERSION:2.0
PRODID:https://www.kufer.de/kuferweb / DE
METHOD:PUBLISH
CALSCALE:GREGORIAN
X-WR-TIMEZONE:Europe/Berlin
BEGIN:VTIMEZONE
TZID:Europe/Berlin
X-LIC-LOCATION:Europe/Berlin
BEGIN:DAYLIGHT
TZOFFSETFROM:+0100
TZOFFSETTO:+0200
TZNAME:CEST
DTSTART:19700329T020000
RRULE:FREQ=YEARLY;INTERVAL=1;BYDAY=-1SU;BYMONTH=3
END:DAYLIGHT
BEGIN:STANDARD
TZOFFSETFROM:+0200
TZOFFSETTO:+0100
TZNAME:CET
DTSTART:19701025T030000
RRULE:FREQ=YEARLY;INTERVAL=1;BYDAY=-1SU;BYMONTH=10
END:STANDARD
END:VTIMEZONE
BEGIN:VEVENT
DTSTAMP:20260423T004739
DTSTART;TZID=Europe/Berlin:20260908T090000
DTEND;TZID=Europe/Berlin:20260908T120000
UID:2602613008-20260908T090000@DÜSSELDORF ASG-BILDUNGSFORUM
SUMMARY:Elternsprechstunde Offene Sprechstunde (2602613008) 
LOCATION:ASG-R43, Rather Kreuzweg 43, 40472 Düsseldorf
END:VEVENT
BEGIN:VEVENT
DTSTAMP:20260423T004739
DTSTART;TZID=Europe/Berlin:20260915T090000
DTEND;TZID=Europe/Berlin:20260915T120000
UID:2602613008-20260915T090000@DÜSSELDORF ASG-BILDUNGSFORUM
SUMMARY:Elternsprechstunde Offene Sprechstunde (2602613008) 
LOCATION:ASG-R43, Rather Kreuzweg 43, 40472 Düsseldorf
END:VEVENT
BEGIN:VEVENT
DTSTAMP:20260423T004739
DTSTART;TZID=Europe/Berlin:20260922T090000
DTEND;TZID=Europe/Berlin:20260922T120000
UID:2602613008-20260922T090000@DÜSSELDORF ASG-BILDUNGSFORUM
SUMMARY:Elternsprechstunde Offene Sprechstunde (2602613008) 
LOCATION:ASG-R43, Rather Kreuzweg 43, 40472 Düsseldorf
END:VEVENT
BEGIN:VEVENT
DTSTAMP:20260423T004739
DTSTART;TZID=Europe/Berlin:20260929T090000
DTEND;TZID=Europe/Berlin:20260929T120000
UID:2602613008-20260929T090000@DÜSSELDORF ASG-BILDUNGSFORUM
SUMMARY:Elternsprechstunde Offene Sprechstunde (2602613008) 
LOCATION:ASG-R43, Rather Kreuzweg 43, 40472 Düsseldorf
END:VEVENT
BEGIN:VEVENT
DTSTAMP:20260423T004739
DTSTART;TZID=Europe/Berlin:20261006T090000
DTEND;TZID=Europe/Berlin:20261006T120000
UID:2602613008-20261006T090000@DÜSSELDORF ASG-BILDUNGSFORUM
SUMMARY:Elternsprechstunde Offene Sprechstunde (2602613008) 
LOCATION:ASG-R43, Rather Kreuzweg 43, 40472 Düsseldorf
END:VEVENT
BEGIN:VEVENT
DTSTAMP:20260423T004739
DTSTART;TZID=Europe/Berlin:20261013T090000
DTEND;TZID=Europe/Berlin:20261013T120000
UID:2602613008-20261013T090000@DÜSSELDORF ASG-BILDUNGSFORUM
SUMMARY:Elternsprechstunde Offene Sprechstunde (2602613008) 
LOCATION:ASG-R43, Rather Kreuzweg 43, 40472 Düsseldorf
END:VEVENT
BEGIN:VEVENT
DTSTAMP:20260423T004739
DTSTART;TZID=Europe/Berlin:20261103T090000
DTEND;TZID=Europe/Berlin:20261103T120000
UID:2602613008-20261103T090000@DÜSSELDORF ASG-BILDUNGSFORUM
SUMMARY:Elternsprechstunde Offene Sprechstunde (2602613008) 
LOCATION:ASG-R43, Rather Kreuzweg 43, 40472 Düsseldorf
END:VEVENT
BEGIN:VEVENT
DTSTAMP:20260423T004739
DTSTART;TZID=Europe/Berlin:20261110T090000
DTEND;TZID=Europe/Berlin:20261110T120000
UID:2602613008-20261110T090000@DÜSSELDORF ASG-BILDUNGSFORUM
SUMMARY:Elternsprechstunde Offene Sprechstunde (2602613008) 
LOCATION:ASG-R43, Rather Kreuzweg 43, 40472 Düsseldorf
END:VEVENT
BEGIN:VEVENT
DTSTAMP:20260423T004739
DTSTART;TZID=Europe/Berlin:20261117T090000
DTEND;TZID=Europe/Berlin:20261117T120000
UID:2602613008-20261117T090000@DÜSSELDORF ASG-BILDUNGSFORUM
SUMMARY:Elternsprechstunde Offene Sprechstunde (2602613008) 
LOCATION:ASG-R43, Rather Kreuzweg 43, 40472 Düsseldorf
END:VEVENT
BEGIN:VEVENT
DTSTAMP:20260423T004739
DTSTART;TZID=Europe/Berlin:20261124T090000
DTEND;TZID=Europe/Berlin:20261124T120000
UID:2602613008-20261124T090000@DÜSSELDORF ASG-BILDUNGSFORUM
SUMMARY:Elternsprechstunde Offene Sprechstunde (2602613008) 
LOCATION:ASG-R43, Rather Kreuzweg 43, 40472 Düsseldorf
END:VEVENT
BEGIN:VEVENT
DTSTAMP:20260423T004739
DTSTART;TZID=Europe/Berlin:20261201T090000
DTEND;TZID=Europe/Berlin:20261201T120000
UID:2602613008-20261201T090000@DÜSSELDORF ASG-BILDUNGSFORUM
SUMMARY:Elternsprechstunde Offene Sprechstunde (2602613008) 
LOCATION:ASG-R43, Rather Kreuzweg 43, 40472 Düsseldorf
END:VEVENT
BEGIN:VEVENT
DTSTAMP:20260423T004739
DTSTART;TZID=Europe/Berlin:20261208T090000
DTEND;TZID=Europe/Berlin:20261208T120000
UID:2602613008-20261208T090000@DÜSSELDORF ASG-BILDUNGSFORUM
SUMMARY:Elternsprechstunde Offene Sprechstunde (2602613008) 
LOCATION:ASG-R43, Rather Kreuzweg 43, 40472 Düsseldorf
END:VEVENT
BEGIN:VEVENT
DTSTAMP:20260423T004739
DTSTART;TZID=Europe/Berlin:20261215T090000
DTEND;TZID=Europe/Berlin:20261215T120000
UID:2602613008-20261215T090000@DÜSSELDORF ASG-BILDUNGSFORUM
SUMMARY:Elternsprechstunde Offene Sprechstunde (2602613008) 
LOCATION:ASG-R43, Rather Kreuzweg 43, 40472 Düsseldorf
END:VEVENT
END:VCALENDAR