BEGIN:VCALENDAR
VERSION:2.0
PRODID:https://www.kufer.de/kuferweb / DE
METHOD:PUBLISH
CALSCALE:GREGORIAN
X-WR-TIMEZONE:Europe/Berlin
BEGIN:VTIMEZONE
TZID:Europe/Berlin
X-LIC-LOCATION:Europe/Berlin
BEGIN:DAYLIGHT
TZOFFSETFROM:+0100
TZOFFSETTO:+0200
TZNAME:CEST
DTSTART:19700329T020000
RRULE:FREQ=YEARLY;INTERVAL=1;BYDAY=-1SU;BYMONTH=3
END:DAYLIGHT
BEGIN:STANDARD
TZOFFSETFROM:+0200
TZOFFSETTO:+0100
TZNAME:CET
DTSTART:19701025T030000
RRULE:FREQ=YEARLY;INTERVAL=1;BYDAY=-1SU;BYMONTH=10
END:STANDARD
END:VTIMEZONE
BEGIN:VEVENT
DTSTAMP:20260422T204951
DTSTART;TZID=Europe/Berlin:20260907T150000
DTEND;TZID=Europe/Berlin:20260907T163000
UID:2602613053-20260907T150000@DÜSSELDORF ASG-BILDUNGSFORUM
SUMMARY:Welcome: Sprachcafé im Rather Familienzentrum® (2602613053) 
LOCATION:ASG-R43;U3-Gruppe, Rather Kreuzweg 43, 40472 Düsseldorf
END:VEVENT
BEGIN:VEVENT
DTSTAMP:20260422T204951
DTSTART;TZID=Europe/Berlin:20260914T150000
DTEND;TZID=Europe/Berlin:20260914T163000
UID:2602613053-20260914T150000@DÜSSELDORF ASG-BILDUNGSFORUM
SUMMARY:Welcome: Sprachcafé im Rather Familienzentrum® (2602613053) 
LOCATION:ASG-R43;U3-Gruppe, Rather Kreuzweg 43, 40472 Düsseldorf
END:VEVENT
BEGIN:VEVENT
DTSTAMP:20260422T204951
DTSTART;TZID=Europe/Berlin:20260921T150000
DTEND;TZID=Europe/Berlin:20260921T163000
UID:2602613053-20260921T150000@DÜSSELDORF ASG-BILDUNGSFORUM
SUMMARY:Welcome: Sprachcafé im Rather Familienzentrum® (2602613053) 
LOCATION:ASG-R43;U3-Gruppe, Rather Kreuzweg 43, 40472 Düsseldorf
END:VEVENT
BEGIN:VEVENT
DTSTAMP:20260422T204951
DTSTART;TZID=Europe/Berlin:20260928T150000
DTEND;TZID=Europe/Berlin:20260928T163000
UID:2602613053-20260928T150000@DÜSSELDORF ASG-BILDUNGSFORUM
SUMMARY:Welcome: Sprachcafé im Rather Familienzentrum® (2602613053) 
LOCATION:ASG-R43;U3-Gruppe, Rather Kreuzweg 43, 40472 Düsseldorf
END:VEVENT
BEGIN:VEVENT
DTSTAMP:20260422T204951
DTSTART;TZID=Europe/Berlin:20261005T150000
DTEND;TZID=Europe/Berlin:20261005T163000
UID:2602613053-20261005T150000@DÜSSELDORF ASG-BILDUNGSFORUM
SUMMARY:Welcome: Sprachcafé im Rather Familienzentrum® (2602613053) 
LOCATION:ASG-R43;U3-Gruppe, Rather Kreuzweg 43, 40472 Düsseldorf
END:VEVENT
BEGIN:VEVENT
DTSTAMP:20260422T204951
DTSTART;TZID=Europe/Berlin:20261012T150000
DTEND;TZID=Europe/Berlin:20261012T163000
UID:2602613053-20261012T150000@DÜSSELDORF ASG-BILDUNGSFORUM
SUMMARY:Welcome: Sprachcafé im Rather Familienzentrum® (2602613053) 
LOCATION:ASG-R43;U3-Gruppe, Rather Kreuzweg 43, 40472 Düsseldorf
END:VEVENT
BEGIN:VEVENT
DTSTAMP:20260422T204951
DTSTART;TZID=Europe/Berlin:20261102T150000
DTEND;TZID=Europe/Berlin:20261102T163000
UID:2602613053-20261102T150000@DÜSSELDORF ASG-BILDUNGSFORUM
SUMMARY:Welcome: Sprachcafé im Rather Familienzentrum® (2602613053) 
LOCATION:ASG-R43;U3-Gruppe, Rather Kreuzweg 43, 40472 Düsseldorf
END:VEVENT
BEGIN:VEVENT
DTSTAMP:20260422T204951
DTSTART;TZID=Europe/Berlin:20261109T150000
DTEND;TZID=Europe/Berlin:20261109T163000
UID:2602613053-20261109T150000@DÜSSELDORF ASG-BILDUNGSFORUM
SUMMARY:Welcome: Sprachcafé im Rather Familienzentrum® (2602613053) 
LOCATION:ASG-R43;U3-Gruppe, Rather Kreuzweg 43, 40472 Düsseldorf
END:VEVENT
BEGIN:VEVENT
DTSTAMP:20260422T204951
DTSTART;TZID=Europe/Berlin:20261116T150000
DTEND;TZID=Europe/Berlin:20261116T163000
UID:2602613053-20261116T150000@DÜSSELDORF ASG-BILDUNGSFORUM
SUMMARY:Welcome: Sprachcafé im Rather Familienzentrum® (2602613053) 
LOCATION:ASG-R43;U3-Gruppe, Rather Kreuzweg 43, 40472 Düsseldorf
END:VEVENT
BEGIN:VEVENT
DTSTAMP:20260422T204951
DTSTART;TZID=Europe/Berlin:20261123T150000
DTEND;TZID=Europe/Berlin:20261123T163000
UID:2602613053-20261123T150000@DÜSSELDORF ASG-BILDUNGSFORUM
SUMMARY:Welcome: Sprachcafé im Rather Familienzentrum® (2602613053) 
LOCATION:ASG-R43;U3-Gruppe, Rather Kreuzweg 43, 40472 Düsseldorf
END:VEVENT
BEGIN:VEVENT
DTSTAMP:20260422T204951
DTSTART;TZID=Europe/Berlin:20261130T150000
DTEND;TZID=Europe/Berlin:20261130T163000
UID:2602613053-20261130T150000@DÜSSELDORF ASG-BILDUNGSFORUM
SUMMARY:Welcome: Sprachcafé im Rather Familienzentrum® (2602613053) 
LOCATION:ASG-R43;U3-Gruppe, Rather Kreuzweg 43, 40472 Düsseldorf
END:VEVENT
BEGIN:VEVENT
DTSTAMP:20260422T204951
DTSTART;TZID=Europe/Berlin:20261207T150000
DTEND;TZID=Europe/Berlin:20261207T163000
UID:2602613053-20261207T150000@DÜSSELDORF ASG-BILDUNGSFORUM
SUMMARY:Welcome: Sprachcafé im Rather Familienzentrum® (2602613053) 
LOCATION:ASG-R43;U3-Gruppe, Rather Kreuzweg 43, 40472 Düsseldorf
END:VEVENT
BEGIN:VEVENT
DTSTAMP:20260422T204951
DTSTART;TZID=Europe/Berlin:20261214T150000
DTEND;TZID=Europe/Berlin:20261214T163000
UID:2602613053-20261214T150000@DÜSSELDORF ASG-BILDUNGSFORUM
SUMMARY:Welcome: Sprachcafé im Rather Familienzentrum® (2602613053) 
LOCATION:ASG-R43;U3-Gruppe, Rather Kreuzweg 43, 40472 Düsseldorf
END:VEVENT
END:VCALENDAR