BEGIN:VCALENDAR
VERSION:2.0
PRODID:https://www.kufer.de/kuferweb / DE
METHOD:PUBLISH
CALSCALE:GREGORIAN
X-WR-TIMEZONE:Europe/Berlin
BEGIN:VTIMEZONE
TZID:Europe/Berlin
X-LIC-LOCATION:Europe/Berlin
BEGIN:DAYLIGHT
TZOFFSETFROM:+0100
TZOFFSETTO:+0200
TZNAME:CEST
DTSTART:19700329T020000
RRULE:FREQ=YEARLY;INTERVAL=1;BYDAY=-1SU;BYMONTH=3
END:DAYLIGHT
BEGIN:STANDARD
TZOFFSETFROM:+0200
TZOFFSETTO:+0100
TZNAME:CET
DTSTART:19701025T030000
RRULE:FREQ=YEARLY;INTERVAL=1;BYDAY=-1SU;BYMONTH=10
END:STANDARD
END:VTIMEZONE
BEGIN:VEVENT
DTSTAMP:20260422T115121
DTSTART;TZID=Europe/Berlin:20260825T140000
DTEND;TZID=Europe/Berlin:20260825T161500
UID:2602613065-20260825T140000@DÜSSELDORF ASG-BILDUNGSFORUM
SUMMARY:Elterntipps to go im Freizeitpark Heerdt (2602613065) 
LOCATION:Freizeitpark Heerdt, Heerdter Landstraße 160, 40549 Düsseldorf
END:VEVENT
BEGIN:VEVENT
DTSTAMP:20260422T115121
DTSTART;TZID=Europe/Berlin:20260901T140000
DTEND;TZID=Europe/Berlin:20260901T161500
UID:2602613065-20260901T140000@DÜSSELDORF ASG-BILDUNGSFORUM
SUMMARY:Elterntipps to go im Freizeitpark Heerdt (2602613065) 
LOCATION:Freizeitpark Heerdt, Heerdter Landstraße 160, 40549 Düsseldorf
END:VEVENT
BEGIN:VEVENT
DTSTAMP:20260422T115121
DTSTART;TZID=Europe/Berlin:20260908T140000
DTEND;TZID=Europe/Berlin:20260908T161500
UID:2602613065-20260908T140000@DÜSSELDORF ASG-BILDUNGSFORUM
SUMMARY:Elterntipps to go im Freizeitpark Heerdt (2602613065) 
LOCATION:Freizeitpark Heerdt, Heerdter Landstraße 160, 40549 Düsseldorf
END:VEVENT
BEGIN:VEVENT
DTSTAMP:20260422T115121
DTSTART;TZID=Europe/Berlin:20260915T140000
DTEND;TZID=Europe/Berlin:20260915T161500
UID:2602613065-20260915T140000@DÜSSELDORF ASG-BILDUNGSFORUM
SUMMARY:Elterntipps to go im Freizeitpark Heerdt (2602613065) 
LOCATION:Freizeitpark Heerdt, Heerdter Landstraße 160, 40549 Düsseldorf
END:VEVENT
BEGIN:VEVENT
DTSTAMP:20260422T115121
DTSTART;TZID=Europe/Berlin:20260922T140000
DTEND;TZID=Europe/Berlin:20260922T161500
UID:2602613065-20260922T140000@DÜSSELDORF ASG-BILDUNGSFORUM
SUMMARY:Elterntipps to go im Freizeitpark Heerdt (2602613065) 
LOCATION:Freizeitpark Heerdt, Heerdter Landstraße 160, 40549 Düsseldorf
END:VEVENT
BEGIN:VEVENT
DTSTAMP:20260422T115121
DTSTART;TZID=Europe/Berlin:20260929T140000
DTEND;TZID=Europe/Berlin:20260929T161500
UID:2602613065-20260929T140000@DÜSSELDORF ASG-BILDUNGSFORUM
SUMMARY:Elterntipps to go im Freizeitpark Heerdt (2602613065) 
LOCATION:Freizeitpark Heerdt, Heerdter Landstraße 160, 40549 Düsseldorf
END:VEVENT
BEGIN:VEVENT
DTSTAMP:20260422T115121
DTSTART;TZID=Europe/Berlin:20261006T140000
DTEND;TZID=Europe/Berlin:20261006T161500
UID:2602613065-20261006T140000@DÜSSELDORF ASG-BILDUNGSFORUM
SUMMARY:Elterntipps to go im Freizeitpark Heerdt (2602613065) 
LOCATION:Freizeitpark Heerdt, Heerdter Landstraße 160, 40549 Düsseldorf
END:VEVENT
BEGIN:VEVENT
DTSTAMP:20260422T115121
DTSTART;TZID=Europe/Berlin:20261013T140000
DTEND;TZID=Europe/Berlin:20261013T161500
UID:2602613065-20261013T140000@DÜSSELDORF ASG-BILDUNGSFORUM
SUMMARY:Elterntipps to go im Freizeitpark Heerdt (2602613065) 
LOCATION:Freizeitpark Heerdt, Heerdter Landstraße 160, 40549 Düsseldorf
END:VEVENT
END:VCALENDAR