BEGIN:VCALENDAR
VERSION:2.0
PRODID:https://www.kufer.de/kuferweb / DE
METHOD:PUBLISH
CALSCALE:GREGORIAN
X-WR-TIMEZONE:Europe/Berlin
BEGIN:VTIMEZONE
TZID:Europe/Berlin
X-LIC-LOCATION:Europe/Berlin
BEGIN:DAYLIGHT
TZOFFSETFROM:+0100
TZOFFSETTO:+0200
TZNAME:CEST
DTSTART:19700329T020000
RRULE:FREQ=YEARLY;INTERVAL=1;BYDAY=-1SU;BYMONTH=3
END:DAYLIGHT
BEGIN:STANDARD
TZOFFSETFROM:+0200
TZOFFSETTO:+0100
TZNAME:CET
DTSTART:19701025T030000
RRULE:FREQ=YEARLY;INTERVAL=1;BYDAY=-1SU;BYMONTH=10
END:STANDARD
END:VTIMEZONE
BEGIN:VEVENT
DTSTAMP:20260421T225852
DTSTART;TZID=Europe/Berlin:20260910T140000
DTEND;TZID=Europe/Berlin:20260910T153000
UID:2602613072-20260910T140000@DÜSSELDORF ASG-BILDUNGSFORUM
SUMMARY:Sprach-Treff  Gemeinsam Deutsch lernen und sprechen (2602613072) 
LOCATION:Familienzentrum Heilige Familie, Carl-Sonnenschein-Straße 61, 40468 Düsseldorf
END:VEVENT
BEGIN:VEVENT
DTSTAMP:20260421T225852
DTSTART;TZID=Europe/Berlin:20260917T140000
DTEND;TZID=Europe/Berlin:20260917T153000
UID:2602613072-20260917T140000@DÜSSELDORF ASG-BILDUNGSFORUM
SUMMARY:Sprach-Treff  Gemeinsam Deutsch lernen und sprechen (2602613072) 
LOCATION:Familienzentrum Heilige Familie, Carl-Sonnenschein-Straße 61, 40468 Düsseldorf
END:VEVENT
BEGIN:VEVENT
DTSTAMP:20260421T225852
DTSTART;TZID=Europe/Berlin:20260924T140000
DTEND;TZID=Europe/Berlin:20260924T153000
UID:2602613072-20260924T140000@DÜSSELDORF ASG-BILDUNGSFORUM
SUMMARY:Sprach-Treff  Gemeinsam Deutsch lernen und sprechen (2602613072) 
LOCATION:Familienzentrum Heilige Familie, Carl-Sonnenschein-Straße 61, 40468 Düsseldorf
END:VEVENT
BEGIN:VEVENT
DTSTAMP:20260421T225852
DTSTART;TZID=Europe/Berlin:20261001T140000
DTEND;TZID=Europe/Berlin:20261001T153000
UID:2602613072-20261001T140000@DÜSSELDORF ASG-BILDUNGSFORUM
SUMMARY:Sprach-Treff  Gemeinsam Deutsch lernen und sprechen (2602613072) 
LOCATION:Familienzentrum Heilige Familie, Carl-Sonnenschein-Straße 61, 40468 Düsseldorf
END:VEVENT
BEGIN:VEVENT
DTSTAMP:20260421T225852
DTSTART;TZID=Europe/Berlin:20261008T140000
DTEND;TZID=Europe/Berlin:20261008T153000
UID:2602613072-20261008T140000@DÜSSELDORF ASG-BILDUNGSFORUM
SUMMARY:Sprach-Treff  Gemeinsam Deutsch lernen und sprechen (2602613072) 
LOCATION:Familienzentrum Heilige Familie, Carl-Sonnenschein-Straße 61, 40468 Düsseldorf
END:VEVENT
BEGIN:VEVENT
DTSTAMP:20260421T225852
DTSTART;TZID=Europe/Berlin:20261015T140000
DTEND;TZID=Europe/Berlin:20261015T153000
UID:2602613072-20261015T140000@DÜSSELDORF ASG-BILDUNGSFORUM
SUMMARY:Sprach-Treff  Gemeinsam Deutsch lernen und sprechen (2602613072) 
LOCATION:Familienzentrum Heilige Familie, Carl-Sonnenschein-Straße 61, 40468 Düsseldorf
END:VEVENT
BEGIN:VEVENT
DTSTAMP:20260421T225852
DTSTART;TZID=Europe/Berlin:20261105T140000
DTEND;TZID=Europe/Berlin:20261105T153000
UID:2602613072-20261105T140000@DÜSSELDORF ASG-BILDUNGSFORUM
SUMMARY:Sprach-Treff  Gemeinsam Deutsch lernen und sprechen (2602613072) 
LOCATION:Familienzentrum Heilige Familie, Carl-Sonnenschein-Straße 61, 40468 Düsseldorf
END:VEVENT
BEGIN:VEVENT
DTSTAMP:20260421T225852
DTSTART;TZID=Europe/Berlin:20261112T140000
DTEND;TZID=Europe/Berlin:20261112T153000
UID:2602613072-20261112T140000@DÜSSELDORF ASG-BILDUNGSFORUM
SUMMARY:Sprach-Treff  Gemeinsam Deutsch lernen und sprechen (2602613072) 
LOCATION:Familienzentrum Heilige Familie, Carl-Sonnenschein-Straße 61, 40468 Düsseldorf
END:VEVENT
BEGIN:VEVENT
DTSTAMP:20260421T225852
DTSTART;TZID=Europe/Berlin:20261119T140000
DTEND;TZID=Europe/Berlin:20261119T153000
UID:2602613072-20261119T140000@DÜSSELDORF ASG-BILDUNGSFORUM
SUMMARY:Sprach-Treff  Gemeinsam Deutsch lernen und sprechen (2602613072) 
LOCATION:Familienzentrum Heilige Familie, Carl-Sonnenschein-Straße 61, 40468 Düsseldorf
END:VEVENT
BEGIN:VEVENT
DTSTAMP:20260421T225852
DTSTART;TZID=Europe/Berlin:20261126T140000
DTEND;TZID=Europe/Berlin:20261126T153000
UID:2602613072-20261126T140000@DÜSSELDORF ASG-BILDUNGSFORUM
SUMMARY:Sprach-Treff  Gemeinsam Deutsch lernen und sprechen (2602613072) 
LOCATION:Familienzentrum Heilige Familie, Carl-Sonnenschein-Straße 61, 40468 Düsseldorf
END:VEVENT
BEGIN:VEVENT
DTSTAMP:20260421T225852
DTSTART;TZID=Europe/Berlin:20261203T140000
DTEND;TZID=Europe/Berlin:20261203T153000
UID:2602613072-20261203T140000@DÜSSELDORF ASG-BILDUNGSFORUM
SUMMARY:Sprach-Treff  Gemeinsam Deutsch lernen und sprechen (2602613072) 
LOCATION:Familienzentrum Heilige Familie, Carl-Sonnenschein-Straße 61, 40468 Düsseldorf
END:VEVENT
BEGIN:VEVENT
DTSTAMP:20260421T225852
DTSTART;TZID=Europe/Berlin:20261210T140000
DTEND;TZID=Europe/Berlin:20261210T153000
UID:2602613072-20261210T140000@DÜSSELDORF ASG-BILDUNGSFORUM
SUMMARY:Sprach-Treff  Gemeinsam Deutsch lernen und sprechen (2602613072) 
LOCATION:Familienzentrum Heilige Familie, Carl-Sonnenschein-Straße 61, 40468 Düsseldorf
END:VEVENT
END:VCALENDAR