BEGIN:VCALENDAR
VERSION:2.0
PRODID:https://www.kufer.de/kuferweb / DE
METHOD:PUBLISH
CALSCALE:GREGORIAN
X-WR-TIMEZONE:Europe/Berlin
BEGIN:VTIMEZONE
TZID:Europe/Berlin
X-LIC-LOCATION:Europe/Berlin
BEGIN:DAYLIGHT
TZOFFSETFROM:+0100
TZOFFSETTO:+0200
TZNAME:CEST
DTSTART:19700329T020000
RRULE:FREQ=YEARLY;INTERVAL=1;BYDAY=-1SU;BYMONTH=3
END:DAYLIGHT
BEGIN:STANDARD
TZOFFSETFROM:+0200
TZOFFSETTO:+0100
TZNAME:CET
DTSTART:19701025T030000
RRULE:FREQ=YEARLY;INTERVAL=1;BYDAY=-1SU;BYMONTH=10
END:STANDARD
END:VTIMEZONE
BEGIN:VEVENT
DTSTAMP:20260419T171811
DTSTART;TZID=Europe/Berlin:20260112T153000
DTEND;TZID=Europe/Berlin:20260112T163000
UID:2602621010-20260112T153000@DÜSSELDORF ASG-BILDUNGSFORUM
SUMMARY:Eltern-Kind-Kurs: Bewegung und Spiel Für Eltern und Kinder von 2 bis 3 Jahren (2602621010) 
LOCATION:ASG-M121;GY1, Münsterstraße 121, 40476 Düsseldorf
END:VEVENT
BEGIN:VEVENT
DTSTAMP:20260419T171811
DTSTART;TZID=Europe/Berlin:20260119T153000
DTEND;TZID=Europe/Berlin:20260119T163000
UID:2602621010-20260119T153000@DÜSSELDORF ASG-BILDUNGSFORUM
SUMMARY:Eltern-Kind-Kurs: Bewegung und Spiel Für Eltern und Kinder von 2 bis 3 Jahren (2602621010) 
LOCATION:ASG-M121;GY1, Münsterstraße 121, 40476 Düsseldorf
END:VEVENT
BEGIN:VEVENT
DTSTAMP:20260419T171811
DTSTART;TZID=Europe/Berlin:20260126T153000
DTEND;TZID=Europe/Berlin:20260126T163000
UID:2602621010-20260126T153000@DÜSSELDORF ASG-BILDUNGSFORUM
SUMMARY:Eltern-Kind-Kurs: Bewegung und Spiel Für Eltern und Kinder von 2 bis 3 Jahren (2602621010) 
LOCATION:ASG-M121;GY1, Münsterstraße 121, 40476 Düsseldorf
END:VEVENT
BEGIN:VEVENT
DTSTAMP:20260419T171811
DTSTART;TZID=Europe/Berlin:20260202T153000
DTEND;TZID=Europe/Berlin:20260202T163000
UID:2602621010-20260202T153000@DÜSSELDORF ASG-BILDUNGSFORUM
SUMMARY:Eltern-Kind-Kurs: Bewegung und Spiel Für Eltern und Kinder von 2 bis 3 Jahren (2602621010) 
LOCATION:ASG-M121;GY1, Münsterstraße 121, 40476 Düsseldorf
END:VEVENT
BEGIN:VEVENT
DTSTAMP:20260419T171811
DTSTART;TZID=Europe/Berlin:20260209T153000
DTEND;TZID=Europe/Berlin:20260209T163000
UID:2602621010-20260209T153000@DÜSSELDORF ASG-BILDUNGSFORUM
SUMMARY:Eltern-Kind-Kurs: Bewegung und Spiel Für Eltern und Kinder von 2 bis 3 Jahren (2602621010) 
LOCATION:ASG-M121;GY1, Münsterstraße 121, 40476 Düsseldorf
END:VEVENT
BEGIN:VEVENT
DTSTAMP:20260419T171811
DTSTART;TZID=Europe/Berlin:20260223T153000
DTEND;TZID=Europe/Berlin:20260223T163000
UID:2602621010-20260223T153000@DÜSSELDORF ASG-BILDUNGSFORUM
SUMMARY:Eltern-Kind-Kurs: Bewegung und Spiel Für Eltern und Kinder von 2 bis 3 Jahren (2602621010) 
LOCATION:ASG-M121;GY1, Münsterstraße 121, 40476 Düsseldorf
END:VEVENT
BEGIN:VEVENT
DTSTAMP:20260419T171811
DTSTART;TZID=Europe/Berlin:20260302T153000
DTEND;TZID=Europe/Berlin:20260302T163000
UID:2602621010-20260302T153000@DÜSSELDORF ASG-BILDUNGSFORUM
SUMMARY:Eltern-Kind-Kurs: Bewegung und Spiel Für Eltern und Kinder von 2 bis 3 Jahren (2602621010) 
LOCATION:ASG-M121;GY1, Münsterstraße 121, 40476 Düsseldorf
END:VEVENT
BEGIN:VEVENT
DTSTAMP:20260419T171811
DTSTART;TZID=Europe/Berlin:20260309T153000
DTEND;TZID=Europe/Berlin:20260309T163000
UID:2602621010-20260309T153000@DÜSSELDORF ASG-BILDUNGSFORUM
SUMMARY:Eltern-Kind-Kurs: Bewegung und Spiel Für Eltern und Kinder von 2 bis 3 Jahren (2602621010) 
LOCATION:ASG-M121;GY1, Münsterstraße 121, 40476 Düsseldorf
END:VEVENT
BEGIN:VEVENT
DTSTAMP:20260419T171811
DTSTART;TZID=Europe/Berlin:20260316T153000
DTEND;TZID=Europe/Berlin:20260316T163000
UID:2602621010-20260316T153000@DÜSSELDORF ASG-BILDUNGSFORUM
SUMMARY:Eltern-Kind-Kurs: Bewegung und Spiel Für Eltern und Kinder von 2 bis 3 Jahren (2602621010) 
LOCATION:ASG-M121;GY1, Münsterstraße 121, 40476 Düsseldorf
END:VEVENT
BEGIN:VEVENT
DTSTAMP:20260419T171811
DTSTART;TZID=Europe/Berlin:20260413T153000
DTEND;TZID=Europe/Berlin:20260413T163000
UID:2602621010-20260413T153000@DÜSSELDORF ASG-BILDUNGSFORUM
SUMMARY:Eltern-Kind-Kurs: Bewegung und Spiel Für Eltern und Kinder von 2 bis 3 Jahren (2602621010) 
LOCATION:ASG-M121;GY1, Münsterstraße 121, 40476 Düsseldorf
END:VEVENT
BEGIN:VEVENT
DTSTAMP:20260419T171811
DTSTART;TZID=Europe/Berlin:20260420T153000
DTEND;TZID=Europe/Berlin:20260420T163000
UID:2602621010-20260420T153000@DÜSSELDORF ASG-BILDUNGSFORUM
SUMMARY:Eltern-Kind-Kurs: Bewegung und Spiel Für Eltern und Kinder von 2 bis 3 Jahren (2602621010) 
LOCATION:ASG-M121;GY1, Münsterstraße 121, 40476 Düsseldorf
END:VEVENT
BEGIN:VEVENT
DTSTAMP:20260419T171811
DTSTART;TZID=Europe/Berlin:20260427T153000
DTEND;TZID=Europe/Berlin:20260427T163000
UID:2602621010-20260427T153000@DÜSSELDORF ASG-BILDUNGSFORUM
SUMMARY:Eltern-Kind-Kurs: Bewegung und Spiel Für Eltern und Kinder von 2 bis 3 Jahren (2602621010) 
LOCATION:ASG-M121;GY1, Münsterstraße 121, 40476 Düsseldorf
END:VEVENT
BEGIN:VEVENT
DTSTAMP:20260419T171811
DTSTART;TZID=Europe/Berlin:20260504T153000
DTEND;TZID=Europe/Berlin:20260504T163000
UID:2602621010-20260504T153000@DÜSSELDORF ASG-BILDUNGSFORUM
SUMMARY:Eltern-Kind-Kurs: Bewegung und Spiel Für Eltern und Kinder von 2 bis 3 Jahren (2602621010) 
LOCATION:ASG-M121;GY1, Münsterstraße 121, 40476 Düsseldorf
END:VEVENT
BEGIN:VEVENT
DTSTAMP:20260419T171811
DTSTART;TZID=Europe/Berlin:20260511T153000
DTEND;TZID=Europe/Berlin:20260511T163000
UID:2602621010-20260511T153000@DÜSSELDORF ASG-BILDUNGSFORUM
SUMMARY:Eltern-Kind-Kurs: Bewegung und Spiel Für Eltern und Kinder von 2 bis 3 Jahren (2602621010) 
LOCATION:ASG-M121;GY1, Münsterstraße 121, 40476 Düsseldorf
END:VEVENT
BEGIN:VEVENT
DTSTAMP:20260419T171811
DTSTART;TZID=Europe/Berlin:20260518T153000
DTEND;TZID=Europe/Berlin:20260518T163000
UID:2602621010-20260518T153000@DÜSSELDORF ASG-BILDUNGSFORUM
SUMMARY:Eltern-Kind-Kurs: Bewegung und Spiel Für Eltern und Kinder von 2 bis 3 Jahren (2602621010) 
LOCATION:ASG-M121;GY1, Münsterstraße 121, 40476 Düsseldorf
END:VEVENT
BEGIN:VEVENT
DTSTAMP:20260419T171811
DTSTART;TZID=Europe/Berlin:20260601T153000
DTEND;TZID=Europe/Berlin:20260601T163000
UID:2602621010-20260601T153000@DÜSSELDORF ASG-BILDUNGSFORUM
SUMMARY:Eltern-Kind-Kurs: Bewegung und Spiel Für Eltern und Kinder von 2 bis 3 Jahren (2602621010) 
LOCATION:ASG-M121;GY1, Münsterstraße 121, 40476 Düsseldorf
END:VEVENT
BEGIN:VEVENT
DTSTAMP:20260419T171811
DTSTART;TZID=Europe/Berlin:20260608T153000
DTEND;TZID=Europe/Berlin:20260608T163000
UID:2602621010-20260608T153000@DÜSSELDORF ASG-BILDUNGSFORUM
SUMMARY:Eltern-Kind-Kurs: Bewegung und Spiel Für Eltern und Kinder von 2 bis 3 Jahren (2602621010) 
LOCATION:ASG-M121;GY1, Münsterstraße 121, 40476 Düsseldorf
END:VEVENT
BEGIN:VEVENT
DTSTAMP:20260419T171811
DTSTART;TZID=Europe/Berlin:20260615T153000
DTEND;TZID=Europe/Berlin:20260615T163000
UID:2602621010-20260615T153000@DÜSSELDORF ASG-BILDUNGSFORUM
SUMMARY:Eltern-Kind-Kurs: Bewegung und Spiel Für Eltern und Kinder von 2 bis 3 Jahren (2602621010) 
LOCATION:ASG-M121;GY1, Münsterstraße 121, 40476 Düsseldorf
END:VEVENT
BEGIN:VEVENT
DTSTAMP:20260419T171811
DTSTART;TZID=Europe/Berlin:20260622T153000
DTEND;TZID=Europe/Berlin:20260622T163000
UID:2602621010-20260622T153000@DÜSSELDORF ASG-BILDUNGSFORUM
SUMMARY:Eltern-Kind-Kurs: Bewegung und Spiel Für Eltern und Kinder von 2 bis 3 Jahren (2602621010) 
LOCATION:ASG-M121;GY1, Münsterstraße 121, 40476 Düsseldorf
END:VEVENT
BEGIN:VEVENT
DTSTAMP:20260419T171811
DTSTART;TZID=Europe/Berlin:20260629T153000
DTEND;TZID=Europe/Berlin:20260629T163000
UID:2602621010-20260629T153000@DÜSSELDORF ASG-BILDUNGSFORUM
SUMMARY:Eltern-Kind-Kurs: Bewegung und Spiel Für Eltern und Kinder von 2 bis 3 Jahren (2602621010) 
LOCATION:ASG-M121;GY1, Münsterstraße 121, 40476 Düsseldorf
END:VEVENT
BEGIN:VEVENT
DTSTAMP:20260419T171811
DTSTART;TZID=Europe/Berlin:20260706T153000
DTEND;TZID=Europe/Berlin:20260706T163000
UID:2602621010-20260706T153000@DÜSSELDORF ASG-BILDUNGSFORUM
SUMMARY:Eltern-Kind-Kurs: Bewegung und Spiel Für Eltern und Kinder von 2 bis 3 Jahren (2602621010) 
LOCATION:ASG-M121;GY1, Münsterstraße 121, 40476 Düsseldorf
END:VEVENT
BEGIN:VEVENT
DTSTAMP:20260419T171811
DTSTART;TZID=Europe/Berlin:20260713T153000
DTEND;TZID=Europe/Berlin:20260713T163000
UID:2602621010-20260713T153000@DÜSSELDORF ASG-BILDUNGSFORUM
SUMMARY:Eltern-Kind-Kurs: Bewegung und Spiel Für Eltern und Kinder von 2 bis 3 Jahren (2602621010) 
LOCATION:ASG-M121;GY1, Münsterstraße 121, 40476 Düsseldorf
END:VEVENT
END:VCALENDAR