BEGIN:VCALENDAR
VERSION:2.0
PRODID:https://www.kufer.de/kuferweb / DE
METHOD:PUBLISH
CALSCALE:GREGORIAN
X-WR-TIMEZONE:Europe/Berlin
BEGIN:VTIMEZONE
TZID:Europe/Berlin
X-LIC-LOCATION:Europe/Berlin
BEGIN:DAYLIGHT
TZOFFSETFROM:+0100
TZOFFSETTO:+0200
TZNAME:CEST
DTSTART:19700329T020000
RRULE:FREQ=YEARLY;INTERVAL=1;BYDAY=-1SU;BYMONTH=3
END:DAYLIGHT
BEGIN:STANDARD
TZOFFSETFROM:+0200
TZOFFSETTO:+0100
TZNAME:CET
DTSTART:19701025T030000
RRULE:FREQ=YEARLY;INTERVAL=1;BYDAY=-1SU;BYMONTH=10
END:STANDARD
END:VTIMEZONE
BEGIN:VEVENT
DTSTAMP:20260421T001040
DTSTART;TZID=Europe/Berlin:20260112T163000
DTEND;TZID=Europe/Berlin:20260112T173000
UID:2602621011-20260112T163000@DÜSSELDORF ASG-BILDUNGSFORUM
SUMMARY:Eltern-Kind-Kurs: Bewegung und Spiel Eltern-Kind-Kurs: Konzentrationstraining mit Bewegung und Spiel (2602621011) 
LOCATION:ASG-M121;GY1, Münsterstraße 121, 40476 Düsseldorf
END:VEVENT
BEGIN:VEVENT
DTSTAMP:20260421T001040
DTSTART;TZID=Europe/Berlin:20260119T163000
DTEND;TZID=Europe/Berlin:20260119T173000
UID:2602621011-20260119T163000@DÜSSELDORF ASG-BILDUNGSFORUM
SUMMARY:Eltern-Kind-Kurs: Bewegung und Spiel Eltern-Kind-Kurs: Konzentrationstraining mit Bewegung und Spiel (2602621011) 
LOCATION:ASG-M121;GY1, Münsterstraße 121, 40476 Düsseldorf
END:VEVENT
BEGIN:VEVENT
DTSTAMP:20260421T001040
DTSTART;TZID=Europe/Berlin:20260126T163000
DTEND;TZID=Europe/Berlin:20260126T173000
UID:2602621011-20260126T163000@DÜSSELDORF ASG-BILDUNGSFORUM
SUMMARY:Eltern-Kind-Kurs: Bewegung und Spiel Eltern-Kind-Kurs: Konzentrationstraining mit Bewegung und Spiel (2602621011) 
LOCATION:ASG-M121;GY1, Münsterstraße 121, 40476 Düsseldorf
END:VEVENT
BEGIN:VEVENT
DTSTAMP:20260421T001040
DTSTART;TZID=Europe/Berlin:20260202T163000
DTEND;TZID=Europe/Berlin:20260202T173000
UID:2602621011-20260202T163000@DÜSSELDORF ASG-BILDUNGSFORUM
SUMMARY:Eltern-Kind-Kurs: Bewegung und Spiel Eltern-Kind-Kurs: Konzentrationstraining mit Bewegung und Spiel (2602621011) 
LOCATION:ASG-M121;GY1, Münsterstraße 121, 40476 Düsseldorf
END:VEVENT
BEGIN:VEVENT
DTSTAMP:20260421T001040
DTSTART;TZID=Europe/Berlin:20260209T163000
DTEND;TZID=Europe/Berlin:20260209T173000
UID:2602621011-20260209T163000@DÜSSELDORF ASG-BILDUNGSFORUM
SUMMARY:Eltern-Kind-Kurs: Bewegung und Spiel Eltern-Kind-Kurs: Konzentrationstraining mit Bewegung und Spiel (2602621011) 
LOCATION:ASG-M121;GY1, Münsterstraße 121, 40476 Düsseldorf
END:VEVENT
BEGIN:VEVENT
DTSTAMP:20260421T001040
DTSTART;TZID=Europe/Berlin:20260223T163000
DTEND;TZID=Europe/Berlin:20260223T173000
UID:2602621011-20260223T163000@DÜSSELDORF ASG-BILDUNGSFORUM
SUMMARY:Eltern-Kind-Kurs: Bewegung und Spiel Eltern-Kind-Kurs: Konzentrationstraining mit Bewegung und Spiel (2602621011) 
LOCATION:ASG-M121;GY1, Münsterstraße 121, 40476 Düsseldorf
END:VEVENT
BEGIN:VEVENT
DTSTAMP:20260421T001040
DTSTART;TZID=Europe/Berlin:20260302T163000
DTEND;TZID=Europe/Berlin:20260302T173000
UID:2602621011-20260302T163000@DÜSSELDORF ASG-BILDUNGSFORUM
SUMMARY:Eltern-Kind-Kurs: Bewegung und Spiel Eltern-Kind-Kurs: Konzentrationstraining mit Bewegung und Spiel (2602621011) 
LOCATION:ASG-M121;GY1, Münsterstraße 121, 40476 Düsseldorf
END:VEVENT
BEGIN:VEVENT
DTSTAMP:20260421T001040
DTSTART;TZID=Europe/Berlin:20260309T163000
DTEND;TZID=Europe/Berlin:20260309T173000
UID:2602621011-20260309T163000@DÜSSELDORF ASG-BILDUNGSFORUM
SUMMARY:Eltern-Kind-Kurs: Bewegung und Spiel Eltern-Kind-Kurs: Konzentrationstraining mit Bewegung und Spiel (2602621011) 
LOCATION:ASG-M121;GY1, Münsterstraße 121, 40476 Düsseldorf
END:VEVENT
BEGIN:VEVENT
DTSTAMP:20260421T001040
DTSTART;TZID=Europe/Berlin:20260316T163000
DTEND;TZID=Europe/Berlin:20260316T173000
UID:2602621011-20260316T163000@DÜSSELDORF ASG-BILDUNGSFORUM
SUMMARY:Eltern-Kind-Kurs: Bewegung und Spiel Eltern-Kind-Kurs: Konzentrationstraining mit Bewegung und Spiel (2602621011) 
LOCATION:ASG-M121;GY1, Münsterstraße 121, 40476 Düsseldorf
END:VEVENT
BEGIN:VEVENT
DTSTAMP:20260421T001040
DTSTART;TZID=Europe/Berlin:20260413T163000
DTEND;TZID=Europe/Berlin:20260413T173000
UID:2602621011-20260413T163000@DÜSSELDORF ASG-BILDUNGSFORUM
SUMMARY:Eltern-Kind-Kurs: Bewegung und Spiel Eltern-Kind-Kurs: Konzentrationstraining mit Bewegung und Spiel (2602621011) 
LOCATION:ASG-M121;GY1, Münsterstraße 121, 40476 Düsseldorf
END:VEVENT
BEGIN:VEVENT
DTSTAMP:20260421T001040
DTSTART;TZID=Europe/Berlin:20260420T163000
DTEND;TZID=Europe/Berlin:20260420T173000
UID:2602621011-20260420T163000@DÜSSELDORF ASG-BILDUNGSFORUM
SUMMARY:Eltern-Kind-Kurs: Bewegung und Spiel Eltern-Kind-Kurs: Konzentrationstraining mit Bewegung und Spiel (2602621011) 
LOCATION:ASG-M121;GY1, Münsterstraße 121, 40476 Düsseldorf
END:VEVENT
BEGIN:VEVENT
DTSTAMP:20260421T001040
DTSTART;TZID=Europe/Berlin:20260427T163000
DTEND;TZID=Europe/Berlin:20260427T173000
UID:2602621011-20260427T163000@DÜSSELDORF ASG-BILDUNGSFORUM
SUMMARY:Eltern-Kind-Kurs: Bewegung und Spiel Eltern-Kind-Kurs: Konzentrationstraining mit Bewegung und Spiel (2602621011) 
LOCATION:ASG-M121;GY1, Münsterstraße 121, 40476 Düsseldorf
END:VEVENT
BEGIN:VEVENT
DTSTAMP:20260421T001040
DTSTART;TZID=Europe/Berlin:20260504T163000
DTEND;TZID=Europe/Berlin:20260504T173000
UID:2602621011-20260504T163000@DÜSSELDORF ASG-BILDUNGSFORUM
SUMMARY:Eltern-Kind-Kurs: Bewegung und Spiel Eltern-Kind-Kurs: Konzentrationstraining mit Bewegung und Spiel (2602621011) 
LOCATION:ASG-M121;GY1, Münsterstraße 121, 40476 Düsseldorf
END:VEVENT
BEGIN:VEVENT
DTSTAMP:20260421T001040
DTSTART;TZID=Europe/Berlin:20260511T163000
DTEND;TZID=Europe/Berlin:20260511T173000
UID:2602621011-20260511T163000@DÜSSELDORF ASG-BILDUNGSFORUM
SUMMARY:Eltern-Kind-Kurs: Bewegung und Spiel Eltern-Kind-Kurs: Konzentrationstraining mit Bewegung und Spiel (2602621011) 
LOCATION:ASG-M121;GY1, Münsterstraße 121, 40476 Düsseldorf
END:VEVENT
BEGIN:VEVENT
DTSTAMP:20260421T001040
DTSTART;TZID=Europe/Berlin:20260518T163000
DTEND;TZID=Europe/Berlin:20260518T173000
UID:2602621011-20260518T163000@DÜSSELDORF ASG-BILDUNGSFORUM
SUMMARY:Eltern-Kind-Kurs: Bewegung und Spiel Eltern-Kind-Kurs: Konzentrationstraining mit Bewegung und Spiel (2602621011) 
LOCATION:ASG-M121;GY1, Münsterstraße 121, 40476 Düsseldorf
END:VEVENT
BEGIN:VEVENT
DTSTAMP:20260421T001040
DTSTART;TZID=Europe/Berlin:20260601T163000
DTEND;TZID=Europe/Berlin:20260601T173000
UID:2602621011-20260601T163000@DÜSSELDORF ASG-BILDUNGSFORUM
SUMMARY:Eltern-Kind-Kurs: Bewegung und Spiel Eltern-Kind-Kurs: Konzentrationstraining mit Bewegung und Spiel (2602621011) 
LOCATION:ASG-M121;GY1, Münsterstraße 121, 40476 Düsseldorf
END:VEVENT
BEGIN:VEVENT
DTSTAMP:20260421T001040
DTSTART;TZID=Europe/Berlin:20260608T163000
DTEND;TZID=Europe/Berlin:20260608T173000
UID:2602621011-20260608T163000@DÜSSELDORF ASG-BILDUNGSFORUM
SUMMARY:Eltern-Kind-Kurs: Bewegung und Spiel Eltern-Kind-Kurs: Konzentrationstraining mit Bewegung und Spiel (2602621011) 
LOCATION:ASG-M121;GY1, Münsterstraße 121, 40476 Düsseldorf
END:VEVENT
BEGIN:VEVENT
DTSTAMP:20260421T001040
DTSTART;TZID=Europe/Berlin:20260615T163000
DTEND;TZID=Europe/Berlin:20260615T173000
UID:2602621011-20260615T163000@DÜSSELDORF ASG-BILDUNGSFORUM
SUMMARY:Eltern-Kind-Kurs: Bewegung und Spiel Eltern-Kind-Kurs: Konzentrationstraining mit Bewegung und Spiel (2602621011) 
LOCATION:ASG-M121;GY1, Münsterstraße 121, 40476 Düsseldorf
END:VEVENT
BEGIN:VEVENT
DTSTAMP:20260421T001040
DTSTART;TZID=Europe/Berlin:20260622T163000
DTEND;TZID=Europe/Berlin:20260622T173000
UID:2602621011-20260622T163000@DÜSSELDORF ASG-BILDUNGSFORUM
SUMMARY:Eltern-Kind-Kurs: Bewegung und Spiel Eltern-Kind-Kurs: Konzentrationstraining mit Bewegung und Spiel (2602621011) 
LOCATION:ASG-M121;GY1, Münsterstraße 121, 40476 Düsseldorf
END:VEVENT
BEGIN:VEVENT
DTSTAMP:20260421T001040
DTSTART;TZID=Europe/Berlin:20260629T163000
DTEND;TZID=Europe/Berlin:20260629T173000
UID:2602621011-20260629T163000@DÜSSELDORF ASG-BILDUNGSFORUM
SUMMARY:Eltern-Kind-Kurs: Bewegung und Spiel Eltern-Kind-Kurs: Konzentrationstraining mit Bewegung und Spiel (2602621011) 
LOCATION:ASG-M121;GY1, Münsterstraße 121, 40476 Düsseldorf
END:VEVENT
BEGIN:VEVENT
DTSTAMP:20260421T001040
DTSTART;TZID=Europe/Berlin:20260706T163000
DTEND;TZID=Europe/Berlin:20260706T173000
UID:2602621011-20260706T163000@DÜSSELDORF ASG-BILDUNGSFORUM
SUMMARY:Eltern-Kind-Kurs: Bewegung und Spiel Eltern-Kind-Kurs: Konzentrationstraining mit Bewegung und Spiel (2602621011) 
LOCATION:ASG-M121;GY1, Münsterstraße 121, 40476 Düsseldorf
END:VEVENT
BEGIN:VEVENT
DTSTAMP:20260421T001040
DTSTART;TZID=Europe/Berlin:20260713T163000
DTEND;TZID=Europe/Berlin:20260713T173000
UID:2602621011-20260713T163000@DÜSSELDORF ASG-BILDUNGSFORUM
SUMMARY:Eltern-Kind-Kurs: Bewegung und Spiel Eltern-Kind-Kurs: Konzentrationstraining mit Bewegung und Spiel (2602621011) 
LOCATION:ASG-M121;GY1, Münsterstraße 121, 40476 Düsseldorf
END:VEVENT
END:VCALENDAR