BEGIN:VCALENDAR
VERSION:2.0
PRODID:https://www.kufer.de/kuferweb / DE
METHOD:PUBLISH
CALSCALE:GREGORIAN
X-WR-TIMEZONE:Europe/Berlin
BEGIN:VTIMEZONE
TZID:Europe/Berlin
X-LIC-LOCATION:Europe/Berlin
BEGIN:DAYLIGHT
TZOFFSETFROM:+0100
TZOFFSETTO:+0200
TZNAME:CEST
DTSTART:19700329T020000
RRULE:FREQ=YEARLY;INTERVAL=1;BYDAY=-1SU;BYMONTH=3
END:DAYLIGHT
BEGIN:STANDARD
TZOFFSETFROM:+0200
TZOFFSETTO:+0100
TZNAME:CET
DTSTART:19701025T030000
RRULE:FREQ=YEARLY;INTERVAL=1;BYDAY=-1SU;BYMONTH=10
END:STANDARD
END:VTIMEZONE
BEGIN:VEVENT
DTSTAMP:20260420T021117
DTSTART;TZID=Europe/Berlin:20260113T153000
DTEND;TZID=Europe/Berlin:20260113T163000
UID:2602621012-20260113T153000@DÜSSELDORF ASG-BILDUNGSFORUM
SUMMARY:Eltern-Kind-Kurs: Bewegung und Spiel Für Eltern und Kinder von 3 bis 4 Jahren (2602621012) 
LOCATION:ASG-M121;GY1, Münsterstraße 121, 40476 Düsseldorf
END:VEVENT
BEGIN:VEVENT
DTSTAMP:20260420T021117
DTSTART;TZID=Europe/Berlin:20260120T153000
DTEND;TZID=Europe/Berlin:20260120T163000
UID:2602621012-20260120T153000@DÜSSELDORF ASG-BILDUNGSFORUM
SUMMARY:Eltern-Kind-Kurs: Bewegung und Spiel Für Eltern und Kinder von 3 bis 4 Jahren (2602621012) 
LOCATION:ASG-M121;GY1, Münsterstraße 121, 40476 Düsseldorf
END:VEVENT
BEGIN:VEVENT
DTSTAMP:20260420T021117
DTSTART;TZID=Europe/Berlin:20260127T153000
DTEND;TZID=Europe/Berlin:20260127T163000
UID:2602621012-20260127T153000@DÜSSELDORF ASG-BILDUNGSFORUM
SUMMARY:Eltern-Kind-Kurs: Bewegung und Spiel Für Eltern und Kinder von 3 bis 4 Jahren (2602621012) 
LOCATION:ASG-M121;GY1, Münsterstraße 121, 40476 Düsseldorf
END:VEVENT
BEGIN:VEVENT
DTSTAMP:20260420T021117
DTSTART;TZID=Europe/Berlin:20260203T153000
DTEND;TZID=Europe/Berlin:20260203T163000
UID:2602621012-20260203T153000@DÜSSELDORF ASG-BILDUNGSFORUM
SUMMARY:Eltern-Kind-Kurs: Bewegung und Spiel Für Eltern und Kinder von 3 bis 4 Jahren (2602621012) 
LOCATION:ASG-M121;GY1, Münsterstraße 121, 40476 Düsseldorf
END:VEVENT
BEGIN:VEVENT
DTSTAMP:20260420T021117
DTSTART;TZID=Europe/Berlin:20260210T153000
DTEND;TZID=Europe/Berlin:20260210T163000
UID:2602621012-20260210T153000@DÜSSELDORF ASG-BILDUNGSFORUM
SUMMARY:Eltern-Kind-Kurs: Bewegung und Spiel Für Eltern und Kinder von 3 bis 4 Jahren (2602621012) 
LOCATION:ASG-M121;GY1, Münsterstraße 121, 40476 Düsseldorf
END:VEVENT
BEGIN:VEVENT
DTSTAMP:20260420T021117
DTSTART;TZID=Europe/Berlin:20260217T153000
DTEND;TZID=Europe/Berlin:20260217T163000
UID:2602621012-20260217T153000@DÜSSELDORF ASG-BILDUNGSFORUM
SUMMARY:Eltern-Kind-Kurs: Bewegung und Spiel Für Eltern und Kinder von 3 bis 4 Jahren (2602621012) 
LOCATION:ASG-M121;GY1, Münsterstraße 121, 40476 Düsseldorf
END:VEVENT
BEGIN:VEVENT
DTSTAMP:20260420T021117
DTSTART;TZID=Europe/Berlin:20260224T153000
DTEND;TZID=Europe/Berlin:20260224T163000
UID:2602621012-20260224T153000@DÜSSELDORF ASG-BILDUNGSFORUM
SUMMARY:Eltern-Kind-Kurs: Bewegung und Spiel Für Eltern und Kinder von 3 bis 4 Jahren (2602621012) 
LOCATION:ASG-M121;GY1, Münsterstraße 121, 40476 Düsseldorf
END:VEVENT
BEGIN:VEVENT
DTSTAMP:20260420T021117
DTSTART;TZID=Europe/Berlin:20260303T153000
DTEND;TZID=Europe/Berlin:20260303T163000
UID:2602621012-20260303T153000@DÜSSELDORF ASG-BILDUNGSFORUM
SUMMARY:Eltern-Kind-Kurs: Bewegung und Spiel Für Eltern und Kinder von 3 bis 4 Jahren (2602621012) 
LOCATION:ASG-M121;GY1, Münsterstraße 121, 40476 Düsseldorf
END:VEVENT
BEGIN:VEVENT
DTSTAMP:20260420T021117
DTSTART;TZID=Europe/Berlin:20260310T153000
DTEND;TZID=Europe/Berlin:20260310T163000
UID:2602621012-20260310T153000@DÜSSELDORF ASG-BILDUNGSFORUM
SUMMARY:Eltern-Kind-Kurs: Bewegung und Spiel Für Eltern und Kinder von 3 bis 4 Jahren (2602621012) 
LOCATION:ASG-M121;GY1, Münsterstraße 121, 40476 Düsseldorf
END:VEVENT
BEGIN:VEVENT
DTSTAMP:20260420T021117
DTSTART;TZID=Europe/Berlin:20260317T153000
DTEND;TZID=Europe/Berlin:20260317T163000
UID:2602621012-20260317T153000@DÜSSELDORF ASG-BILDUNGSFORUM
SUMMARY:Eltern-Kind-Kurs: Bewegung und Spiel Für Eltern und Kinder von 3 bis 4 Jahren (2602621012) 
LOCATION:ASG-M121;GY1, Münsterstraße 121, 40476 Düsseldorf
END:VEVENT
BEGIN:VEVENT
DTSTAMP:20260420T021117
DTSTART;TZID=Europe/Berlin:20260414T153000
DTEND;TZID=Europe/Berlin:20260414T163000
UID:2602621012-20260414T153000@DÜSSELDORF ASG-BILDUNGSFORUM
SUMMARY:Eltern-Kind-Kurs: Bewegung und Spiel Für Eltern und Kinder von 3 bis 4 Jahren (2602621012) 
LOCATION:ASG-M121;GY1, Münsterstraße 121, 40476 Düsseldorf
END:VEVENT
BEGIN:VEVENT
DTSTAMP:20260420T021117
DTSTART;TZID=Europe/Berlin:20260421T153000
DTEND;TZID=Europe/Berlin:20260421T163000
UID:2602621012-20260421T153000@DÜSSELDORF ASG-BILDUNGSFORUM
SUMMARY:Eltern-Kind-Kurs: Bewegung und Spiel Für Eltern und Kinder von 3 bis 4 Jahren (2602621012) 
LOCATION:ASG-M121;GY1, Münsterstraße 121, 40476 Düsseldorf
END:VEVENT
BEGIN:VEVENT
DTSTAMP:20260420T021117
DTSTART;TZID=Europe/Berlin:20260428T153000
DTEND;TZID=Europe/Berlin:20260428T163000
UID:2602621012-20260428T153000@DÜSSELDORF ASG-BILDUNGSFORUM
SUMMARY:Eltern-Kind-Kurs: Bewegung und Spiel Für Eltern und Kinder von 3 bis 4 Jahren (2602621012) 
LOCATION:ASG-M121;GY1, Münsterstraße 121, 40476 Düsseldorf
END:VEVENT
BEGIN:VEVENT
DTSTAMP:20260420T021117
DTSTART;TZID=Europe/Berlin:20260505T153000
DTEND;TZID=Europe/Berlin:20260505T163000
UID:2602621012-20260505T153000@DÜSSELDORF ASG-BILDUNGSFORUM
SUMMARY:Eltern-Kind-Kurs: Bewegung und Spiel Für Eltern und Kinder von 3 bis 4 Jahren (2602621012) 
LOCATION:ASG-M121;GY1, Münsterstraße 121, 40476 Düsseldorf
END:VEVENT
BEGIN:VEVENT
DTSTAMP:20260420T021117
DTSTART;TZID=Europe/Berlin:20260512T153000
DTEND;TZID=Europe/Berlin:20260512T163000
UID:2602621012-20260512T153000@DÜSSELDORF ASG-BILDUNGSFORUM
SUMMARY:Eltern-Kind-Kurs: Bewegung und Spiel Für Eltern und Kinder von 3 bis 4 Jahren (2602621012) 
LOCATION:ASG-M121;GY1, Münsterstraße 121, 40476 Düsseldorf
END:VEVENT
BEGIN:VEVENT
DTSTAMP:20260420T021117
DTSTART;TZID=Europe/Berlin:20260519T153000
DTEND;TZID=Europe/Berlin:20260519T163000
UID:2602621012-20260519T153000@DÜSSELDORF ASG-BILDUNGSFORUM
SUMMARY:Eltern-Kind-Kurs: Bewegung und Spiel Für Eltern und Kinder von 3 bis 4 Jahren (2602621012) 
LOCATION:ASG-M121;GY1, Münsterstraße 121, 40476 Düsseldorf
END:VEVENT
BEGIN:VEVENT
DTSTAMP:20260420T021117
DTSTART;TZID=Europe/Berlin:20260526T153000
DTEND;TZID=Europe/Berlin:20260526T163000
UID:2602621012-20260526T153000@DÜSSELDORF ASG-BILDUNGSFORUM
SUMMARY:Eltern-Kind-Kurs: Bewegung und Spiel Für Eltern und Kinder von 3 bis 4 Jahren (2602621012) 
LOCATION:ASG-M121;GY1, Münsterstraße 121, 40476 Düsseldorf
END:VEVENT
BEGIN:VEVENT
DTSTAMP:20260420T021117
DTSTART;TZID=Europe/Berlin:20260602T153000
DTEND;TZID=Europe/Berlin:20260602T163000
UID:2602621012-20260602T153000@DÜSSELDORF ASG-BILDUNGSFORUM
SUMMARY:Eltern-Kind-Kurs: Bewegung und Spiel Für Eltern und Kinder von 3 bis 4 Jahren (2602621012) 
LOCATION:ASG-M121;GY1, Münsterstraße 121, 40476 Düsseldorf
END:VEVENT
BEGIN:VEVENT
DTSTAMP:20260420T021117
DTSTART;TZID=Europe/Berlin:20260609T153000
DTEND;TZID=Europe/Berlin:20260609T163000
UID:2602621012-20260609T153000@DÜSSELDORF ASG-BILDUNGSFORUM
SUMMARY:Eltern-Kind-Kurs: Bewegung und Spiel Für Eltern und Kinder von 3 bis 4 Jahren (2602621012) 
LOCATION:ASG-M121;GY1, Münsterstraße 121, 40476 Düsseldorf
END:VEVENT
BEGIN:VEVENT
DTSTAMP:20260420T021117
DTSTART;TZID=Europe/Berlin:20260616T153000
DTEND;TZID=Europe/Berlin:20260616T163000
UID:2602621012-20260616T153000@DÜSSELDORF ASG-BILDUNGSFORUM
SUMMARY:Eltern-Kind-Kurs: Bewegung und Spiel Für Eltern und Kinder von 3 bis 4 Jahren (2602621012) 
LOCATION:ASG-M121;GY1, Münsterstraße 121, 40476 Düsseldorf
END:VEVENT
BEGIN:VEVENT
DTSTAMP:20260420T021117
DTSTART;TZID=Europe/Berlin:20260623T153000
DTEND;TZID=Europe/Berlin:20260623T163000
UID:2602621012-20260623T153000@DÜSSELDORF ASG-BILDUNGSFORUM
SUMMARY:Eltern-Kind-Kurs: Bewegung und Spiel Für Eltern und Kinder von 3 bis 4 Jahren (2602621012) 
LOCATION:ASG-M121;GY1, Münsterstraße 121, 40476 Düsseldorf
END:VEVENT
BEGIN:VEVENT
DTSTAMP:20260420T021117
DTSTART;TZID=Europe/Berlin:20260630T153000
DTEND;TZID=Europe/Berlin:20260630T163000
UID:2602621012-20260630T153000@DÜSSELDORF ASG-BILDUNGSFORUM
SUMMARY:Eltern-Kind-Kurs: Bewegung und Spiel Für Eltern und Kinder von 3 bis 4 Jahren (2602621012) 
LOCATION:ASG-M121;GY1, Münsterstraße 121, 40476 Düsseldorf
END:VEVENT
BEGIN:VEVENT
DTSTAMP:20260420T021117
DTSTART;TZID=Europe/Berlin:20260707T153000
DTEND;TZID=Europe/Berlin:20260707T163000
UID:2602621012-20260707T153000@DÜSSELDORF ASG-BILDUNGSFORUM
SUMMARY:Eltern-Kind-Kurs: Bewegung und Spiel Für Eltern und Kinder von 3 bis 4 Jahren (2602621012) 
LOCATION:ASG-M121;GY1, Münsterstraße 121, 40476 Düsseldorf
END:VEVENT
BEGIN:VEVENT
DTSTAMP:20260420T021117
DTSTART;TZID=Europe/Berlin:20260714T153000
DTEND;TZID=Europe/Berlin:20260714T163000
UID:2602621012-20260714T153000@DÜSSELDORF ASG-BILDUNGSFORUM
SUMMARY:Eltern-Kind-Kurs: Bewegung und Spiel Für Eltern und Kinder von 3 bis 4 Jahren (2602621012) 
LOCATION:ASG-M121;GY1, Münsterstraße 121, 40476 Düsseldorf
END:VEVENT
END:VCALENDAR