BEGIN:VCALENDAR
VERSION:2.0
PRODID:https://www.kufer.de/kuferweb / DE
METHOD:PUBLISH
CALSCALE:GREGORIAN
X-WR-TIMEZONE:Europe/Berlin
BEGIN:VTIMEZONE
TZID:Europe/Berlin
X-LIC-LOCATION:Europe/Berlin
BEGIN:DAYLIGHT
TZOFFSETFROM:+0100
TZOFFSETTO:+0200
TZNAME:CEST
DTSTART:19700329T020000
RRULE:FREQ=YEARLY;INTERVAL=1;BYDAY=-1SU;BYMONTH=3
END:DAYLIGHT
BEGIN:STANDARD
TZOFFSETFROM:+0200
TZOFFSETTO:+0100
TZNAME:CET
DTSTART:19701025T030000
RRULE:FREQ=YEARLY;INTERVAL=1;BYDAY=-1SU;BYMONTH=10
END:STANDARD
END:VTIMEZONE
BEGIN:VEVENT
DTSTAMP:20260419T185438
DTSTART;TZID=Europe/Berlin:20260113T163000
DTEND;TZID=Europe/Berlin:20260113T173000
UID:2602621013-20260113T163000@DÜSSELDORF ASG-BILDUNGSFORUM
SUMMARY:Eltern-Kind-Kurs: Konzentrationstraining mit Bewegung und Spiel Für Eltern und Kinder von 4 bis 5 Jahren (2602621013) 
LOCATION:ASG-M121;GY1, Münsterstraße 121, 40476 Düsseldorf
END:VEVENT
BEGIN:VEVENT
DTSTAMP:20260419T185438
DTSTART;TZID=Europe/Berlin:20260120T163000
DTEND;TZID=Europe/Berlin:20260120T173000
UID:2602621013-20260120T163000@DÜSSELDORF ASG-BILDUNGSFORUM
SUMMARY:Eltern-Kind-Kurs: Konzentrationstraining mit Bewegung und Spiel Für Eltern und Kinder von 4 bis 5 Jahren (2602621013) 
LOCATION:ASG-M121;GY1, Münsterstraße 121, 40476 Düsseldorf
END:VEVENT
BEGIN:VEVENT
DTSTAMP:20260419T185438
DTSTART;TZID=Europe/Berlin:20260127T163000
DTEND;TZID=Europe/Berlin:20260127T173000
UID:2602621013-20260127T163000@DÜSSELDORF ASG-BILDUNGSFORUM
SUMMARY:Eltern-Kind-Kurs: Konzentrationstraining mit Bewegung und Spiel Für Eltern und Kinder von 4 bis 5 Jahren (2602621013) 
LOCATION:ASG-M121;GY1, Münsterstraße 121, 40476 Düsseldorf
END:VEVENT
BEGIN:VEVENT
DTSTAMP:20260419T185438
DTSTART;TZID=Europe/Berlin:20260203T163000
DTEND;TZID=Europe/Berlin:20260203T173000
UID:2602621013-20260203T163000@DÜSSELDORF ASG-BILDUNGSFORUM
SUMMARY:Eltern-Kind-Kurs: Konzentrationstraining mit Bewegung und Spiel Für Eltern und Kinder von 4 bis 5 Jahren (2602621013) 
LOCATION:ASG-M121;GY1, Münsterstraße 121, 40476 Düsseldorf
END:VEVENT
BEGIN:VEVENT
DTSTAMP:20260419T185438
DTSTART;TZID=Europe/Berlin:20260210T163000
DTEND;TZID=Europe/Berlin:20260210T173000
UID:2602621013-20260210T163000@DÜSSELDORF ASG-BILDUNGSFORUM
SUMMARY:Eltern-Kind-Kurs: Konzentrationstraining mit Bewegung und Spiel Für Eltern und Kinder von 4 bis 5 Jahren (2602621013) 
LOCATION:ASG-M121;GY1, Münsterstraße 121, 40476 Düsseldorf
END:VEVENT
BEGIN:VEVENT
DTSTAMP:20260419T185438
DTSTART;TZID=Europe/Berlin:20260217T163000
DTEND;TZID=Europe/Berlin:20260217T173000
UID:2602621013-20260217T163000@DÜSSELDORF ASG-BILDUNGSFORUM
SUMMARY:Eltern-Kind-Kurs: Konzentrationstraining mit Bewegung und Spiel Für Eltern und Kinder von 4 bis 5 Jahren (2602621013) 
LOCATION:ASG-M121;GY1, Münsterstraße 121, 40476 Düsseldorf
END:VEVENT
BEGIN:VEVENT
DTSTAMP:20260419T185438
DTSTART;TZID=Europe/Berlin:20260224T163000
DTEND;TZID=Europe/Berlin:20260224T173000
UID:2602621013-20260224T163000@DÜSSELDORF ASG-BILDUNGSFORUM
SUMMARY:Eltern-Kind-Kurs: Konzentrationstraining mit Bewegung und Spiel Für Eltern und Kinder von 4 bis 5 Jahren (2602621013) 
LOCATION:ASG-M121;GY1, Münsterstraße 121, 40476 Düsseldorf
END:VEVENT
BEGIN:VEVENT
DTSTAMP:20260419T185438
DTSTART;TZID=Europe/Berlin:20260303T163000
DTEND;TZID=Europe/Berlin:20260303T173000
UID:2602621013-20260303T163000@DÜSSELDORF ASG-BILDUNGSFORUM
SUMMARY:Eltern-Kind-Kurs: Konzentrationstraining mit Bewegung und Spiel Für Eltern und Kinder von 4 bis 5 Jahren (2602621013) 
LOCATION:ASG-M121;GY1, Münsterstraße 121, 40476 Düsseldorf
END:VEVENT
BEGIN:VEVENT
DTSTAMP:20260419T185438
DTSTART;TZID=Europe/Berlin:20260310T163000
DTEND;TZID=Europe/Berlin:20260310T173000
UID:2602621013-20260310T163000@DÜSSELDORF ASG-BILDUNGSFORUM
SUMMARY:Eltern-Kind-Kurs: Konzentrationstraining mit Bewegung und Spiel Für Eltern und Kinder von 4 bis 5 Jahren (2602621013) 
LOCATION:ASG-M121;GY1, Münsterstraße 121, 40476 Düsseldorf
END:VEVENT
BEGIN:VEVENT
DTSTAMP:20260419T185438
DTSTART;TZID=Europe/Berlin:20260317T163000
DTEND;TZID=Europe/Berlin:20260317T173000
UID:2602621013-20260317T163000@DÜSSELDORF ASG-BILDUNGSFORUM
SUMMARY:Eltern-Kind-Kurs: Konzentrationstraining mit Bewegung und Spiel Für Eltern und Kinder von 4 bis 5 Jahren (2602621013) 
LOCATION:ASG-M121;GY1, Münsterstraße 121, 40476 Düsseldorf
END:VEVENT
BEGIN:VEVENT
DTSTAMP:20260419T185438
DTSTART;TZID=Europe/Berlin:20260414T163000
DTEND;TZID=Europe/Berlin:20260414T173000
UID:2602621013-20260414T163000@DÜSSELDORF ASG-BILDUNGSFORUM
SUMMARY:Eltern-Kind-Kurs: Konzentrationstraining mit Bewegung und Spiel Für Eltern und Kinder von 4 bis 5 Jahren (2602621013) 
LOCATION:ASG-M121;GY1, Münsterstraße 121, 40476 Düsseldorf
END:VEVENT
BEGIN:VEVENT
DTSTAMP:20260419T185438
DTSTART;TZID=Europe/Berlin:20260421T163000
DTEND;TZID=Europe/Berlin:20260421T173000
UID:2602621013-20260421T163000@DÜSSELDORF ASG-BILDUNGSFORUM
SUMMARY:Eltern-Kind-Kurs: Konzentrationstraining mit Bewegung und Spiel Für Eltern und Kinder von 4 bis 5 Jahren (2602621013) 
LOCATION:ASG-M121;GY1, Münsterstraße 121, 40476 Düsseldorf
END:VEVENT
BEGIN:VEVENT
DTSTAMP:20260419T185438
DTSTART;TZID=Europe/Berlin:20260428T163000
DTEND;TZID=Europe/Berlin:20260428T173000
UID:2602621013-20260428T163000@DÜSSELDORF ASG-BILDUNGSFORUM
SUMMARY:Eltern-Kind-Kurs: Konzentrationstraining mit Bewegung und Spiel Für Eltern und Kinder von 4 bis 5 Jahren (2602621013) 
LOCATION:ASG-M121;GY1, Münsterstraße 121, 40476 Düsseldorf
END:VEVENT
BEGIN:VEVENT
DTSTAMP:20260419T185438
DTSTART;TZID=Europe/Berlin:20260505T163000
DTEND;TZID=Europe/Berlin:20260505T173000
UID:2602621013-20260505T163000@DÜSSELDORF ASG-BILDUNGSFORUM
SUMMARY:Eltern-Kind-Kurs: Konzentrationstraining mit Bewegung und Spiel Für Eltern und Kinder von 4 bis 5 Jahren (2602621013) 
LOCATION:ASG-M121;GY1, Münsterstraße 121, 40476 Düsseldorf
END:VEVENT
BEGIN:VEVENT
DTSTAMP:20260419T185438
DTSTART;TZID=Europe/Berlin:20260512T163000
DTEND;TZID=Europe/Berlin:20260512T173000
UID:2602621013-20260512T163000@DÜSSELDORF ASG-BILDUNGSFORUM
SUMMARY:Eltern-Kind-Kurs: Konzentrationstraining mit Bewegung und Spiel Für Eltern und Kinder von 4 bis 5 Jahren (2602621013) 
LOCATION:ASG-M121;GY1, Münsterstraße 121, 40476 Düsseldorf
END:VEVENT
BEGIN:VEVENT
DTSTAMP:20260419T185438
DTSTART;TZID=Europe/Berlin:20260519T163000
DTEND;TZID=Europe/Berlin:20260519T173000
UID:2602621013-20260519T163000@DÜSSELDORF ASG-BILDUNGSFORUM
SUMMARY:Eltern-Kind-Kurs: Konzentrationstraining mit Bewegung und Spiel Für Eltern und Kinder von 4 bis 5 Jahren (2602621013) 
LOCATION:ASG-M121;GY1, Münsterstraße 121, 40476 Düsseldorf
END:VEVENT
BEGIN:VEVENT
DTSTAMP:20260419T185438
DTSTART;TZID=Europe/Berlin:20260526T163000
DTEND;TZID=Europe/Berlin:20260526T173000
UID:2602621013-20260526T163000@DÜSSELDORF ASG-BILDUNGSFORUM
SUMMARY:Eltern-Kind-Kurs: Konzentrationstraining mit Bewegung und Spiel Für Eltern und Kinder von 4 bis 5 Jahren (2602621013) 
LOCATION:ASG-M121;GY1, Münsterstraße 121, 40476 Düsseldorf
END:VEVENT
BEGIN:VEVENT
DTSTAMP:20260419T185438
DTSTART;TZID=Europe/Berlin:20260602T163000
DTEND;TZID=Europe/Berlin:20260602T173000
UID:2602621013-20260602T163000@DÜSSELDORF ASG-BILDUNGSFORUM
SUMMARY:Eltern-Kind-Kurs: Konzentrationstraining mit Bewegung und Spiel Für Eltern und Kinder von 4 bis 5 Jahren (2602621013) 
LOCATION:ASG-M121;GY1, Münsterstraße 121, 40476 Düsseldorf
END:VEVENT
BEGIN:VEVENT
DTSTAMP:20260419T185438
DTSTART;TZID=Europe/Berlin:20260609T163000
DTEND;TZID=Europe/Berlin:20260609T173000
UID:2602621013-20260609T163000@DÜSSELDORF ASG-BILDUNGSFORUM
SUMMARY:Eltern-Kind-Kurs: Konzentrationstraining mit Bewegung und Spiel Für Eltern und Kinder von 4 bis 5 Jahren (2602621013) 
LOCATION:ASG-M121;GY1, Münsterstraße 121, 40476 Düsseldorf
END:VEVENT
BEGIN:VEVENT
DTSTAMP:20260419T185438
DTSTART;TZID=Europe/Berlin:20260616T163000
DTEND;TZID=Europe/Berlin:20260616T173000
UID:2602621013-20260616T163000@DÜSSELDORF ASG-BILDUNGSFORUM
SUMMARY:Eltern-Kind-Kurs: Konzentrationstraining mit Bewegung und Spiel Für Eltern und Kinder von 4 bis 5 Jahren (2602621013) 
LOCATION:ASG-M121;GY1, Münsterstraße 121, 40476 Düsseldorf
END:VEVENT
BEGIN:VEVENT
DTSTAMP:20260419T185438
DTSTART;TZID=Europe/Berlin:20260623T163000
DTEND;TZID=Europe/Berlin:20260623T173000
UID:2602621013-20260623T163000@DÜSSELDORF ASG-BILDUNGSFORUM
SUMMARY:Eltern-Kind-Kurs: Konzentrationstraining mit Bewegung und Spiel Für Eltern und Kinder von 4 bis 5 Jahren (2602621013) 
LOCATION:ASG-M121;GY1, Münsterstraße 121, 40476 Düsseldorf
END:VEVENT
BEGIN:VEVENT
DTSTAMP:20260419T185438
DTSTART;TZID=Europe/Berlin:20260630T163000
DTEND;TZID=Europe/Berlin:20260630T173000
UID:2602621013-20260630T163000@DÜSSELDORF ASG-BILDUNGSFORUM
SUMMARY:Eltern-Kind-Kurs: Konzentrationstraining mit Bewegung und Spiel Für Eltern und Kinder von 4 bis 5 Jahren (2602621013) 
LOCATION:ASG-M121;GY1, Münsterstraße 121, 40476 Düsseldorf
END:VEVENT
BEGIN:VEVENT
DTSTAMP:20260419T185438
DTSTART;TZID=Europe/Berlin:20260707T163000
DTEND;TZID=Europe/Berlin:20260707T173000
UID:2602621013-20260707T163000@DÜSSELDORF ASG-BILDUNGSFORUM
SUMMARY:Eltern-Kind-Kurs: Konzentrationstraining mit Bewegung und Spiel Für Eltern und Kinder von 4 bis 5 Jahren (2602621013) 
LOCATION:ASG-M121;GY1, Münsterstraße 121, 40476 Düsseldorf
END:VEVENT
BEGIN:VEVENT
DTSTAMP:20260419T185438
DTSTART;TZID=Europe/Berlin:20260714T163000
DTEND;TZID=Europe/Berlin:20260714T173000
UID:2602621013-20260714T163000@DÜSSELDORF ASG-BILDUNGSFORUM
SUMMARY:Eltern-Kind-Kurs: Konzentrationstraining mit Bewegung und Spiel Für Eltern und Kinder von 4 bis 5 Jahren (2602621013) 
LOCATION:ASG-M121;GY1, Münsterstraße 121, 40476 Düsseldorf
END:VEVENT
END:VCALENDAR