BEGIN:VCALENDAR
VERSION:2.0
PRODID:https://www.kufer.de/kuferweb / DE
METHOD:PUBLISH
CALSCALE:GREGORIAN
X-WR-TIMEZONE:Europe/Berlin
BEGIN:VTIMEZONE
TZID:Europe/Berlin
X-LIC-LOCATION:Europe/Berlin
BEGIN:DAYLIGHT
TZOFFSETFROM:+0100
TZOFFSETTO:+0200
TZNAME:CEST
DTSTART:19700329T020000
RRULE:FREQ=YEARLY;INTERVAL=1;BYDAY=-1SU;BYMONTH=3
END:DAYLIGHT
BEGIN:STANDARD
TZOFFSETFROM:+0200
TZOFFSETTO:+0100
TZNAME:CET
DTSTART:19701025T030000
RRULE:FREQ=YEARLY;INTERVAL=1;BYDAY=-1SU;BYMONTH=10
END:STANDARD
END:VTIMEZONE
BEGIN:VEVENT
DTSTAMP:20260420T134146
DTSTART;TZID=Europe/Berlin:20260108T153000
DTEND;TZID=Europe/Berlin:20260108T163000
UID:2602621016-20260108T153000@DÜSSELDORF ASG-BILDUNGSFORUM
SUMMARY:Eltern-Kind-Kurs: Bewegung und Spiel Für Eltern und Kinder von 2 bis 4 Jahren (2602621016) 
LOCATION:ASG-M121;GY1, Münsterstraße 121, 40476 Düsseldorf
END:VEVENT
BEGIN:VEVENT
DTSTAMP:20260420T134146
DTSTART;TZID=Europe/Berlin:20260115T153000
DTEND;TZID=Europe/Berlin:20260115T163000
UID:2602621016-20260115T153000@DÜSSELDORF ASG-BILDUNGSFORUM
SUMMARY:Eltern-Kind-Kurs: Bewegung und Spiel Für Eltern und Kinder von 2 bis 4 Jahren (2602621016) 
LOCATION:ASG-M121;GY1, Münsterstraße 121, 40476 Düsseldorf
END:VEVENT
BEGIN:VEVENT
DTSTAMP:20260420T134146
DTSTART;TZID=Europe/Berlin:20260122T153000
DTEND;TZID=Europe/Berlin:20260122T163000
UID:2602621016-20260122T153000@DÜSSELDORF ASG-BILDUNGSFORUM
SUMMARY:Eltern-Kind-Kurs: Bewegung und Spiel Für Eltern und Kinder von 2 bis 4 Jahren (2602621016) 
LOCATION:ASG-M121;GY1, Münsterstraße 121, 40476 Düsseldorf
END:VEVENT
BEGIN:VEVENT
DTSTAMP:20260420T134146
DTSTART;TZID=Europe/Berlin:20260129T153000
DTEND;TZID=Europe/Berlin:20260129T163000
UID:2602621016-20260129T153000@DÜSSELDORF ASG-BILDUNGSFORUM
SUMMARY:Eltern-Kind-Kurs: Bewegung und Spiel Für Eltern und Kinder von 2 bis 4 Jahren (2602621016) 
LOCATION:ASG-M121;GY1, Münsterstraße 121, 40476 Düsseldorf
END:VEVENT
BEGIN:VEVENT
DTSTAMP:20260420T134146
DTSTART;TZID=Europe/Berlin:20260205T153000
DTEND;TZID=Europe/Berlin:20260205T163000
UID:2602621016-20260205T153000@DÜSSELDORF ASG-BILDUNGSFORUM
SUMMARY:Eltern-Kind-Kurs: Bewegung und Spiel Für Eltern und Kinder von 2 bis 4 Jahren (2602621016) 
LOCATION:ASG-M121;GY1, Münsterstraße 121, 40476 Düsseldorf
END:VEVENT
BEGIN:VEVENT
DTSTAMP:20260420T134146
DTSTART;TZID=Europe/Berlin:20260212T153000
DTEND;TZID=Europe/Berlin:20260212T163000
UID:2602621016-20260212T153000@DÜSSELDORF ASG-BILDUNGSFORUM
SUMMARY:Eltern-Kind-Kurs: Bewegung und Spiel Für Eltern und Kinder von 2 bis 4 Jahren (2602621016) 
LOCATION:ASG-M121;GY1, Münsterstraße 121, 40476 Düsseldorf
END:VEVENT
BEGIN:VEVENT
DTSTAMP:20260420T134146
DTSTART;TZID=Europe/Berlin:20260219T153000
DTEND;TZID=Europe/Berlin:20260219T163000
UID:2602621016-20260219T153000@DÜSSELDORF ASG-BILDUNGSFORUM
SUMMARY:Eltern-Kind-Kurs: Bewegung und Spiel Für Eltern und Kinder von 2 bis 4 Jahren (2602621016) 
LOCATION:ASG-M121;GY1, Münsterstraße 121, 40476 Düsseldorf
END:VEVENT
BEGIN:VEVENT
DTSTAMP:20260420T134146
DTSTART;TZID=Europe/Berlin:20260226T153000
DTEND;TZID=Europe/Berlin:20260226T163000
UID:2602621016-20260226T153000@DÜSSELDORF ASG-BILDUNGSFORUM
SUMMARY:Eltern-Kind-Kurs: Bewegung und Spiel Für Eltern und Kinder von 2 bis 4 Jahren (2602621016) 
LOCATION:ASG-M121;GY1, Münsterstraße 121, 40476 Düsseldorf
END:VEVENT
BEGIN:VEVENT
DTSTAMP:20260420T134146
DTSTART;TZID=Europe/Berlin:20260305T153000
DTEND;TZID=Europe/Berlin:20260305T163000
UID:2602621016-20260305T153000@DÜSSELDORF ASG-BILDUNGSFORUM
SUMMARY:Eltern-Kind-Kurs: Bewegung und Spiel Für Eltern und Kinder von 2 bis 4 Jahren (2602621016) 
LOCATION:ASG-M121;GY1, Münsterstraße 121, 40476 Düsseldorf
END:VEVENT
BEGIN:VEVENT
DTSTAMP:20260420T134146
DTSTART;TZID=Europe/Berlin:20260312T153000
DTEND;TZID=Europe/Berlin:20260312T163000
UID:2602621016-20260312T153000@DÜSSELDORF ASG-BILDUNGSFORUM
SUMMARY:Eltern-Kind-Kurs: Bewegung und Spiel Für Eltern und Kinder von 2 bis 4 Jahren (2602621016) 
LOCATION:ASG-M121;GY1, Münsterstraße 121, 40476 Düsseldorf
END:VEVENT
BEGIN:VEVENT
DTSTAMP:20260420T134146
DTSTART;TZID=Europe/Berlin:20260319T153000
DTEND;TZID=Europe/Berlin:20260319T163000
UID:2602621016-20260319T153000@DÜSSELDORF ASG-BILDUNGSFORUM
SUMMARY:Eltern-Kind-Kurs: Bewegung und Spiel Für Eltern und Kinder von 2 bis 4 Jahren (2602621016) 
LOCATION:ASG-M121;GY1, Münsterstraße 121, 40476 Düsseldorf
END:VEVENT
BEGIN:VEVENT
DTSTAMP:20260420T134146
DTSTART;TZID=Europe/Berlin:20260416T153000
DTEND;TZID=Europe/Berlin:20260416T163000
UID:2602621016-20260416T153000@DÜSSELDORF ASG-BILDUNGSFORUM
SUMMARY:Eltern-Kind-Kurs: Bewegung und Spiel Für Eltern und Kinder von 2 bis 4 Jahren (2602621016) 
LOCATION:ASG-M121;GY1, Münsterstraße 121, 40476 Düsseldorf
END:VEVENT
BEGIN:VEVENT
DTSTAMP:20260420T134146
DTSTART;TZID=Europe/Berlin:20260423T153000
DTEND;TZID=Europe/Berlin:20260423T163000
UID:2602621016-20260423T153000@DÜSSELDORF ASG-BILDUNGSFORUM
SUMMARY:Eltern-Kind-Kurs: Bewegung und Spiel Für Eltern und Kinder von 2 bis 4 Jahren (2602621016) 
LOCATION:ASG-M121;GY1, Münsterstraße 121, 40476 Düsseldorf
END:VEVENT
BEGIN:VEVENT
DTSTAMP:20260420T134146
DTSTART;TZID=Europe/Berlin:20260430T153000
DTEND;TZID=Europe/Berlin:20260430T163000
UID:2602621016-20260430T153000@DÜSSELDORF ASG-BILDUNGSFORUM
SUMMARY:Eltern-Kind-Kurs: Bewegung und Spiel Für Eltern und Kinder von 2 bis 4 Jahren (2602621016) 
LOCATION:ASG-M121;GY1, Münsterstraße 121, 40476 Düsseldorf
END:VEVENT
BEGIN:VEVENT
DTSTAMP:20260420T134146
DTSTART;TZID=Europe/Berlin:20260507T153000
DTEND;TZID=Europe/Berlin:20260507T163000
UID:2602621016-20260507T153000@DÜSSELDORF ASG-BILDUNGSFORUM
SUMMARY:Eltern-Kind-Kurs: Bewegung und Spiel Für Eltern und Kinder von 2 bis 4 Jahren (2602621016) 
LOCATION:ASG-M121;GY1, Münsterstraße 121, 40476 Düsseldorf
END:VEVENT
BEGIN:VEVENT
DTSTAMP:20260420T134146
DTSTART;TZID=Europe/Berlin:20260521T153000
DTEND;TZID=Europe/Berlin:20260521T163000
UID:2602621016-20260521T153000@DÜSSELDORF ASG-BILDUNGSFORUM
SUMMARY:Eltern-Kind-Kurs: Bewegung und Spiel Für Eltern und Kinder von 2 bis 4 Jahren (2602621016) 
LOCATION:ASG-M121;GY1, Münsterstraße 121, 40476 Düsseldorf
END:VEVENT
BEGIN:VEVENT
DTSTAMP:20260420T134146
DTSTART;TZID=Europe/Berlin:20260528T153000
DTEND;TZID=Europe/Berlin:20260528T163000
UID:2602621016-20260528T153000@DÜSSELDORF ASG-BILDUNGSFORUM
SUMMARY:Eltern-Kind-Kurs: Bewegung und Spiel Für Eltern und Kinder von 2 bis 4 Jahren (2602621016) 
LOCATION:ASG-M121;GY1, Münsterstraße 121, 40476 Düsseldorf
END:VEVENT
BEGIN:VEVENT
DTSTAMP:20260420T134146
DTSTART;TZID=Europe/Berlin:20260611T153000
DTEND;TZID=Europe/Berlin:20260611T163000
UID:2602621016-20260611T153000@DÜSSELDORF ASG-BILDUNGSFORUM
SUMMARY:Eltern-Kind-Kurs: Bewegung und Spiel Für Eltern und Kinder von 2 bis 4 Jahren (2602621016) 
LOCATION:ASG-M121;GY1, Münsterstraße 121, 40476 Düsseldorf
END:VEVENT
BEGIN:VEVENT
DTSTAMP:20260420T134146
DTSTART;TZID=Europe/Berlin:20260618T153000
DTEND;TZID=Europe/Berlin:20260618T163000
UID:2602621016-20260618T153000@DÜSSELDORF ASG-BILDUNGSFORUM
SUMMARY:Eltern-Kind-Kurs: Bewegung und Spiel Für Eltern und Kinder von 2 bis 4 Jahren (2602621016) 
LOCATION:ASG-M121;GY1, Münsterstraße 121, 40476 Düsseldorf
END:VEVENT
BEGIN:VEVENT
DTSTAMP:20260420T134146
DTSTART;TZID=Europe/Berlin:20260625T153000
DTEND;TZID=Europe/Berlin:20260625T163000
UID:2602621016-20260625T153000@DÜSSELDORF ASG-BILDUNGSFORUM
SUMMARY:Eltern-Kind-Kurs: Bewegung und Spiel Für Eltern und Kinder von 2 bis 4 Jahren (2602621016) 
LOCATION:ASG-M121;GY1, Münsterstraße 121, 40476 Düsseldorf
END:VEVENT
BEGIN:VEVENT
DTSTAMP:20260420T134146
DTSTART;TZID=Europe/Berlin:20260702T153000
DTEND;TZID=Europe/Berlin:20260702T163000
UID:2602621016-20260702T153000@DÜSSELDORF ASG-BILDUNGSFORUM
SUMMARY:Eltern-Kind-Kurs: Bewegung und Spiel Für Eltern und Kinder von 2 bis 4 Jahren (2602621016) 
LOCATION:ASG-M121;GY1, Münsterstraße 121, 40476 Düsseldorf
END:VEVENT
BEGIN:VEVENT
DTSTAMP:20260420T134146
DTSTART;TZID=Europe/Berlin:20260709T153000
DTEND;TZID=Europe/Berlin:20260709T163000
UID:2602621016-20260709T153000@DÜSSELDORF ASG-BILDUNGSFORUM
SUMMARY:Eltern-Kind-Kurs: Bewegung und Spiel Für Eltern und Kinder von 2 bis 4 Jahren (2602621016) 
LOCATION:ASG-M121;GY1, Münsterstraße 121, 40476 Düsseldorf
END:VEVENT
BEGIN:VEVENT
DTSTAMP:20260420T134146
DTSTART;TZID=Europe/Berlin:20260716T153000
DTEND;TZID=Europe/Berlin:20260716T163000
UID:2602621016-20260716T153000@DÜSSELDORF ASG-BILDUNGSFORUM
SUMMARY:Eltern-Kind-Kurs: Bewegung und Spiel Für Eltern und Kinder von 2 bis 4 Jahren (2602621016) 
LOCATION:ASG-M121;GY1, Münsterstraße 121, 40476 Düsseldorf
END:VEVENT
END:VCALENDAR