BEGIN:VCALENDAR
VERSION:2.0
PRODID:https://www.kufer.de/kuferweb / DE
METHOD:PUBLISH
CALSCALE:GREGORIAN
X-WR-TIMEZONE:Europe/Berlin
BEGIN:VTIMEZONE
TZID:Europe/Berlin
X-LIC-LOCATION:Europe/Berlin
BEGIN:DAYLIGHT
TZOFFSETFROM:+0100
TZOFFSETTO:+0200
TZNAME:CEST
DTSTART:19700329T020000
RRULE:FREQ=YEARLY;INTERVAL=1;BYDAY=-1SU;BYMONTH=3
END:DAYLIGHT
BEGIN:STANDARD
TZOFFSETFROM:+0200
TZOFFSETTO:+0100
TZNAME:CET
DTSTART:19701025T030000
RRULE:FREQ=YEARLY;INTERVAL=1;BYDAY=-1SU;BYMONTH=10
END:STANDARD
END:VTIMEZONE
BEGIN:VEVENT
DTSTAMP:20260420T190430
DTSTART;TZID=Europe/Berlin:20260108T163000
DTEND;TZID=Europe/Berlin:20260108T173000
UID:2602621017-20260108T163000@DÜSSELDORF ASG-BILDUNGSFORUM
SUMMARY:Eltern-Kind-Kurs: Konzentrationstraining mit Bewegung und Spiel Für Eltern und Kinder von 4 bis 6 Jahren (2602621017) 
LOCATION:ASG-M121;GY1, Münsterstraße 121, 40476 Düsseldorf
END:VEVENT
BEGIN:VEVENT
DTSTAMP:20260420T190430
DTSTART;TZID=Europe/Berlin:20260115T163000
DTEND;TZID=Europe/Berlin:20260115T173000
UID:2602621017-20260115T163000@DÜSSELDORF ASG-BILDUNGSFORUM
SUMMARY:Eltern-Kind-Kurs: Konzentrationstraining mit Bewegung und Spiel Für Eltern und Kinder von 4 bis 6 Jahren (2602621017) 
LOCATION:ASG-M121;GY1, Münsterstraße 121, 40476 Düsseldorf
END:VEVENT
BEGIN:VEVENT
DTSTAMP:20260420T190430
DTSTART;TZID=Europe/Berlin:20260122T163000
DTEND;TZID=Europe/Berlin:20260122T173000
UID:2602621017-20260122T163000@DÜSSELDORF ASG-BILDUNGSFORUM
SUMMARY:Eltern-Kind-Kurs: Konzentrationstraining mit Bewegung und Spiel Für Eltern und Kinder von 4 bis 6 Jahren (2602621017) 
LOCATION:ASG-M121;GY1, Münsterstraße 121, 40476 Düsseldorf
END:VEVENT
BEGIN:VEVENT
DTSTAMP:20260420T190430
DTSTART;TZID=Europe/Berlin:20260129T163000
DTEND;TZID=Europe/Berlin:20260129T173000
UID:2602621017-20260129T163000@DÜSSELDORF ASG-BILDUNGSFORUM
SUMMARY:Eltern-Kind-Kurs: Konzentrationstraining mit Bewegung und Spiel Für Eltern und Kinder von 4 bis 6 Jahren (2602621017) 
LOCATION:ASG-M121;GY1, Münsterstraße 121, 40476 Düsseldorf
END:VEVENT
BEGIN:VEVENT
DTSTAMP:20260420T190430
DTSTART;TZID=Europe/Berlin:20260205T163000
DTEND;TZID=Europe/Berlin:20260205T173000
UID:2602621017-20260205T163000@DÜSSELDORF ASG-BILDUNGSFORUM
SUMMARY:Eltern-Kind-Kurs: Konzentrationstraining mit Bewegung und Spiel Für Eltern und Kinder von 4 bis 6 Jahren (2602621017) 
LOCATION:ASG-M121;GY1, Münsterstraße 121, 40476 Düsseldorf
END:VEVENT
BEGIN:VEVENT
DTSTAMP:20260420T190430
DTSTART;TZID=Europe/Berlin:20260212T163000
DTEND;TZID=Europe/Berlin:20260212T173000
UID:2602621017-20260212T163000@DÜSSELDORF ASG-BILDUNGSFORUM
SUMMARY:Eltern-Kind-Kurs: Konzentrationstraining mit Bewegung und Spiel Für Eltern und Kinder von 4 bis 6 Jahren (2602621017) 
LOCATION:ASG-M121;GY1, Münsterstraße 121, 40476 Düsseldorf
END:VEVENT
BEGIN:VEVENT
DTSTAMP:20260420T190430
DTSTART;TZID=Europe/Berlin:20260219T163000
DTEND;TZID=Europe/Berlin:20260219T173000
UID:2602621017-20260219T163000@DÜSSELDORF ASG-BILDUNGSFORUM
SUMMARY:Eltern-Kind-Kurs: Konzentrationstraining mit Bewegung und Spiel Für Eltern und Kinder von 4 bis 6 Jahren (2602621017) 
LOCATION:ASG-M121;GY1, Münsterstraße 121, 40476 Düsseldorf
END:VEVENT
BEGIN:VEVENT
DTSTAMP:20260420T190430
DTSTART;TZID=Europe/Berlin:20260226T163000
DTEND;TZID=Europe/Berlin:20260226T173000
UID:2602621017-20260226T163000@DÜSSELDORF ASG-BILDUNGSFORUM
SUMMARY:Eltern-Kind-Kurs: Konzentrationstraining mit Bewegung und Spiel Für Eltern und Kinder von 4 bis 6 Jahren (2602621017) 
LOCATION:ASG-M121;GY1, Münsterstraße 121, 40476 Düsseldorf
END:VEVENT
BEGIN:VEVENT
DTSTAMP:20260420T190430
DTSTART;TZID=Europe/Berlin:20260305T163000
DTEND;TZID=Europe/Berlin:20260305T173000
UID:2602621017-20260305T163000@DÜSSELDORF ASG-BILDUNGSFORUM
SUMMARY:Eltern-Kind-Kurs: Konzentrationstraining mit Bewegung und Spiel Für Eltern und Kinder von 4 bis 6 Jahren (2602621017) 
LOCATION:ASG-M121;GY1, Münsterstraße 121, 40476 Düsseldorf
END:VEVENT
BEGIN:VEVENT
DTSTAMP:20260420T190430
DTSTART;TZID=Europe/Berlin:20260312T163000
DTEND;TZID=Europe/Berlin:20260312T173000
UID:2602621017-20260312T163000@DÜSSELDORF ASG-BILDUNGSFORUM
SUMMARY:Eltern-Kind-Kurs: Konzentrationstraining mit Bewegung und Spiel Für Eltern und Kinder von 4 bis 6 Jahren (2602621017) 
LOCATION:ASG-M121;GY1, Münsterstraße 121, 40476 Düsseldorf
END:VEVENT
BEGIN:VEVENT
DTSTAMP:20260420T190430
DTSTART;TZID=Europe/Berlin:20260319T163000
DTEND;TZID=Europe/Berlin:20260319T173000
UID:2602621017-20260319T163000@DÜSSELDORF ASG-BILDUNGSFORUM
SUMMARY:Eltern-Kind-Kurs: Konzentrationstraining mit Bewegung und Spiel Für Eltern und Kinder von 4 bis 6 Jahren (2602621017) 
LOCATION:ASG-M121;GY1, Münsterstraße 121, 40476 Düsseldorf
END:VEVENT
BEGIN:VEVENT
DTSTAMP:20260420T190430
DTSTART;TZID=Europe/Berlin:20260416T163000
DTEND;TZID=Europe/Berlin:20260416T173000
UID:2602621017-20260416T163000@DÜSSELDORF ASG-BILDUNGSFORUM
SUMMARY:Eltern-Kind-Kurs: Konzentrationstraining mit Bewegung und Spiel Für Eltern und Kinder von 4 bis 6 Jahren (2602621017) 
LOCATION:ASG-M121;GY1, Münsterstraße 121, 40476 Düsseldorf
END:VEVENT
BEGIN:VEVENT
DTSTAMP:20260420T190430
DTSTART;TZID=Europe/Berlin:20260423T163000
DTEND;TZID=Europe/Berlin:20260423T173000
UID:2602621017-20260423T163000@DÜSSELDORF ASG-BILDUNGSFORUM
SUMMARY:Eltern-Kind-Kurs: Konzentrationstraining mit Bewegung und Spiel Für Eltern und Kinder von 4 bis 6 Jahren (2602621017) 
LOCATION:ASG-M121;GY1, Münsterstraße 121, 40476 Düsseldorf
END:VEVENT
BEGIN:VEVENT
DTSTAMP:20260420T190430
DTSTART;TZID=Europe/Berlin:20260430T163000
DTEND;TZID=Europe/Berlin:20260430T173000
UID:2602621017-20260430T163000@DÜSSELDORF ASG-BILDUNGSFORUM
SUMMARY:Eltern-Kind-Kurs: Konzentrationstraining mit Bewegung und Spiel Für Eltern und Kinder von 4 bis 6 Jahren (2602621017) 
LOCATION:ASG-M121;GY1, Münsterstraße 121, 40476 Düsseldorf
END:VEVENT
BEGIN:VEVENT
DTSTAMP:20260420T190430
DTSTART;TZID=Europe/Berlin:20260507T163000
DTEND;TZID=Europe/Berlin:20260507T173000
UID:2602621017-20260507T163000@DÜSSELDORF ASG-BILDUNGSFORUM
SUMMARY:Eltern-Kind-Kurs: Konzentrationstraining mit Bewegung und Spiel Für Eltern und Kinder von 4 bis 6 Jahren (2602621017) 
LOCATION:ASG-M121;GY1, Münsterstraße 121, 40476 Düsseldorf
END:VEVENT
BEGIN:VEVENT
DTSTAMP:20260420T190430
DTSTART;TZID=Europe/Berlin:20260521T163000
DTEND;TZID=Europe/Berlin:20260521T173000
UID:2602621017-20260521T163000@DÜSSELDORF ASG-BILDUNGSFORUM
SUMMARY:Eltern-Kind-Kurs: Konzentrationstraining mit Bewegung und Spiel Für Eltern und Kinder von 4 bis 6 Jahren (2602621017) 
LOCATION:ASG-M121;GY1, Münsterstraße 121, 40476 Düsseldorf
END:VEVENT
BEGIN:VEVENT
DTSTAMP:20260420T190430
DTSTART;TZID=Europe/Berlin:20260528T163000
DTEND;TZID=Europe/Berlin:20260528T173000
UID:2602621017-20260528T163000@DÜSSELDORF ASG-BILDUNGSFORUM
SUMMARY:Eltern-Kind-Kurs: Konzentrationstraining mit Bewegung und Spiel Für Eltern und Kinder von 4 bis 6 Jahren (2602621017) 
LOCATION:ASG-M121;GY1, Münsterstraße 121, 40476 Düsseldorf
END:VEVENT
BEGIN:VEVENT
DTSTAMP:20260420T190430
DTSTART;TZID=Europe/Berlin:20260611T163000
DTEND;TZID=Europe/Berlin:20260611T173000
UID:2602621017-20260611T163000@DÜSSELDORF ASG-BILDUNGSFORUM
SUMMARY:Eltern-Kind-Kurs: Konzentrationstraining mit Bewegung und Spiel Für Eltern und Kinder von 4 bis 6 Jahren (2602621017) 
LOCATION:ASG-M121;GY1, Münsterstraße 121, 40476 Düsseldorf
END:VEVENT
BEGIN:VEVENT
DTSTAMP:20260420T190430
DTSTART;TZID=Europe/Berlin:20260618T163000
DTEND;TZID=Europe/Berlin:20260618T173000
UID:2602621017-20260618T163000@DÜSSELDORF ASG-BILDUNGSFORUM
SUMMARY:Eltern-Kind-Kurs: Konzentrationstraining mit Bewegung und Spiel Für Eltern und Kinder von 4 bis 6 Jahren (2602621017) 
LOCATION:ASG-M121;GY1, Münsterstraße 121, 40476 Düsseldorf
END:VEVENT
BEGIN:VEVENT
DTSTAMP:20260420T190430
DTSTART;TZID=Europe/Berlin:20260625T163000
DTEND;TZID=Europe/Berlin:20260625T173000
UID:2602621017-20260625T163000@DÜSSELDORF ASG-BILDUNGSFORUM
SUMMARY:Eltern-Kind-Kurs: Konzentrationstraining mit Bewegung und Spiel Für Eltern und Kinder von 4 bis 6 Jahren (2602621017) 
LOCATION:ASG-M121;GY1, Münsterstraße 121, 40476 Düsseldorf
END:VEVENT
BEGIN:VEVENT
DTSTAMP:20260420T190430
DTSTART;TZID=Europe/Berlin:20260702T163000
DTEND;TZID=Europe/Berlin:20260702T173000
UID:2602621017-20260702T163000@DÜSSELDORF ASG-BILDUNGSFORUM
SUMMARY:Eltern-Kind-Kurs: Konzentrationstraining mit Bewegung und Spiel Für Eltern und Kinder von 4 bis 6 Jahren (2602621017) 
LOCATION:ASG-M121;GY1, Münsterstraße 121, 40476 Düsseldorf
END:VEVENT
BEGIN:VEVENT
DTSTAMP:20260420T190430
DTSTART;TZID=Europe/Berlin:20260709T163000
DTEND;TZID=Europe/Berlin:20260709T173000
UID:2602621017-20260709T163000@DÜSSELDORF ASG-BILDUNGSFORUM
SUMMARY:Eltern-Kind-Kurs: Konzentrationstraining mit Bewegung und Spiel Für Eltern und Kinder von 4 bis 6 Jahren (2602621017) 
LOCATION:ASG-M121;GY1, Münsterstraße 121, 40476 Düsseldorf
END:VEVENT
BEGIN:VEVENT
DTSTAMP:20260420T190430
DTSTART;TZID=Europe/Berlin:20260716T163000
DTEND;TZID=Europe/Berlin:20260716T173000
UID:2602621017-20260716T163000@DÜSSELDORF ASG-BILDUNGSFORUM
SUMMARY:Eltern-Kind-Kurs: Konzentrationstraining mit Bewegung und Spiel Für Eltern und Kinder von 4 bis 6 Jahren (2602621017) 
LOCATION:ASG-M121;GY1, Münsterstraße 121, 40476 Düsseldorf
END:VEVENT
END:VCALENDAR