BEGIN:VCALENDAR
VERSION:2.0
PRODID:https://www.kufer.de/kuferweb / DE
METHOD:PUBLISH
CALSCALE:GREGORIAN
X-WR-TIMEZONE:Europe/Berlin
BEGIN:VTIMEZONE
TZID:Europe/Berlin
X-LIC-LOCATION:Europe/Berlin
BEGIN:DAYLIGHT
TZOFFSETFROM:+0100
TZOFFSETTO:+0200
TZNAME:CEST
DTSTART:19700329T020000
RRULE:FREQ=YEARLY;INTERVAL=1;BYDAY=-1SU;BYMONTH=3
END:DAYLIGHT
BEGIN:STANDARD
TZOFFSETFROM:+0200
TZOFFSETTO:+0100
TZNAME:CET
DTSTART:19701025T030000
RRULE:FREQ=YEARLY;INTERVAL=1;BYDAY=-1SU;BYMONTH=10
END:STANDARD
END:VTIMEZONE
BEGIN:VEVENT
DTSTAMP:20260419T181617
DTSTART;TZID=Europe/Berlin:20260109T153000
DTEND;TZID=Europe/Berlin:20260109T163000
UID:2602621018-20260109T153000@DÜSSELDORF ASG-BILDUNGSFORUM
SUMMARY:Eltern-Kind-Kurs: Bewegung und Spiel Für Eltern und Kinder von 3 bis 4 Jahren (2602621018) 
LOCATION:ASG-M121;GY1, Münsterstraße 121, 40476 Düsseldorf
END:VEVENT
BEGIN:VEVENT
DTSTAMP:20260419T181617
DTSTART;TZID=Europe/Berlin:20260116T153000
DTEND;TZID=Europe/Berlin:20260116T163000
UID:2602621018-20260116T153000@DÜSSELDORF ASG-BILDUNGSFORUM
SUMMARY:Eltern-Kind-Kurs: Bewegung und Spiel Für Eltern und Kinder von 3 bis 4 Jahren (2602621018) 
LOCATION:ASG-M121;GY1, Münsterstraße 121, 40476 Düsseldorf
END:VEVENT
BEGIN:VEVENT
DTSTAMP:20260419T181617
DTSTART;TZID=Europe/Berlin:20260123T153000
DTEND;TZID=Europe/Berlin:20260123T163000
UID:2602621018-20260123T153000@DÜSSELDORF ASG-BILDUNGSFORUM
SUMMARY:Eltern-Kind-Kurs: Bewegung und Spiel Für Eltern und Kinder von 3 bis 4 Jahren (2602621018) 
LOCATION:ASG-M121;GY1, Münsterstraße 121, 40476 Düsseldorf
END:VEVENT
BEGIN:VEVENT
DTSTAMP:20260419T181617
DTSTART;TZID=Europe/Berlin:20260130T153000
DTEND;TZID=Europe/Berlin:20260130T163000
UID:2602621018-20260130T153000@DÜSSELDORF ASG-BILDUNGSFORUM
SUMMARY:Eltern-Kind-Kurs: Bewegung und Spiel Für Eltern und Kinder von 3 bis 4 Jahren (2602621018) 
LOCATION:ASG-M121;GY1, Münsterstraße 121, 40476 Düsseldorf
END:VEVENT
BEGIN:VEVENT
DTSTAMP:20260419T181617
DTSTART;TZID=Europe/Berlin:20260206T153000
DTEND;TZID=Europe/Berlin:20260206T163000
UID:2602621018-20260206T153000@DÜSSELDORF ASG-BILDUNGSFORUM
SUMMARY:Eltern-Kind-Kurs: Bewegung und Spiel Für Eltern und Kinder von 3 bis 4 Jahren (2602621018) 
LOCATION:ASG-M121;GY1, Münsterstraße 121, 40476 Düsseldorf
END:VEVENT
BEGIN:VEVENT
DTSTAMP:20260419T181617
DTSTART;TZID=Europe/Berlin:20260213T153000
DTEND;TZID=Europe/Berlin:20260213T163000
UID:2602621018-20260213T153000@DÜSSELDORF ASG-BILDUNGSFORUM
SUMMARY:Eltern-Kind-Kurs: Bewegung und Spiel Für Eltern und Kinder von 3 bis 4 Jahren (2602621018) 
LOCATION:ASG-M121;GY1, Münsterstraße 121, 40476 Düsseldorf
END:VEVENT
BEGIN:VEVENT
DTSTAMP:20260419T181617
DTSTART;TZID=Europe/Berlin:20260220T153000
DTEND;TZID=Europe/Berlin:20260220T163000
UID:2602621018-20260220T153000@DÜSSELDORF ASG-BILDUNGSFORUM
SUMMARY:Eltern-Kind-Kurs: Bewegung und Spiel Für Eltern und Kinder von 3 bis 4 Jahren (2602621018) 
LOCATION:ASG-M121;GY1, Münsterstraße 121, 40476 Düsseldorf
END:VEVENT
BEGIN:VEVENT
DTSTAMP:20260419T181617
DTSTART;TZID=Europe/Berlin:20260227T153000
DTEND;TZID=Europe/Berlin:20260227T163000
UID:2602621018-20260227T153000@DÜSSELDORF ASG-BILDUNGSFORUM
SUMMARY:Eltern-Kind-Kurs: Bewegung und Spiel Für Eltern und Kinder von 3 bis 4 Jahren (2602621018) 
LOCATION:ASG-M121;GY1, Münsterstraße 121, 40476 Düsseldorf
END:VEVENT
BEGIN:VEVENT
DTSTAMP:20260419T181617
DTSTART;TZID=Europe/Berlin:20260306T153000
DTEND;TZID=Europe/Berlin:20260306T163000
UID:2602621018-20260306T153000@DÜSSELDORF ASG-BILDUNGSFORUM
SUMMARY:Eltern-Kind-Kurs: Bewegung und Spiel Für Eltern und Kinder von 3 bis 4 Jahren (2602621018) 
LOCATION:ASG-M121;GY1, Münsterstraße 121, 40476 Düsseldorf
END:VEVENT
BEGIN:VEVENT
DTSTAMP:20260419T181617
DTSTART;TZID=Europe/Berlin:20260313T153000
DTEND;TZID=Europe/Berlin:20260313T163000
UID:2602621018-20260313T153000@DÜSSELDORF ASG-BILDUNGSFORUM
SUMMARY:Eltern-Kind-Kurs: Bewegung und Spiel Für Eltern und Kinder von 3 bis 4 Jahren (2602621018) 
LOCATION:ASG-M121;GY1, Münsterstraße 121, 40476 Düsseldorf
END:VEVENT
BEGIN:VEVENT
DTSTAMP:20260419T181617
DTSTART;TZID=Europe/Berlin:20260320T153000
DTEND;TZID=Europe/Berlin:20260320T163000
UID:2602621018-20260320T153000@DÜSSELDORF ASG-BILDUNGSFORUM
SUMMARY:Eltern-Kind-Kurs: Bewegung und Spiel Für Eltern und Kinder von 3 bis 4 Jahren (2602621018) 
LOCATION:ASG-M121;GY1, Münsterstraße 121, 40476 Düsseldorf
END:VEVENT
BEGIN:VEVENT
DTSTAMP:20260419T181617
DTSTART;TZID=Europe/Berlin:20260417T153000
DTEND;TZID=Europe/Berlin:20260417T163000
UID:2602621018-20260417T153000@DÜSSELDORF ASG-BILDUNGSFORUM
SUMMARY:Eltern-Kind-Kurs: Bewegung und Spiel Für Eltern und Kinder von 3 bis 4 Jahren (2602621018) 
LOCATION:ASG-M121;GY1, Münsterstraße 121, 40476 Düsseldorf
END:VEVENT
BEGIN:VEVENT
DTSTAMP:20260419T181617
DTSTART;TZID=Europe/Berlin:20260424T153000
DTEND;TZID=Europe/Berlin:20260424T163000
UID:2602621018-20260424T153000@DÜSSELDORF ASG-BILDUNGSFORUM
SUMMARY:Eltern-Kind-Kurs: Bewegung und Spiel Für Eltern und Kinder von 3 bis 4 Jahren (2602621018) 
LOCATION:ASG-M121;GY1, Münsterstraße 121, 40476 Düsseldorf
END:VEVENT
BEGIN:VEVENT
DTSTAMP:20260419T181617
DTSTART;TZID=Europe/Berlin:20260508T153000
DTEND;TZID=Europe/Berlin:20260508T163000
UID:2602621018-20260508T153000@DÜSSELDORF ASG-BILDUNGSFORUM
SUMMARY:Eltern-Kind-Kurs: Bewegung und Spiel Für Eltern und Kinder von 3 bis 4 Jahren (2602621018) 
LOCATION:ASG-M121;GY1, Münsterstraße 121, 40476 Düsseldorf
END:VEVENT
BEGIN:VEVENT
DTSTAMP:20260419T181617
DTSTART;TZID=Europe/Berlin:20260515T153000
DTEND;TZID=Europe/Berlin:20260515T163000
UID:2602621018-20260515T153000@DÜSSELDORF ASG-BILDUNGSFORUM
SUMMARY:Eltern-Kind-Kurs: Bewegung und Spiel Für Eltern und Kinder von 3 bis 4 Jahren (2602621018) 
LOCATION:ASG-M121;GY1, Münsterstraße 121, 40476 Düsseldorf
END:VEVENT
BEGIN:VEVENT
DTSTAMP:20260419T181617
DTSTART;TZID=Europe/Berlin:20260522T153000
DTEND;TZID=Europe/Berlin:20260522T163000
UID:2602621018-20260522T153000@DÜSSELDORF ASG-BILDUNGSFORUM
SUMMARY:Eltern-Kind-Kurs: Bewegung und Spiel Für Eltern und Kinder von 3 bis 4 Jahren (2602621018) 
LOCATION:ASG-M121;GY1, Münsterstraße 121, 40476 Düsseldorf
END:VEVENT
BEGIN:VEVENT
DTSTAMP:20260419T181617
DTSTART;TZID=Europe/Berlin:20260529T153000
DTEND;TZID=Europe/Berlin:20260529T163000
UID:2602621018-20260529T153000@DÜSSELDORF ASG-BILDUNGSFORUM
SUMMARY:Eltern-Kind-Kurs: Bewegung und Spiel Für Eltern und Kinder von 3 bis 4 Jahren (2602621018) 
LOCATION:ASG-M121;GY1, Münsterstraße 121, 40476 Düsseldorf
END:VEVENT
BEGIN:VEVENT
DTSTAMP:20260419T181617
DTSTART;TZID=Europe/Berlin:20260605T153000
DTEND;TZID=Europe/Berlin:20260605T163000
UID:2602621018-20260605T153000@DÜSSELDORF ASG-BILDUNGSFORUM
SUMMARY:Eltern-Kind-Kurs: Bewegung und Spiel Für Eltern und Kinder von 3 bis 4 Jahren (2602621018) 
LOCATION:ASG-M121;GY1, Münsterstraße 121, 40476 Düsseldorf
END:VEVENT
BEGIN:VEVENT
DTSTAMP:20260419T181617
DTSTART;TZID=Europe/Berlin:20260612T153000
DTEND;TZID=Europe/Berlin:20260612T163000
UID:2602621018-20260612T153000@DÜSSELDORF ASG-BILDUNGSFORUM
SUMMARY:Eltern-Kind-Kurs: Bewegung und Spiel Für Eltern und Kinder von 3 bis 4 Jahren (2602621018) 
LOCATION:ASG-M121;GY1, Münsterstraße 121, 40476 Düsseldorf
END:VEVENT
BEGIN:VEVENT
DTSTAMP:20260419T181617
DTSTART;TZID=Europe/Berlin:20260619T153000
DTEND;TZID=Europe/Berlin:20260619T163000
UID:2602621018-20260619T153000@DÜSSELDORF ASG-BILDUNGSFORUM
SUMMARY:Eltern-Kind-Kurs: Bewegung und Spiel Für Eltern und Kinder von 3 bis 4 Jahren (2602621018) 
LOCATION:ASG-M121;GY1, Münsterstraße 121, 40476 Düsseldorf
END:VEVENT
BEGIN:VEVENT
DTSTAMP:20260419T181617
DTSTART;TZID=Europe/Berlin:20260626T153000
DTEND;TZID=Europe/Berlin:20260626T163000
UID:2602621018-20260626T153000@DÜSSELDORF ASG-BILDUNGSFORUM
SUMMARY:Eltern-Kind-Kurs: Bewegung und Spiel Für Eltern und Kinder von 3 bis 4 Jahren (2602621018) 
LOCATION:ASG-M121;GY1, Münsterstraße 121, 40476 Düsseldorf
END:VEVENT
BEGIN:VEVENT
DTSTAMP:20260419T181617
DTSTART;TZID=Europe/Berlin:20260703T153000
DTEND;TZID=Europe/Berlin:20260703T163000
UID:2602621018-20260703T153000@DÜSSELDORF ASG-BILDUNGSFORUM
SUMMARY:Eltern-Kind-Kurs: Bewegung und Spiel Für Eltern und Kinder von 3 bis 4 Jahren (2602621018) 
LOCATION:ASG-M121;GY1, Münsterstraße 121, 40476 Düsseldorf
END:VEVENT
BEGIN:VEVENT
DTSTAMP:20260419T181617
DTSTART;TZID=Europe/Berlin:20260710T153000
DTEND;TZID=Europe/Berlin:20260710T163000
UID:2602621018-20260710T153000@DÜSSELDORF ASG-BILDUNGSFORUM
SUMMARY:Eltern-Kind-Kurs: Bewegung und Spiel Für Eltern und Kinder von 3 bis 4 Jahren (2602621018) 
LOCATION:ASG-M121;GY1, Münsterstraße 121, 40476 Düsseldorf
END:VEVENT
BEGIN:VEVENT
DTSTAMP:20260419T181617
DTSTART;TZID=Europe/Berlin:20260717T153000
DTEND;TZID=Europe/Berlin:20260717T163000
UID:2602621018-20260717T153000@DÜSSELDORF ASG-BILDUNGSFORUM
SUMMARY:Eltern-Kind-Kurs: Bewegung und Spiel Für Eltern und Kinder von 3 bis 4 Jahren (2602621018) 
LOCATION:ASG-M121;GY1, Münsterstraße 121, 40476 Düsseldorf
END:VEVENT
END:VCALENDAR