BEGIN:VCALENDAR
VERSION:2.0
PRODID:https://www.kufer.de/kuferweb / DE
METHOD:PUBLISH
CALSCALE:GREGORIAN
X-WR-TIMEZONE:Europe/Berlin
BEGIN:VTIMEZONE
TZID:Europe/Berlin
X-LIC-LOCATION:Europe/Berlin
BEGIN:DAYLIGHT
TZOFFSETFROM:+0100
TZOFFSETTO:+0200
TZNAME:CEST
DTSTART:19700329T020000
RRULE:FREQ=YEARLY;INTERVAL=1;BYDAY=-1SU;BYMONTH=3
END:DAYLIGHT
BEGIN:STANDARD
TZOFFSETFROM:+0200
TZOFFSETTO:+0100
TZNAME:CET
DTSTART:19701025T030000
RRULE:FREQ=YEARLY;INTERVAL=1;BYDAY=-1SU;BYMONTH=10
END:STANDARD
END:VTIMEZONE
BEGIN:VEVENT
DTSTAMP:20260419T232312
DTSTART;TZID=Europe/Berlin:20260110T103000
DTEND;TZID=Europe/Berlin:20260110T120000
UID:2602621021-20260110T103000@DÜSSELDORF ASG-BILDUNGSFORUM
SUMMARY:Familienbande: Konzentrationstraining Für Eltern und Kinder von 4 bis 6 Jahren (2602621021) 
LOCATION:ASG-M121;GY1, Münsterstraße 121, 40476 Düsseldorf
END:VEVENT
BEGIN:VEVENT
DTSTAMP:20260419T232312
DTSTART;TZID=Europe/Berlin:20260124T103000
DTEND;TZID=Europe/Berlin:20260124T120000
UID:2602621021-20260124T103000@DÜSSELDORF ASG-BILDUNGSFORUM
SUMMARY:Familienbande: Konzentrationstraining Für Eltern und Kinder von 4 bis 6 Jahren (2602621021) 
LOCATION:ASG-M121;GY1, Münsterstraße 121, 40476 Düsseldorf
END:VEVENT
BEGIN:VEVENT
DTSTAMP:20260419T232312
DTSTART;TZID=Europe/Berlin:20260207T103000
DTEND;TZID=Europe/Berlin:20260207T120000
UID:2602621021-20260207T103000@DÜSSELDORF ASG-BILDUNGSFORUM
SUMMARY:Familienbande: Konzentrationstraining Für Eltern und Kinder von 4 bis 6 Jahren (2602621021) 
LOCATION:ASG-M121;GY1, Münsterstraße 121, 40476 Düsseldorf
END:VEVENT
BEGIN:VEVENT
DTSTAMP:20260419T232312
DTSTART;TZID=Europe/Berlin:20260221T103000
DTEND;TZID=Europe/Berlin:20260221T120000
UID:2602621021-20260221T103000@DÜSSELDORF ASG-BILDUNGSFORUM
SUMMARY:Familienbande: Konzentrationstraining Für Eltern und Kinder von 4 bis 6 Jahren (2602621021) 
LOCATION:ASG-M121;GY1, Münsterstraße 121, 40476 Düsseldorf
END:VEVENT
BEGIN:VEVENT
DTSTAMP:20260419T232312
DTSTART;TZID=Europe/Berlin:20260307T103000
DTEND;TZID=Europe/Berlin:20260307T120000
UID:2602621021-20260307T103000@DÜSSELDORF ASG-BILDUNGSFORUM
SUMMARY:Familienbande: Konzentrationstraining Für Eltern und Kinder von 4 bis 6 Jahren (2602621021) 
LOCATION:ASG-M121;GY1, Münsterstraße 121, 40476 Düsseldorf
END:VEVENT
BEGIN:VEVENT
DTSTAMP:20260419T232312
DTSTART;TZID=Europe/Berlin:20260321T103000
DTEND;TZID=Europe/Berlin:20260321T120000
UID:2602621021-20260321T103000@DÜSSELDORF ASG-BILDUNGSFORUM
SUMMARY:Familienbande: Konzentrationstraining Für Eltern und Kinder von 4 bis 6 Jahren (2602621021) 
LOCATION:ASG-M121;GY1, Münsterstraße 121, 40476 Düsseldorf
END:VEVENT
BEGIN:VEVENT
DTSTAMP:20260419T232312
DTSTART;TZID=Europe/Berlin:20260418T103000
DTEND;TZID=Europe/Berlin:20260418T120000
UID:2602621021-20260418T103000@DÜSSELDORF ASG-BILDUNGSFORUM
SUMMARY:Familienbande: Konzentrationstraining Für Eltern und Kinder von 4 bis 6 Jahren (2602621021) 
LOCATION:ASG-M121;GY1, Münsterstraße 121, 40476 Düsseldorf
END:VEVENT
BEGIN:VEVENT
DTSTAMP:20260419T232312
DTSTART;TZID=Europe/Berlin:20260502T103000
DTEND;TZID=Europe/Berlin:20260502T120000
UID:2602621021-20260502T103000@DÜSSELDORF ASG-BILDUNGSFORUM
SUMMARY:Familienbande: Konzentrationstraining Für Eltern und Kinder von 4 bis 6 Jahren (2602621021) 
LOCATION:ASG-M121;GY1, Münsterstraße 121, 40476 Düsseldorf
END:VEVENT
BEGIN:VEVENT
DTSTAMP:20260419T232312
DTSTART;TZID=Europe/Berlin:20260516T103000
DTEND;TZID=Europe/Berlin:20260516T120000
UID:2602621021-20260516T103000@DÜSSELDORF ASG-BILDUNGSFORUM
SUMMARY:Familienbande: Konzentrationstraining Für Eltern und Kinder von 4 bis 6 Jahren (2602621021) 
LOCATION:ASG-M121;GY1, Münsterstraße 121, 40476 Düsseldorf
END:VEVENT
BEGIN:VEVENT
DTSTAMP:20260419T232312
DTSTART;TZID=Europe/Berlin:20260530T103000
DTEND;TZID=Europe/Berlin:20260530T120000
UID:2602621021-20260530T103000@DÜSSELDORF ASG-BILDUNGSFORUM
SUMMARY:Familienbande: Konzentrationstraining Für Eltern und Kinder von 4 bis 6 Jahren (2602621021) 
LOCATION:ASG-M121;GY1, Münsterstraße 121, 40476 Düsseldorf
END:VEVENT
BEGIN:VEVENT
DTSTAMP:20260419T232312
DTSTART;TZID=Europe/Berlin:20260613T103000
DTEND;TZID=Europe/Berlin:20260613T120000
UID:2602621021-20260613T103000@DÜSSELDORF ASG-BILDUNGSFORUM
SUMMARY:Familienbande: Konzentrationstraining Für Eltern und Kinder von 4 bis 6 Jahren (2602621021) 
LOCATION:ASG-M121;GY1, Münsterstraße 121, 40476 Düsseldorf
END:VEVENT
BEGIN:VEVENT
DTSTAMP:20260419T232312
DTSTART;TZID=Europe/Berlin:20260627T103000
DTEND;TZID=Europe/Berlin:20260627T120000
UID:2602621021-20260627T103000@DÜSSELDORF ASG-BILDUNGSFORUM
SUMMARY:Familienbande: Konzentrationstraining Für Eltern und Kinder von 4 bis 6 Jahren (2602621021) 
LOCATION:ASG-M121;GY1, Münsterstraße 121, 40476 Düsseldorf
END:VEVENT
BEGIN:VEVENT
DTSTAMP:20260419T232312
DTSTART;TZID=Europe/Berlin:20260711T103000
DTEND;TZID=Europe/Berlin:20260711T120000
UID:2602621021-20260711T103000@DÜSSELDORF ASG-BILDUNGSFORUM
SUMMARY:Familienbande: Konzentrationstraining Für Eltern und Kinder von 4 bis 6 Jahren (2602621021) 
LOCATION:ASG-M121;GY1, Münsterstraße 121, 40476 Düsseldorf
END:VEVENT
END:VCALENDAR