BEGIN:VCALENDAR
VERSION:2.0
PRODID:https://www.kufer.de/kuferweb / DE
METHOD:PUBLISH
CALSCALE:GREGORIAN
X-WR-TIMEZONE:Europe/Berlin
BEGIN:VTIMEZONE
TZID:Europe/Berlin
X-LIC-LOCATION:Europe/Berlin
BEGIN:DAYLIGHT
TZOFFSETFROM:+0100
TZOFFSETTO:+0200
TZNAME:CEST
DTSTART:19700329T020000
RRULE:FREQ=YEARLY;INTERVAL=1;BYDAY=-1SU;BYMONTH=3
END:DAYLIGHT
BEGIN:STANDARD
TZOFFSETFROM:+0200
TZOFFSETTO:+0100
TZNAME:CET
DTSTART:19701025T030000
RRULE:FREQ=YEARLY;INTERVAL=1;BYDAY=-1SU;BYMONTH=10
END:STANDARD
END:VTIMEZONE
BEGIN:VEVENT
DTSTAMP:20260422T005059
DTSTART;TZID=Europe/Berlin:20260112T150000
DTEND;TZID=Europe/Berlin:20260112T180000
UID:2602621206-20260112T150000@DÜSSELDORF ASG-BILDUNGSFORUM
SUMMARY:Eltern-Kind-Kurs: Spanische Spielgruppe. Für Eltern und Kinder von 1 bis 3 Jahren. Interner Kurs des Vereins Alegria (2602621206) 
LOCATION:ASG-G90;E0.02, Gerresheimer Straße 90, 40233 Düsseldorf
END:VEVENT
BEGIN:VEVENT
DTSTAMP:20260422T005059
DTSTART;TZID=Europe/Berlin:20260119T150000
DTEND;TZID=Europe/Berlin:20260119T180000
UID:2602621206-20260119T150000@DÜSSELDORF ASG-BILDUNGSFORUM
SUMMARY:Eltern-Kind-Kurs: Spanische Spielgruppe. Für Eltern und Kinder von 1 bis 3 Jahren. Interner Kurs des Vereins Alegria (2602621206) 
LOCATION:ASG-G90;E0.02, Gerresheimer Straße 90, 40233 Düsseldorf
END:VEVENT
BEGIN:VEVENT
DTSTAMP:20260422T005059
DTSTART;TZID=Europe/Berlin:20260126T150000
DTEND;TZID=Europe/Berlin:20260126T180000
UID:2602621206-20260126T150000@DÜSSELDORF ASG-BILDUNGSFORUM
SUMMARY:Eltern-Kind-Kurs: Spanische Spielgruppe. Für Eltern und Kinder von 1 bis 3 Jahren. Interner Kurs des Vereins Alegria (2602621206) 
LOCATION:ASG-G90;E0.02, Gerresheimer Straße 90, 40233 Düsseldorf
END:VEVENT
BEGIN:VEVENT
DTSTAMP:20260422T005059
DTSTART;TZID=Europe/Berlin:20260202T150000
DTEND;TZID=Europe/Berlin:20260202T180000
UID:2602621206-20260202T150000@DÜSSELDORF ASG-BILDUNGSFORUM
SUMMARY:Eltern-Kind-Kurs: Spanische Spielgruppe. Für Eltern und Kinder von 1 bis 3 Jahren. Interner Kurs des Vereins Alegria (2602621206) 
LOCATION:ASG-G90;E0.02, Gerresheimer Straße 90, 40233 Düsseldorf
END:VEVENT
BEGIN:VEVENT
DTSTAMP:20260422T005059
DTSTART;TZID=Europe/Berlin:20260209T150000
DTEND;TZID=Europe/Berlin:20260209T180000
UID:2602621206-20260209T150000@DÜSSELDORF ASG-BILDUNGSFORUM
SUMMARY:Eltern-Kind-Kurs: Spanische Spielgruppe. Für Eltern und Kinder von 1 bis 3 Jahren. Interner Kurs des Vereins Alegria (2602621206) 
LOCATION:ASG-G90;E0.02, Gerresheimer Straße 90, 40233 Düsseldorf
END:VEVENT
BEGIN:VEVENT
DTSTAMP:20260422T005059
DTSTART;TZID=Europe/Berlin:20260223T150000
DTEND;TZID=Europe/Berlin:20260223T180000
UID:2602621206-20260223T150000@DÜSSELDORF ASG-BILDUNGSFORUM
SUMMARY:Eltern-Kind-Kurs: Spanische Spielgruppe. Für Eltern und Kinder von 1 bis 3 Jahren. Interner Kurs des Vereins Alegria (2602621206) 
LOCATION:ASG-G90;E0.02, Gerresheimer Straße 90, 40233 Düsseldorf
END:VEVENT
BEGIN:VEVENT
DTSTAMP:20260422T005059
DTSTART;TZID=Europe/Berlin:20260302T150000
DTEND;TZID=Europe/Berlin:20260302T180000
UID:2602621206-20260302T150000@DÜSSELDORF ASG-BILDUNGSFORUM
SUMMARY:Eltern-Kind-Kurs: Spanische Spielgruppe. Für Eltern und Kinder von 1 bis 3 Jahren. Interner Kurs des Vereins Alegria (2602621206) 
LOCATION:ASG-G90;E0.02, Gerresheimer Straße 90, 40233 Düsseldorf
END:VEVENT
BEGIN:VEVENT
DTSTAMP:20260422T005059
DTSTART;TZID=Europe/Berlin:20260309T150000
DTEND;TZID=Europe/Berlin:20260309T180000
UID:2602621206-20260309T150000@DÜSSELDORF ASG-BILDUNGSFORUM
SUMMARY:Eltern-Kind-Kurs: Spanische Spielgruppe. Für Eltern und Kinder von 1 bis 3 Jahren. Interner Kurs des Vereins Alegria (2602621206) 
LOCATION:ASG-G90;E0.02, Gerresheimer Straße 90, 40233 Düsseldorf
END:VEVENT
BEGIN:VEVENT
DTSTAMP:20260422T005059
DTSTART;TZID=Europe/Berlin:20260316T150000
DTEND;TZID=Europe/Berlin:20260316T180000
UID:2602621206-20260316T150000@DÜSSELDORF ASG-BILDUNGSFORUM
SUMMARY:Eltern-Kind-Kurs: Spanische Spielgruppe. Für Eltern und Kinder von 1 bis 3 Jahren. Interner Kurs des Vereins Alegria (2602621206) 
LOCATION:ASG-G90;E0.02, Gerresheimer Straße 90, 40233 Düsseldorf
END:VEVENT
BEGIN:VEVENT
DTSTAMP:20260422T005059
DTSTART;TZID=Europe/Berlin:20260323T150000
DTEND;TZID=Europe/Berlin:20260323T180000
UID:2602621206-20260323T150000@DÜSSELDORF ASG-BILDUNGSFORUM
SUMMARY:Eltern-Kind-Kurs: Spanische Spielgruppe. Für Eltern und Kinder von 1 bis 3 Jahren. Interner Kurs des Vereins Alegria (2602621206) 
LOCATION:ASG-G90;E0.02, Gerresheimer Straße 90, 40233 Düsseldorf
END:VEVENT
BEGIN:VEVENT
DTSTAMP:20260422T005059
DTSTART;TZID=Europe/Berlin:20260413T150000
DTEND;TZID=Europe/Berlin:20260413T180000
UID:2602621206-20260413T150000@DÜSSELDORF ASG-BILDUNGSFORUM
SUMMARY:Eltern-Kind-Kurs: Spanische Spielgruppe. Für Eltern und Kinder von 1 bis 3 Jahren. Interner Kurs des Vereins Alegria (2602621206) 
LOCATION:ASG-G90;E0.02, Gerresheimer Straße 90, 40233 Düsseldorf
END:VEVENT
BEGIN:VEVENT
DTSTAMP:20260422T005059
DTSTART;TZID=Europe/Berlin:20260420T150000
DTEND;TZID=Europe/Berlin:20260420T180000
UID:2602621206-20260420T150000@DÜSSELDORF ASG-BILDUNGSFORUM
SUMMARY:Eltern-Kind-Kurs: Spanische Spielgruppe. Für Eltern und Kinder von 1 bis 3 Jahren. Interner Kurs des Vereins Alegria (2602621206) 
LOCATION:ASG-G90;E0.02, Gerresheimer Straße 90, 40233 Düsseldorf
END:VEVENT
BEGIN:VEVENT
DTSTAMP:20260422T005059
DTSTART;TZID=Europe/Berlin:20260427T150000
DTEND;TZID=Europe/Berlin:20260427T180000
UID:2602621206-20260427T150000@DÜSSELDORF ASG-BILDUNGSFORUM
SUMMARY:Eltern-Kind-Kurs: Spanische Spielgruppe. Für Eltern und Kinder von 1 bis 3 Jahren. Interner Kurs des Vereins Alegria (2602621206) 
LOCATION:ASG-G90;E0.02, Gerresheimer Straße 90, 40233 Düsseldorf
END:VEVENT
BEGIN:VEVENT
DTSTAMP:20260422T005059
DTSTART;TZID=Europe/Berlin:20260504T150000
DTEND;TZID=Europe/Berlin:20260504T180000
UID:2602621206-20260504T150000@DÜSSELDORF ASG-BILDUNGSFORUM
SUMMARY:Eltern-Kind-Kurs: Spanische Spielgruppe. Für Eltern und Kinder von 1 bis 3 Jahren. Interner Kurs des Vereins Alegria (2602621206) 
LOCATION:ASG-G90;E0.02, Gerresheimer Straße 90, 40233 Düsseldorf
END:VEVENT
BEGIN:VEVENT
DTSTAMP:20260422T005059
DTSTART;TZID=Europe/Berlin:20260511T150000
DTEND;TZID=Europe/Berlin:20260511T180000
UID:2602621206-20260511T150000@DÜSSELDORF ASG-BILDUNGSFORUM
SUMMARY:Eltern-Kind-Kurs: Spanische Spielgruppe. Für Eltern und Kinder von 1 bis 3 Jahren. Interner Kurs des Vereins Alegria (2602621206) 
LOCATION:ASG-G90;E0.02, Gerresheimer Straße 90, 40233 Düsseldorf
END:VEVENT
BEGIN:VEVENT
DTSTAMP:20260422T005059
DTSTART;TZID=Europe/Berlin:20260518T150000
DTEND;TZID=Europe/Berlin:20260518T180000
UID:2602621206-20260518T150000@DÜSSELDORF ASG-BILDUNGSFORUM
SUMMARY:Eltern-Kind-Kurs: Spanische Spielgruppe. Für Eltern und Kinder von 1 bis 3 Jahren. Interner Kurs des Vereins Alegria (2602621206) 
LOCATION:ASG-G90;E0.02, Gerresheimer Straße 90, 40233 Düsseldorf
END:VEVENT
BEGIN:VEVENT
DTSTAMP:20260422T005059
DTSTART;TZID=Europe/Berlin:20260601T150000
DTEND;TZID=Europe/Berlin:20260601T180000
UID:2602621206-20260601T150000@DÜSSELDORF ASG-BILDUNGSFORUM
SUMMARY:Eltern-Kind-Kurs: Spanische Spielgruppe. Für Eltern und Kinder von 1 bis 3 Jahren. Interner Kurs des Vereins Alegria (2602621206) 
LOCATION:ASG-G90;E0.02, Gerresheimer Straße 90, 40233 Düsseldorf
END:VEVENT
BEGIN:VEVENT
DTSTAMP:20260422T005059
DTSTART;TZID=Europe/Berlin:20260608T150000
DTEND;TZID=Europe/Berlin:20260608T180000
UID:2602621206-20260608T150000@DÜSSELDORF ASG-BILDUNGSFORUM
SUMMARY:Eltern-Kind-Kurs: Spanische Spielgruppe. Für Eltern und Kinder von 1 bis 3 Jahren. Interner Kurs des Vereins Alegria (2602621206) 
LOCATION:ASG-G90;E0.02, Gerresheimer Straße 90, 40233 Düsseldorf
END:VEVENT
BEGIN:VEVENT
DTSTAMP:20260422T005059
DTSTART;TZID=Europe/Berlin:20260615T150000
DTEND;TZID=Europe/Berlin:20260615T180000
UID:2602621206-20260615T150000@DÜSSELDORF ASG-BILDUNGSFORUM
SUMMARY:Eltern-Kind-Kurs: Spanische Spielgruppe. Für Eltern und Kinder von 1 bis 3 Jahren. Interner Kurs des Vereins Alegria (2602621206) 
LOCATION:ASG-G90;E0.02, Gerresheimer Straße 90, 40233 Düsseldorf
END:VEVENT
BEGIN:VEVENT
DTSTAMP:20260422T005059
DTSTART;TZID=Europe/Berlin:20260622T150000
DTEND;TZID=Europe/Berlin:20260622T180000
UID:2602621206-20260622T150000@DÜSSELDORF ASG-BILDUNGSFORUM
SUMMARY:Eltern-Kind-Kurs: Spanische Spielgruppe. Für Eltern und Kinder von 1 bis 3 Jahren. Interner Kurs des Vereins Alegria (2602621206) 
LOCATION:ASG-G90;E0.02, Gerresheimer Straße 90, 40233 Düsseldorf
END:VEVENT
BEGIN:VEVENT
DTSTAMP:20260422T005059
DTSTART;TZID=Europe/Berlin:20260629T150000
DTEND;TZID=Europe/Berlin:20260629T180000
UID:2602621206-20260629T150000@DÜSSELDORF ASG-BILDUNGSFORUM
SUMMARY:Eltern-Kind-Kurs: Spanische Spielgruppe. Für Eltern und Kinder von 1 bis 3 Jahren. Interner Kurs des Vereins Alegria (2602621206) 
LOCATION:ASG-G90;E0.02, Gerresheimer Straße 90, 40233 Düsseldorf
END:VEVENT
BEGIN:VEVENT
DTSTAMP:20260422T005059
DTSTART;TZID=Europe/Berlin:20260706T150000
DTEND;TZID=Europe/Berlin:20260706T180000
UID:2602621206-20260706T150000@DÜSSELDORF ASG-BILDUNGSFORUM
SUMMARY:Eltern-Kind-Kurs: Spanische Spielgruppe. Für Eltern und Kinder von 1 bis 3 Jahren. Interner Kurs des Vereins Alegria (2602621206) 
LOCATION:ASG-G90;E0.02, Gerresheimer Straße 90, 40233 Düsseldorf
END:VEVENT
BEGIN:VEVENT
DTSTAMP:20260422T005059
DTSTART;TZID=Europe/Berlin:20260713T150000
DTEND;TZID=Europe/Berlin:20260713T180000
UID:2602621206-20260713T150000@DÜSSELDORF ASG-BILDUNGSFORUM
SUMMARY:Eltern-Kind-Kurs: Spanische Spielgruppe. Für Eltern und Kinder von 1 bis 3 Jahren. Interner Kurs des Vereins Alegria (2602621206) 
LOCATION:ASG-G90;E0.02, Gerresheimer Straße 90, 40233 Düsseldorf
END:VEVENT
END:VCALENDAR