BEGIN:VCALENDAR
VERSION:2.0
PRODID:https://www.kufer.de/kuferweb / DE
METHOD:PUBLISH
CALSCALE:GREGORIAN
X-WR-TIMEZONE:Europe/Berlin
BEGIN:VTIMEZONE
TZID:Europe/Berlin
X-LIC-LOCATION:Europe/Berlin
BEGIN:DAYLIGHT
TZOFFSETFROM:+0100
TZOFFSETTO:+0200
TZNAME:CEST
DTSTART:19700329T020000
RRULE:FREQ=YEARLY;INTERVAL=1;BYDAY=-1SU;BYMONTH=3
END:DAYLIGHT
BEGIN:STANDARD
TZOFFSETFROM:+0200
TZOFFSETTO:+0100
TZNAME:CET
DTSTART:19701025T030000
RRULE:FREQ=YEARLY;INTERVAL=1;BYDAY=-1SU;BYMONTH=10
END:STANDARD
END:VTIMEZONE
BEGIN:VEVENT
DTSTAMP:20260420T232053
DTSTART;TZID=Europe/Berlin:20260112T144500
DTEND;TZID=Europe/Berlin:20260112T161500
UID:2602621209-20260112T144500@DÜSSELDORF ASG-BILDUNGSFORUM
SUMMARY:Spanisch für Kinder. Interner Kurs des Vereins Alegria (2602621209) 
LOCATION:ASG-G90;2.02, Gerresheimer Straße 90, 40233 Düsseldorf
END:VEVENT
BEGIN:VEVENT
DTSTAMP:20260420T232053
DTSTART;TZID=Europe/Berlin:20260119T144500
DTEND;TZID=Europe/Berlin:20260119T161500
UID:2602621209-20260119T144500@DÜSSELDORF ASG-BILDUNGSFORUM
SUMMARY:Spanisch für Kinder. Interner Kurs des Vereins Alegria (2602621209) 
LOCATION:ASG-G90;2.02, Gerresheimer Straße 90, 40233 Düsseldorf
END:VEVENT
BEGIN:VEVENT
DTSTAMP:20260420T232053
DTSTART;TZID=Europe/Berlin:20260126T144500
DTEND;TZID=Europe/Berlin:20260126T161500
UID:2602621209-20260126T144500@DÜSSELDORF ASG-BILDUNGSFORUM
SUMMARY:Spanisch für Kinder. Interner Kurs des Vereins Alegria (2602621209) 
LOCATION:ASG-G90;2.02, Gerresheimer Straße 90, 40233 Düsseldorf
END:VEVENT
BEGIN:VEVENT
DTSTAMP:20260420T232053
DTSTART;TZID=Europe/Berlin:20260202T144500
DTEND;TZID=Europe/Berlin:20260202T161500
UID:2602621209-20260202T144500@DÜSSELDORF ASG-BILDUNGSFORUM
SUMMARY:Spanisch für Kinder. Interner Kurs des Vereins Alegria (2602621209) 
LOCATION:ASG-G90;2.02, Gerresheimer Straße 90, 40233 Düsseldorf
END:VEVENT
BEGIN:VEVENT
DTSTAMP:20260420T232053
DTSTART;TZID=Europe/Berlin:20260209T144500
DTEND;TZID=Europe/Berlin:20260209T161500
UID:2602621209-20260209T144500@DÜSSELDORF ASG-BILDUNGSFORUM
SUMMARY:Spanisch für Kinder. Interner Kurs des Vereins Alegria (2602621209) 
LOCATION:ASG-G90;2.02, Gerresheimer Straße 90, 40233 Düsseldorf
END:VEVENT
BEGIN:VEVENT
DTSTAMP:20260420T232053
DTSTART;TZID=Europe/Berlin:20260223T144500
DTEND;TZID=Europe/Berlin:20260223T161500
UID:2602621209-20260223T144500@DÜSSELDORF ASG-BILDUNGSFORUM
SUMMARY:Spanisch für Kinder. Interner Kurs des Vereins Alegria (2602621209) 
LOCATION:ASG-G90;2.02, Gerresheimer Straße 90, 40233 Düsseldorf
END:VEVENT
BEGIN:VEVENT
DTSTAMP:20260420T232053
DTSTART;TZID=Europe/Berlin:20260302T144500
DTEND;TZID=Europe/Berlin:20260302T161500
UID:2602621209-20260302T144500@DÜSSELDORF ASG-BILDUNGSFORUM
SUMMARY:Spanisch für Kinder. Interner Kurs des Vereins Alegria (2602621209) 
LOCATION:ASG-G90;2.02, Gerresheimer Straße 90, 40233 Düsseldorf
END:VEVENT
BEGIN:VEVENT
DTSTAMP:20260420T232053
DTSTART;TZID=Europe/Berlin:20260309T144500
DTEND;TZID=Europe/Berlin:20260309T161500
UID:2602621209-20260309T144500@DÜSSELDORF ASG-BILDUNGSFORUM
SUMMARY:Spanisch für Kinder. Interner Kurs des Vereins Alegria (2602621209) 
LOCATION:ASG-G90;2.02, Gerresheimer Straße 90, 40233 Düsseldorf
END:VEVENT
BEGIN:VEVENT
DTSTAMP:20260420T232053
DTSTART;TZID=Europe/Berlin:20260316T144500
DTEND;TZID=Europe/Berlin:20260316T161500
UID:2602621209-20260316T144500@DÜSSELDORF ASG-BILDUNGSFORUM
SUMMARY:Spanisch für Kinder. Interner Kurs des Vereins Alegria (2602621209) 
LOCATION:ASG-G90;2.02, Gerresheimer Straße 90, 40233 Düsseldorf
END:VEVENT
BEGIN:VEVENT
DTSTAMP:20260420T232053
DTSTART;TZID=Europe/Berlin:20260323T144500
DTEND;TZID=Europe/Berlin:20260323T161500
UID:2602621209-20260323T144500@DÜSSELDORF ASG-BILDUNGSFORUM
SUMMARY:Spanisch für Kinder. Interner Kurs des Vereins Alegria (2602621209) 
LOCATION:ASG-G90;2.02, Gerresheimer Straße 90, 40233 Düsseldorf
END:VEVENT
BEGIN:VEVENT
DTSTAMP:20260420T232053
DTSTART;TZID=Europe/Berlin:20260413T144500
DTEND;TZID=Europe/Berlin:20260413T161500
UID:2602621209-20260413T144500@DÜSSELDORF ASG-BILDUNGSFORUM
SUMMARY:Spanisch für Kinder. Interner Kurs des Vereins Alegria (2602621209) 
LOCATION:ASG-G90;2.02, Gerresheimer Straße 90, 40233 Düsseldorf
END:VEVENT
BEGIN:VEVENT
DTSTAMP:20260420T232053
DTSTART;TZID=Europe/Berlin:20260420T144500
DTEND;TZID=Europe/Berlin:20260420T161500
UID:2602621209-20260420T144500@DÜSSELDORF ASG-BILDUNGSFORUM
SUMMARY:Spanisch für Kinder. Interner Kurs des Vereins Alegria (2602621209) 
LOCATION:ASG-G90;2.02, Gerresheimer Straße 90, 40233 Düsseldorf
END:VEVENT
BEGIN:VEVENT
DTSTAMP:20260420T232053
DTSTART;TZID=Europe/Berlin:20260427T144500
DTEND;TZID=Europe/Berlin:20260427T161500
UID:2602621209-20260427T144500@DÜSSELDORF ASG-BILDUNGSFORUM
SUMMARY:Spanisch für Kinder. Interner Kurs des Vereins Alegria (2602621209) 
LOCATION:ASG-G90;2.02, Gerresheimer Straße 90, 40233 Düsseldorf
END:VEVENT
BEGIN:VEVENT
DTSTAMP:20260420T232053
DTSTART;TZID=Europe/Berlin:20260504T144500
DTEND;TZID=Europe/Berlin:20260504T161500
UID:2602621209-20260504T144500@DÜSSELDORF ASG-BILDUNGSFORUM
SUMMARY:Spanisch für Kinder. Interner Kurs des Vereins Alegria (2602621209) 
LOCATION:ASG-G90;2.02, Gerresheimer Straße 90, 40233 Düsseldorf
END:VEVENT
BEGIN:VEVENT
DTSTAMP:20260420T232053
DTSTART;TZID=Europe/Berlin:20260511T144500
DTEND;TZID=Europe/Berlin:20260511T161500
UID:2602621209-20260511T144500@DÜSSELDORF ASG-BILDUNGSFORUM
SUMMARY:Spanisch für Kinder. Interner Kurs des Vereins Alegria (2602621209) 
LOCATION:ASG-G90;2.02, Gerresheimer Straße 90, 40233 Düsseldorf
END:VEVENT
BEGIN:VEVENT
DTSTAMP:20260420T232053
DTSTART;TZID=Europe/Berlin:20260518T144500
DTEND;TZID=Europe/Berlin:20260518T161500
UID:2602621209-20260518T144500@DÜSSELDORF ASG-BILDUNGSFORUM
SUMMARY:Spanisch für Kinder. Interner Kurs des Vereins Alegria (2602621209) 
LOCATION:ASG-G90;2.02, Gerresheimer Straße 90, 40233 Düsseldorf
END:VEVENT
BEGIN:VEVENT
DTSTAMP:20260420T232053
DTSTART;TZID=Europe/Berlin:20260601T144500
DTEND;TZID=Europe/Berlin:20260601T161500
UID:2602621209-20260601T144500@DÜSSELDORF ASG-BILDUNGSFORUM
SUMMARY:Spanisch für Kinder. Interner Kurs des Vereins Alegria (2602621209) 
LOCATION:ASG-G90;2.02, Gerresheimer Straße 90, 40233 Düsseldorf
END:VEVENT
BEGIN:VEVENT
DTSTAMP:20260420T232053
DTSTART;TZID=Europe/Berlin:20260608T144500
DTEND;TZID=Europe/Berlin:20260608T161500
UID:2602621209-20260608T144500@DÜSSELDORF ASG-BILDUNGSFORUM
SUMMARY:Spanisch für Kinder. Interner Kurs des Vereins Alegria (2602621209) 
LOCATION:ASG-G90;2.02, Gerresheimer Straße 90, 40233 Düsseldorf
END:VEVENT
BEGIN:VEVENT
DTSTAMP:20260420T232053
DTSTART;TZID=Europe/Berlin:20260615T144500
DTEND;TZID=Europe/Berlin:20260615T161500
UID:2602621209-20260615T144500@DÜSSELDORF ASG-BILDUNGSFORUM
SUMMARY:Spanisch für Kinder. Interner Kurs des Vereins Alegria (2602621209) 
LOCATION:ASG-G90;2.02, Gerresheimer Straße 90, 40233 Düsseldorf
END:VEVENT
BEGIN:VEVENT
DTSTAMP:20260420T232053
DTSTART;TZID=Europe/Berlin:20260622T144500
DTEND;TZID=Europe/Berlin:20260622T161500
UID:2602621209-20260622T144500@DÜSSELDORF ASG-BILDUNGSFORUM
SUMMARY:Spanisch für Kinder. Interner Kurs des Vereins Alegria (2602621209) 
LOCATION:ASG-G90;2.02, Gerresheimer Straße 90, 40233 Düsseldorf
END:VEVENT
BEGIN:VEVENT
DTSTAMP:20260420T232053
DTSTART;TZID=Europe/Berlin:20260629T144500
DTEND;TZID=Europe/Berlin:20260629T161500
UID:2602621209-20260629T144500@DÜSSELDORF ASG-BILDUNGSFORUM
SUMMARY:Spanisch für Kinder. Interner Kurs des Vereins Alegria (2602621209) 
LOCATION:ASG-G90;2.02, Gerresheimer Straße 90, 40233 Düsseldorf
END:VEVENT
BEGIN:VEVENT
DTSTAMP:20260420T232053
DTSTART;TZID=Europe/Berlin:20260706T144500
DTEND;TZID=Europe/Berlin:20260706T161500
UID:2602621209-20260706T144500@DÜSSELDORF ASG-BILDUNGSFORUM
SUMMARY:Spanisch für Kinder. Interner Kurs des Vereins Alegria (2602621209) 
LOCATION:ASG-G90;2.02, Gerresheimer Straße 90, 40233 Düsseldorf
END:VEVENT
BEGIN:VEVENT
DTSTAMP:20260420T232053
DTSTART;TZID=Europe/Berlin:20260713T144500
DTEND;TZID=Europe/Berlin:20260713T161500
UID:2602621209-20260713T144500@DÜSSELDORF ASG-BILDUNGSFORUM
SUMMARY:Spanisch für Kinder. Interner Kurs des Vereins Alegria (2602621209) 
LOCATION:ASG-G90;2.02, Gerresheimer Straße 90, 40233 Düsseldorf
END:VEVENT
END:VCALENDAR