BEGIN:VCALENDAR
VERSION:2.0
PRODID:https://www.kufer.de/kuferweb / DE
METHOD:PUBLISH
CALSCALE:GREGORIAN
X-WR-TIMEZONE:Europe/Berlin
BEGIN:VTIMEZONE
TZID:Europe/Berlin
X-LIC-LOCATION:Europe/Berlin
BEGIN:DAYLIGHT
TZOFFSETFROM:+0100
TZOFFSETTO:+0200
TZNAME:CEST
DTSTART:19700329T020000
RRULE:FREQ=YEARLY;INTERVAL=1;BYDAY=-1SU;BYMONTH=3
END:DAYLIGHT
BEGIN:STANDARD
TZOFFSETFROM:+0200
TZOFFSETTO:+0100
TZNAME:CET
DTSTART:19701025T030000
RRULE:FREQ=YEARLY;INTERVAL=1;BYDAY=-1SU;BYMONTH=10
END:STANDARD
END:VTIMEZONE
BEGIN:VEVENT
DTSTAMP:20260420T144826
DTSTART;TZID=Europe/Berlin:20260121T093000
DTEND;TZID=Europe/Berlin:20260121T114500
UID:2602621220-20260121T093000@DÜSSELDORF ASG-BILDUNGSFORUM
SUMMARY:Elternstart NRW: Offener Spieltreff für Eltern und Babys im 1. Lebensjahr ab ca. 3 Monaten (2602621220) 
LOCATION:ASG-W27;001, Wildenbruchstraße 27, 40545 Düsseldorf
END:VEVENT
BEGIN:VEVENT
DTSTAMP:20260420T144826
DTSTART;TZID=Europe/Berlin:20260128T093000
DTEND;TZID=Europe/Berlin:20260128T114500
UID:2602621220-20260128T093000@DÜSSELDORF ASG-BILDUNGSFORUM
SUMMARY:Elternstart NRW: Offener Spieltreff für Eltern und Babys im 1. Lebensjahr ab ca. 3 Monaten (2602621220) 
LOCATION:ASG-W27;001, Wildenbruchstraße 27, 40545 Düsseldorf
END:VEVENT
BEGIN:VEVENT
DTSTAMP:20260420T144826
DTSTART;TZID=Europe/Berlin:20260204T093000
DTEND;TZID=Europe/Berlin:20260204T114500
UID:2602621220-20260204T093000@DÜSSELDORF ASG-BILDUNGSFORUM
SUMMARY:Elternstart NRW: Offener Spieltreff für Eltern und Babys im 1. Lebensjahr ab ca. 3 Monaten (2602621220) 
LOCATION:ASG-W27;001, Wildenbruchstraße 27, 40545 Düsseldorf
END:VEVENT
BEGIN:VEVENT
DTSTAMP:20260420T144826
DTSTART;TZID=Europe/Berlin:20260211T093000
DTEND;TZID=Europe/Berlin:20260211T114500
UID:2602621220-20260211T093000@DÜSSELDORF ASG-BILDUNGSFORUM
SUMMARY:Elternstart NRW: Offener Spieltreff für Eltern und Babys im 1. Lebensjahr ab ca. 3 Monaten (2602621220) 
LOCATION:ASG-W27;001, Wildenbruchstraße 27, 40545 Düsseldorf
END:VEVENT
BEGIN:VEVENT
DTSTAMP:20260420T144826
DTSTART;TZID=Europe/Berlin:20260218T093000
DTEND;TZID=Europe/Berlin:20260218T114500
UID:2602621220-20260218T093000@DÜSSELDORF ASG-BILDUNGSFORUM
SUMMARY:Elternstart NRW: Offener Spieltreff für Eltern und Babys im 1. Lebensjahr ab ca. 3 Monaten (2602621220) 
LOCATION:ASG-W27;001, Wildenbruchstraße 27, 40545 Düsseldorf
END:VEVENT
BEGIN:VEVENT
DTSTAMP:20260420T144826
DTSTART;TZID=Europe/Berlin:20260225T093000
DTEND;TZID=Europe/Berlin:20260225T114500
UID:2602621220-20260225T093000@DÜSSELDORF ASG-BILDUNGSFORUM
SUMMARY:Elternstart NRW: Offener Spieltreff für Eltern und Babys im 1. Lebensjahr ab ca. 3 Monaten (2602621220) 
LOCATION:ASG-W27;001, Wildenbruchstraße 27, 40545 Düsseldorf
END:VEVENT
BEGIN:VEVENT
DTSTAMP:20260420T144826
DTSTART;TZID=Europe/Berlin:20260304T093000
DTEND;TZID=Europe/Berlin:20260304T114500
UID:2602621220-20260304T093000@DÜSSELDORF ASG-BILDUNGSFORUM
SUMMARY:Elternstart NRW: Offener Spieltreff für Eltern und Babys im 1. Lebensjahr ab ca. 3 Monaten (2602621220) 
LOCATION:ASG-W27;001, Wildenbruchstraße 27, 40545 Düsseldorf
END:VEVENT
BEGIN:VEVENT
DTSTAMP:20260420T144826
DTSTART;TZID=Europe/Berlin:20260311T093000
DTEND;TZID=Europe/Berlin:20260311T114500
UID:2602621220-20260311T093000@DÜSSELDORF ASG-BILDUNGSFORUM
SUMMARY:Elternstart NRW: Offener Spieltreff für Eltern und Babys im 1. Lebensjahr ab ca. 3 Monaten (2602621220) 
LOCATION:ASG-W27;001, Wildenbruchstraße 27, 40545 Düsseldorf
END:VEVENT
BEGIN:VEVENT
DTSTAMP:20260420T144826
DTSTART;TZID=Europe/Berlin:20260318T093000
DTEND;TZID=Europe/Berlin:20260318T114500
UID:2602621220-20260318T093000@DÜSSELDORF ASG-BILDUNGSFORUM
SUMMARY:Elternstart NRW: Offener Spieltreff für Eltern und Babys im 1. Lebensjahr ab ca. 3 Monaten (2602621220) 
LOCATION:ASG-W27;001, Wildenbruchstraße 27, 40545 Düsseldorf
END:VEVENT
BEGIN:VEVENT
DTSTAMP:20260420T144826
DTSTART;TZID=Europe/Berlin:20260415T093000
DTEND;TZID=Europe/Berlin:20260415T114500
UID:2602621220-20260415T093000@DÜSSELDORF ASG-BILDUNGSFORUM
SUMMARY:Elternstart NRW: Offener Spieltreff für Eltern und Babys im 1. Lebensjahr ab ca. 3 Monaten (2602621220) 
LOCATION:ASG-W27;001, Wildenbruchstraße 27, 40545 Düsseldorf
END:VEVENT
BEGIN:VEVENT
DTSTAMP:20260420T144826
DTSTART;TZID=Europe/Berlin:20260429T093000
DTEND;TZID=Europe/Berlin:20260429T114500
UID:2602621220-20260429T093000@DÜSSELDORF ASG-BILDUNGSFORUM
SUMMARY:Elternstart NRW: Offener Spieltreff für Eltern und Babys im 1. Lebensjahr ab ca. 3 Monaten (2602621220) 
LOCATION:ASG-W27;001, Wildenbruchstraße 27, 40545 Düsseldorf
END:VEVENT
BEGIN:VEVENT
DTSTAMP:20260420T144826
DTSTART;TZID=Europe/Berlin:20260506T093000
DTEND;TZID=Europe/Berlin:20260506T114500
UID:2602621220-20260506T093000@DÜSSELDORF ASG-BILDUNGSFORUM
SUMMARY:Elternstart NRW: Offener Spieltreff für Eltern und Babys im 1. Lebensjahr ab ca. 3 Monaten (2602621220) 
LOCATION:ASG-W27;001, Wildenbruchstraße 27, 40545 Düsseldorf
END:VEVENT
BEGIN:VEVENT
DTSTAMP:20260420T144826
DTSTART;TZID=Europe/Berlin:20260513T093000
DTEND;TZID=Europe/Berlin:20260513T114500
UID:2602621220-20260513T093000@DÜSSELDORF ASG-BILDUNGSFORUM
SUMMARY:Elternstart NRW: Offener Spieltreff für Eltern und Babys im 1. Lebensjahr ab ca. 3 Monaten (2602621220) 
LOCATION:ASG-W27;001, Wildenbruchstraße 27, 40545 Düsseldorf
END:VEVENT
BEGIN:VEVENT
DTSTAMP:20260420T144826
DTSTART;TZID=Europe/Berlin:20260520T093000
DTEND;TZID=Europe/Berlin:20260520T114500
UID:2602621220-20260520T093000@DÜSSELDORF ASG-BILDUNGSFORUM
SUMMARY:Elternstart NRW: Offener Spieltreff für Eltern und Babys im 1. Lebensjahr ab ca. 3 Monaten (2602621220) 
LOCATION:ASG-W27;001, Wildenbruchstraße 27, 40545 Düsseldorf
END:VEVENT
BEGIN:VEVENT
DTSTAMP:20260420T144826
DTSTART;TZID=Europe/Berlin:20260527T093000
DTEND;TZID=Europe/Berlin:20260527T114500
UID:2602621220-20260527T093000@DÜSSELDORF ASG-BILDUNGSFORUM
SUMMARY:Elternstart NRW: Offener Spieltreff für Eltern und Babys im 1. Lebensjahr ab ca. 3 Monaten (2602621220) 
LOCATION:ASG-W27;001, Wildenbruchstraße 27, 40545 Düsseldorf
END:VEVENT
BEGIN:VEVENT
DTSTAMP:20260420T144826
DTSTART;TZID=Europe/Berlin:20260603T093000
DTEND;TZID=Europe/Berlin:20260603T114500
UID:2602621220-20260603T093000@DÜSSELDORF ASG-BILDUNGSFORUM
SUMMARY:Elternstart NRW: Offener Spieltreff für Eltern und Babys im 1. Lebensjahr ab ca. 3 Monaten (2602621220) 
LOCATION:ASG-W27;001, Wildenbruchstraße 27, 40545 Düsseldorf
END:VEVENT
BEGIN:VEVENT
DTSTAMP:20260420T144826
DTSTART;TZID=Europe/Berlin:20260610T093000
DTEND;TZID=Europe/Berlin:20260610T114500
UID:2602621220-20260610T093000@DÜSSELDORF ASG-BILDUNGSFORUM
SUMMARY:Elternstart NRW: Offener Spieltreff für Eltern und Babys im 1. Lebensjahr ab ca. 3 Monaten (2602621220) 
LOCATION:ASG-W27;001, Wildenbruchstraße 27, 40545 Düsseldorf
END:VEVENT
BEGIN:VEVENT
DTSTAMP:20260420T144826
DTSTART;TZID=Europe/Berlin:20260617T093000
DTEND;TZID=Europe/Berlin:20260617T114500
UID:2602621220-20260617T093000@DÜSSELDORF ASG-BILDUNGSFORUM
DESCRIPTION:NHT vom 22.4., 10.3. tei
SUMMARY:Elternstart NRW: Offener Spieltreff für Eltern und Babys im 1. Lebensjahr ab ca. 3 Monaten (2602621220) 
LOCATION:ASG-W27;001, Wildenbruchstraße 27, 40545 Düsseldorf
END:VEVENT
END:VCALENDAR