BEGIN:VCALENDAR
VERSION:2.0
PRODID:https://www.kufer.de/kuferweb / DE
METHOD:PUBLISH
CALSCALE:GREGORIAN
X-WR-TIMEZONE:Europe/Berlin
BEGIN:VTIMEZONE
TZID:Europe/Berlin
X-LIC-LOCATION:Europe/Berlin
BEGIN:DAYLIGHT
TZOFFSETFROM:+0100
TZOFFSETTO:+0200
TZNAME:CEST
DTSTART:19700329T020000
RRULE:FREQ=YEARLY;INTERVAL=1;BYDAY=-1SU;BYMONTH=3
END:DAYLIGHT
BEGIN:STANDARD
TZOFFSETFROM:+0200
TZOFFSETTO:+0100
TZNAME:CET
DTSTART:19701025T030000
RRULE:FREQ=YEARLY;INTERVAL=1;BYDAY=-1SU;BYMONTH=10
END:STANDARD
END:VTIMEZONE
BEGIN:VEVENT
DTSTAMP:20260420T162405
DTSTART;TZID=Europe/Berlin:20260107T153000
DTEND;TZID=Europe/Berlin:20260107T173000
UID:2602621230-20260107T153000@DÜSSELDORF ASG-BILDUNGSFORUM
SUMMARY:Pikler-Spielraum für große und kleine Entdecker Für Eltern und Kinder bis 6 Jahren (2602621230) 
LOCATION:ASG-R43;Großer Kindergruppenraum, Rather Kreuzweg 43, 40472 Düsseldorf
END:VEVENT
BEGIN:VEVENT
DTSTAMP:20260420T162405
DTSTART;TZID=Europe/Berlin:20260114T153000
DTEND;TZID=Europe/Berlin:20260114T173000
UID:2602621230-20260114T153000@DÜSSELDORF ASG-BILDUNGSFORUM
SUMMARY:Pikler-Spielraum für große und kleine Entdecker Für Eltern und Kinder bis 6 Jahren (2602621230) 
LOCATION:ASG-R43;Großer Kindergruppenraum, Rather Kreuzweg 43, 40472 Düsseldorf
END:VEVENT
BEGIN:VEVENT
DTSTAMP:20260420T162405
DTSTART;TZID=Europe/Berlin:20260121T153000
DTEND;TZID=Europe/Berlin:20260121T173000
UID:2602621230-20260121T153000@DÜSSELDORF ASG-BILDUNGSFORUM
SUMMARY:Pikler-Spielraum für große und kleine Entdecker Für Eltern und Kinder bis 6 Jahren (2602621230) 
LOCATION:ASG-R43;Großer Kindergruppenraum, Rather Kreuzweg 43, 40472 Düsseldorf
END:VEVENT
BEGIN:VEVENT
DTSTAMP:20260420T162405
DTSTART;TZID=Europe/Berlin:20260128T153000
DTEND;TZID=Europe/Berlin:20260128T173000
UID:2602621230-20260128T153000@DÜSSELDORF ASG-BILDUNGSFORUM
SUMMARY:Pikler-Spielraum für große und kleine Entdecker Für Eltern und Kinder bis 6 Jahren (2602621230) 
LOCATION:ASG-R43;Großer Kindergruppenraum, Rather Kreuzweg 43, 40472 Düsseldorf
END:VEVENT
BEGIN:VEVENT
DTSTAMP:20260420T162405
DTSTART;TZID=Europe/Berlin:20260204T153000
DTEND;TZID=Europe/Berlin:20260204T173000
UID:2602621230-20260204T153000@DÜSSELDORF ASG-BILDUNGSFORUM
SUMMARY:Pikler-Spielraum für große und kleine Entdecker Für Eltern und Kinder bis 6 Jahren (2602621230) 
LOCATION:ASG-R43;Großer Kindergruppenraum, Rather Kreuzweg 43, 40472 Düsseldorf
END:VEVENT
BEGIN:VEVENT
DTSTAMP:20260420T162405
DTSTART;TZID=Europe/Berlin:20260211T153000
DTEND;TZID=Europe/Berlin:20260211T173000
UID:2602621230-20260211T153000@DÜSSELDORF ASG-BILDUNGSFORUM
SUMMARY:Pikler-Spielraum für große und kleine Entdecker Für Eltern und Kinder bis 6 Jahren (2602621230) 
LOCATION:ASG-R43;Großer Kindergruppenraum, Rather Kreuzweg 43, 40472 Düsseldorf
END:VEVENT
BEGIN:VEVENT
DTSTAMP:20260420T162405
DTSTART;TZID=Europe/Berlin:20260218T153000
DTEND;TZID=Europe/Berlin:20260218T173000
UID:2602621230-20260218T153000@DÜSSELDORF ASG-BILDUNGSFORUM
SUMMARY:Pikler-Spielraum für große und kleine Entdecker Für Eltern und Kinder bis 6 Jahren (2602621230) 
LOCATION:ASG-R43;Großer Kindergruppenraum, Rather Kreuzweg 43, 40472 Düsseldorf
END:VEVENT
BEGIN:VEVENT
DTSTAMP:20260420T162405
DTSTART;TZID=Europe/Berlin:20260225T153000
DTEND;TZID=Europe/Berlin:20260225T173000
UID:2602621230-20260225T153000@DÜSSELDORF ASG-BILDUNGSFORUM
SUMMARY:Pikler-Spielraum für große und kleine Entdecker Für Eltern und Kinder bis 6 Jahren (2602621230) 
LOCATION:ASG-R43;Großer Kindergruppenraum, Rather Kreuzweg 43, 40472 Düsseldorf
END:VEVENT
BEGIN:VEVENT
DTSTAMP:20260420T162405
DTSTART;TZID=Europe/Berlin:20260304T153000
DTEND;TZID=Europe/Berlin:20260304T173000
UID:2602621230-20260304T153000@DÜSSELDORF ASG-BILDUNGSFORUM
SUMMARY:Pikler-Spielraum für große und kleine Entdecker Für Eltern und Kinder bis 6 Jahren (2602621230) 
LOCATION:ASG-R43;Großer Kindergruppenraum, Rather Kreuzweg 43, 40472 Düsseldorf
END:VEVENT
BEGIN:VEVENT
DTSTAMP:20260420T162405
DTSTART;TZID=Europe/Berlin:20260311T153000
DTEND;TZID=Europe/Berlin:20260311T173000
UID:2602621230-20260311T153000@DÜSSELDORF ASG-BILDUNGSFORUM
SUMMARY:Pikler-Spielraum für große und kleine Entdecker Für Eltern und Kinder bis 6 Jahren (2602621230) 
LOCATION:ASG-R43;Großer Kindergruppenraum, Rather Kreuzweg 43, 40472 Düsseldorf
END:VEVENT
BEGIN:VEVENT
DTSTAMP:20260420T162405
DTSTART;TZID=Europe/Berlin:20260318T153000
DTEND;TZID=Europe/Berlin:20260318T173000
UID:2602621230-20260318T153000@DÜSSELDORF ASG-BILDUNGSFORUM
SUMMARY:Pikler-Spielraum für große und kleine Entdecker Für Eltern und Kinder bis 6 Jahren (2602621230) 
LOCATION:ASG-R43;Großer Kindergruppenraum, Rather Kreuzweg 43, 40472 Düsseldorf
END:VEVENT
BEGIN:VEVENT
DTSTAMP:20260420T162405
DTSTART;TZID=Europe/Berlin:20260325T153000
DTEND;TZID=Europe/Berlin:20260325T173000
UID:2602621230-20260325T153000@DÜSSELDORF ASG-BILDUNGSFORUM
SUMMARY:Pikler-Spielraum für große und kleine Entdecker Für Eltern und Kinder bis 6 Jahren (2602621230) 
LOCATION:ASG-R43;Großer Kindergruppenraum, Rather Kreuzweg 43, 40472 Düsseldorf
END:VEVENT
BEGIN:VEVENT
DTSTAMP:20260420T162405
DTSTART;TZID=Europe/Berlin:20260415T153000
DTEND;TZID=Europe/Berlin:20260415T173000
UID:2602621230-20260415T153000@DÜSSELDORF ASG-BILDUNGSFORUM
SUMMARY:Pikler-Spielraum für große und kleine Entdecker Für Eltern und Kinder bis 6 Jahren (2602621230) 
LOCATION:ASG-R43;Großer Kindergruppenraum, Rather Kreuzweg 43, 40472 Düsseldorf
END:VEVENT
BEGIN:VEVENT
DTSTAMP:20260420T162405
DTSTART;TZID=Europe/Berlin:20260422T153000
DTEND;TZID=Europe/Berlin:20260422T173000
UID:2602621230-20260422T153000@DÜSSELDORF ASG-BILDUNGSFORUM
SUMMARY:Pikler-Spielraum für große und kleine Entdecker Für Eltern und Kinder bis 6 Jahren (2602621230) 
LOCATION:ASG-R43;Großer Kindergruppenraum, Rather Kreuzweg 43, 40472 Düsseldorf
END:VEVENT
BEGIN:VEVENT
DTSTAMP:20260420T162405
DTSTART;TZID=Europe/Berlin:20260429T153000
DTEND;TZID=Europe/Berlin:20260429T173000
UID:2602621230-20260429T153000@DÜSSELDORF ASG-BILDUNGSFORUM
SUMMARY:Pikler-Spielraum für große und kleine Entdecker Für Eltern und Kinder bis 6 Jahren (2602621230) 
LOCATION:ASG-R43;Großer Kindergruppenraum, Rather Kreuzweg 43, 40472 Düsseldorf
END:VEVENT
BEGIN:VEVENT
DTSTAMP:20260420T162405
DTSTART;TZID=Europe/Berlin:20260506T153000
DTEND;TZID=Europe/Berlin:20260506T173000
UID:2602621230-20260506T153000@DÜSSELDORF ASG-BILDUNGSFORUM
SUMMARY:Pikler-Spielraum für große und kleine Entdecker Für Eltern und Kinder bis 6 Jahren (2602621230) 
LOCATION:ASG-R43;Großer Kindergruppenraum, Rather Kreuzweg 43, 40472 Düsseldorf
END:VEVENT
BEGIN:VEVENT
DTSTAMP:20260420T162405
DTSTART;TZID=Europe/Berlin:20260513T153000
DTEND;TZID=Europe/Berlin:20260513T173000
UID:2602621230-20260513T153000@DÜSSELDORF ASG-BILDUNGSFORUM
SUMMARY:Pikler-Spielraum für große und kleine Entdecker Für Eltern und Kinder bis 6 Jahren (2602621230) 
LOCATION:ASG-R43;Großer Kindergruppenraum, Rather Kreuzweg 43, 40472 Düsseldorf
END:VEVENT
BEGIN:VEVENT
DTSTAMP:20260420T162405
DTSTART;TZID=Europe/Berlin:20260520T153000
DTEND;TZID=Europe/Berlin:20260520T173000
UID:2602621230-20260520T153000@DÜSSELDORF ASG-BILDUNGSFORUM
SUMMARY:Pikler-Spielraum für große und kleine Entdecker Für Eltern und Kinder bis 6 Jahren (2602621230) 
LOCATION:ASG-R43;Großer Kindergruppenraum, Rather Kreuzweg 43, 40472 Düsseldorf
END:VEVENT
BEGIN:VEVENT
DTSTAMP:20260420T162405
DTSTART;TZID=Europe/Berlin:20260527T153000
DTEND;TZID=Europe/Berlin:20260527T173000
UID:2602621230-20260527T153000@DÜSSELDORF ASG-BILDUNGSFORUM
SUMMARY:Pikler-Spielraum für große und kleine Entdecker Für Eltern und Kinder bis 6 Jahren (2602621230) 
LOCATION:ASG-R43;Großer Kindergruppenraum, Rather Kreuzweg 43, 40472 Düsseldorf
END:VEVENT
BEGIN:VEVENT
DTSTAMP:20260420T162405
DTSTART;TZID=Europe/Berlin:20260603T153000
DTEND;TZID=Europe/Berlin:20260603T173000
UID:2602621230-20260603T153000@DÜSSELDORF ASG-BILDUNGSFORUM
SUMMARY:Pikler-Spielraum für große und kleine Entdecker Für Eltern und Kinder bis 6 Jahren (2602621230) 
LOCATION:ASG-R43;Großer Kindergruppenraum, Rather Kreuzweg 43, 40472 Düsseldorf
END:VEVENT
BEGIN:VEVENT
DTSTAMP:20260420T162405
DTSTART;TZID=Europe/Berlin:20260610T153000
DTEND;TZID=Europe/Berlin:20260610T173000
UID:2602621230-20260610T153000@DÜSSELDORF ASG-BILDUNGSFORUM
SUMMARY:Pikler-Spielraum für große und kleine Entdecker Für Eltern und Kinder bis 6 Jahren (2602621230) 
LOCATION:ASG-R43;Großer Kindergruppenraum, Rather Kreuzweg 43, 40472 Düsseldorf
END:VEVENT
BEGIN:VEVENT
DTSTAMP:20260420T162405
DTSTART;TZID=Europe/Berlin:20260617T153000
DTEND;TZID=Europe/Berlin:20260617T173000
UID:2602621230-20260617T153000@DÜSSELDORF ASG-BILDUNGSFORUM
SUMMARY:Pikler-Spielraum für große und kleine Entdecker Für Eltern und Kinder bis 6 Jahren (2602621230) 
LOCATION:ASG-R43;Großer Kindergruppenraum, Rather Kreuzweg 43, 40472 Düsseldorf
END:VEVENT
BEGIN:VEVENT
DTSTAMP:20260420T162405
DTSTART;TZID=Europe/Berlin:20260624T153000
DTEND;TZID=Europe/Berlin:20260624T173000
UID:2602621230-20260624T153000@DÜSSELDORF ASG-BILDUNGSFORUM
SUMMARY:Pikler-Spielraum für große und kleine Entdecker Für Eltern und Kinder bis 6 Jahren (2602621230) 
LOCATION:ASG-R43;Großer Kindergruppenraum, Rather Kreuzweg 43, 40472 Düsseldorf
END:VEVENT
BEGIN:VEVENT
DTSTAMP:20260420T162405
DTSTART;TZID=Europe/Berlin:20260701T153000
DTEND;TZID=Europe/Berlin:20260701T173000
UID:2602621230-20260701T153000@DÜSSELDORF ASG-BILDUNGSFORUM
SUMMARY:Pikler-Spielraum für große und kleine Entdecker Für Eltern und Kinder bis 6 Jahren (2602621230) 
LOCATION:ASG-R43;Großer Kindergruppenraum, Rather Kreuzweg 43, 40472 Düsseldorf
END:VEVENT
BEGIN:VEVENT
DTSTAMP:20260420T162405
DTSTART;TZID=Europe/Berlin:20260708T153000
DTEND;TZID=Europe/Berlin:20260708T173000
UID:2602621230-20260708T153000@DÜSSELDORF ASG-BILDUNGSFORUM
SUMMARY:Pikler-Spielraum für große und kleine Entdecker Für Eltern und Kinder bis 6 Jahren (2602621230) 
LOCATION:ASG-R43;Großer Kindergruppenraum, Rather Kreuzweg 43, 40472 Düsseldorf
END:VEVENT
BEGIN:VEVENT
DTSTAMP:20260420T162405
DTSTART;TZID=Europe/Berlin:20260715T153000
DTEND;TZID=Europe/Berlin:20260715T173000
UID:2602621230-20260715T153000@DÜSSELDORF ASG-BILDUNGSFORUM
SUMMARY:Pikler-Spielraum für große und kleine Entdecker Für Eltern und Kinder bis 6 Jahren (2602621230) 
LOCATION:ASG-R43;Großer Kindergruppenraum, Rather Kreuzweg 43, 40472 Düsseldorf
END:VEVENT
END:VCALENDAR