BEGIN:VCALENDAR
VERSION:2.0
PRODID:https://www.kufer.de/kuferweb / DE
METHOD:PUBLISH
CALSCALE:GREGORIAN
X-WR-TIMEZONE:Europe/Berlin
BEGIN:VTIMEZONE
TZID:Europe/Berlin
X-LIC-LOCATION:Europe/Berlin
BEGIN:DAYLIGHT
TZOFFSETFROM:+0100
TZOFFSETTO:+0200
TZNAME:CEST
DTSTART:19700329T020000
RRULE:FREQ=YEARLY;INTERVAL=1;BYDAY=-1SU;BYMONTH=3
END:DAYLIGHT
BEGIN:STANDARD
TZOFFSETFROM:+0200
TZOFFSETTO:+0100
TZNAME:CET
DTSTART:19701025T030000
RRULE:FREQ=YEARLY;INTERVAL=1;BYDAY=-1SU;BYMONTH=10
END:STANDARD
END:VTIMEZONE
BEGIN:VEVENT
DTSTAMP:20260421T102202
DTSTART;TZID=Europe/Berlin:20260110T100000
DTEND;TZID=Europe/Berlin:20260110T113000
UID:2602621242-20260110T100000@DÜSSELDORF ASG-BILDUNGSFORUM
SUMMARY:Väterinitiative: Zeit mit Papa Für Väter und Kinder von 6 Monaten bis 2,5 Jahren (2602621242) 
LOCATION:Familienzentrum St. Margareta, Gerricusstraße 14, 40625 Düsseldorf
END:VEVENT
BEGIN:VEVENT
DTSTAMP:20260421T102202
DTSTART;TZID=Europe/Berlin:20260117T100000
DTEND;TZID=Europe/Berlin:20260117T113000
UID:2602621242-20260117T100000@DÜSSELDORF ASG-BILDUNGSFORUM
SUMMARY:Väterinitiative: Zeit mit Papa Für Väter und Kinder von 6 Monaten bis 2,5 Jahren (2602621242) 
LOCATION:Familienzentrum St. Margareta, Gerricusstraße 14, 40625 Düsseldorf
END:VEVENT
BEGIN:VEVENT
DTSTAMP:20260421T102202
DTSTART;TZID=Europe/Berlin:20260124T100000
DTEND;TZID=Europe/Berlin:20260124T113000
UID:2602621242-20260124T100000@DÜSSELDORF ASG-BILDUNGSFORUM
SUMMARY:Väterinitiative: Zeit mit Papa Für Väter und Kinder von 6 Monaten bis 2,5 Jahren (2602621242) 
LOCATION:Familienzentrum St. Margareta, Gerricusstraße 14, 40625 Düsseldorf
END:VEVENT
BEGIN:VEVENT
DTSTAMP:20260421T102202
DTSTART;TZID=Europe/Berlin:20260131T100000
DTEND;TZID=Europe/Berlin:20260131T113000
UID:2602621242-20260131T100000@DÜSSELDORF ASG-BILDUNGSFORUM
SUMMARY:Väterinitiative: Zeit mit Papa Für Väter und Kinder von 6 Monaten bis 2,5 Jahren (2602621242) 
LOCATION:Familienzentrum St. Margareta, Gerricusstraße 14, 40625 Düsseldorf
END:VEVENT
BEGIN:VEVENT
DTSTAMP:20260421T102202
DTSTART;TZID=Europe/Berlin:20260207T100000
DTEND;TZID=Europe/Berlin:20260207T113000
UID:2602621242-20260207T100000@DÜSSELDORF ASG-BILDUNGSFORUM
SUMMARY:Väterinitiative: Zeit mit Papa Für Väter und Kinder von 6 Monaten bis 2,5 Jahren (2602621242) 
LOCATION:Familienzentrum St. Margareta, Gerricusstraße 14, 40625 Düsseldorf
END:VEVENT
BEGIN:VEVENT
DTSTAMP:20260421T102202
DTSTART;TZID=Europe/Berlin:20260214T100000
DTEND;TZID=Europe/Berlin:20260214T113000
UID:2602621242-20260214T100000@DÜSSELDORF ASG-BILDUNGSFORUM
SUMMARY:Väterinitiative: Zeit mit Papa Für Väter und Kinder von 6 Monaten bis 2,5 Jahren (2602621242) 
LOCATION:Familienzentrum St. Margareta, Gerricusstraße 14, 40625 Düsseldorf
END:VEVENT
BEGIN:VEVENT
DTSTAMP:20260421T102202
DTSTART;TZID=Europe/Berlin:20260221T100000
DTEND;TZID=Europe/Berlin:20260221T113000
UID:2602621242-20260221T100000@DÜSSELDORF ASG-BILDUNGSFORUM
SUMMARY:Väterinitiative: Zeit mit Papa Für Väter und Kinder von 6 Monaten bis 2,5 Jahren (2602621242) 
LOCATION:Familienzentrum St. Margareta, Gerricusstraße 14, 40625 Düsseldorf
END:VEVENT
BEGIN:VEVENT
DTSTAMP:20260421T102202
DTSTART;TZID=Europe/Berlin:20260228T100000
DTEND;TZID=Europe/Berlin:20260228T113000
UID:2602621242-20260228T100000@DÜSSELDORF ASG-BILDUNGSFORUM
SUMMARY:Väterinitiative: Zeit mit Papa Für Väter und Kinder von 6 Monaten bis 2,5 Jahren (2602621242) 
LOCATION:Familienzentrum St. Margareta, Gerricusstraße 14, 40625 Düsseldorf
END:VEVENT
BEGIN:VEVENT
DTSTAMP:20260421T102202
DTSTART;TZID=Europe/Berlin:20260307T100000
DTEND;TZID=Europe/Berlin:20260307T113000
UID:2602621242-20260307T100000@DÜSSELDORF ASG-BILDUNGSFORUM
SUMMARY:Väterinitiative: Zeit mit Papa Für Väter und Kinder von 6 Monaten bis 2,5 Jahren (2602621242) 
LOCATION:Familienzentrum St. Margareta, Gerricusstraße 14, 40625 Düsseldorf
END:VEVENT
BEGIN:VEVENT
DTSTAMP:20260421T102202
DTSTART;TZID=Europe/Berlin:20260314T100000
DTEND;TZID=Europe/Berlin:20260314T113000
UID:2602621242-20260314T100000@DÜSSELDORF ASG-BILDUNGSFORUM
SUMMARY:Väterinitiative: Zeit mit Papa Für Väter und Kinder von 6 Monaten bis 2,5 Jahren (2602621242) 
LOCATION:Familienzentrum St. Margareta, Gerricusstraße 14, 40625 Düsseldorf
END:VEVENT
BEGIN:VEVENT
DTSTAMP:20260421T102202
DTSTART;TZID=Europe/Berlin:20260321T100000
DTEND;TZID=Europe/Berlin:20260321T113000
UID:2602621242-20260321T100000@DÜSSELDORF ASG-BILDUNGSFORUM
SUMMARY:Väterinitiative: Zeit mit Papa Für Väter und Kinder von 6 Monaten bis 2,5 Jahren (2602621242) 
LOCATION:Familienzentrum St. Margareta, Gerricusstraße 14, 40625 Düsseldorf
END:VEVENT
BEGIN:VEVENT
DTSTAMP:20260421T102202
DTSTART;TZID=Europe/Berlin:20260328T100000
DTEND;TZID=Europe/Berlin:20260328T113000
UID:2602621242-20260328T100000@DÜSSELDORF ASG-BILDUNGSFORUM
SUMMARY:Väterinitiative: Zeit mit Papa Für Väter und Kinder von 6 Monaten bis 2,5 Jahren (2602621242) 
LOCATION:Familienzentrum St. Margareta, Gerricusstraße 14, 40625 Düsseldorf
END:VEVENT
BEGIN:VEVENT
DTSTAMP:20260421T102202
DTSTART;TZID=Europe/Berlin:20260411T100000
DTEND;TZID=Europe/Berlin:20260411T113000
UID:2602621242-20260411T100000@DÜSSELDORF ASG-BILDUNGSFORUM
SUMMARY:Väterinitiative: Zeit mit Papa Für Väter und Kinder von 6 Monaten bis 2,5 Jahren (2602621242) 
LOCATION:Familienzentrum St. Margareta, Gerricusstraße 14, 40625 Düsseldorf
END:VEVENT
BEGIN:VEVENT
DTSTAMP:20260421T102202
DTSTART;TZID=Europe/Berlin:20260418T100000
DTEND;TZID=Europe/Berlin:20260418T113000
UID:2602621242-20260418T100000@DÜSSELDORF ASG-BILDUNGSFORUM
SUMMARY:Väterinitiative: Zeit mit Papa Für Väter und Kinder von 6 Monaten bis 2,5 Jahren (2602621242) 
LOCATION:Familienzentrum St. Margareta, Gerricusstraße 14, 40625 Düsseldorf
END:VEVENT
BEGIN:VEVENT
DTSTAMP:20260421T102202
DTSTART;TZID=Europe/Berlin:20260502T100000
DTEND;TZID=Europe/Berlin:20260502T113000
UID:2602621242-20260502T100000@DÜSSELDORF ASG-BILDUNGSFORUM
SUMMARY:Väterinitiative: Zeit mit Papa Für Väter und Kinder von 6 Monaten bis 2,5 Jahren (2602621242) 
LOCATION:Familienzentrum St. Margareta, Gerricusstraße 14, 40625 Düsseldorf
END:VEVENT
BEGIN:VEVENT
DTSTAMP:20260421T102202
DTSTART;TZID=Europe/Berlin:20260509T100000
DTEND;TZID=Europe/Berlin:20260509T113000
UID:2602621242-20260509T100000@DÜSSELDORF ASG-BILDUNGSFORUM
SUMMARY:Väterinitiative: Zeit mit Papa Für Väter und Kinder von 6 Monaten bis 2,5 Jahren (2602621242) 
LOCATION:Familienzentrum St. Margareta, Gerricusstraße 14, 40625 Düsseldorf
END:VEVENT
BEGIN:VEVENT
DTSTAMP:20260421T102202
DTSTART;TZID=Europe/Berlin:20260516T100000
DTEND;TZID=Europe/Berlin:20260516T113000
UID:2602621242-20260516T100000@DÜSSELDORF ASG-BILDUNGSFORUM
SUMMARY:Väterinitiative: Zeit mit Papa Für Väter und Kinder von 6 Monaten bis 2,5 Jahren (2602621242) 
LOCATION:Familienzentrum St. Margareta, Gerricusstraße 14, 40625 Düsseldorf
END:VEVENT
BEGIN:VEVENT
DTSTAMP:20260421T102202
DTSTART;TZID=Europe/Berlin:20260523T100000
DTEND;TZID=Europe/Berlin:20260523T113000
UID:2602621242-20260523T100000@DÜSSELDORF ASG-BILDUNGSFORUM
SUMMARY:Väterinitiative: Zeit mit Papa Für Väter und Kinder von 6 Monaten bis 2,5 Jahren (2602621242) 
LOCATION:Familienzentrum St. Margareta, Gerricusstraße 14, 40625 Düsseldorf
END:VEVENT
BEGIN:VEVENT
DTSTAMP:20260421T102202
DTSTART;TZID=Europe/Berlin:20260530T100000
DTEND;TZID=Europe/Berlin:20260530T113000
UID:2602621242-20260530T100000@DÜSSELDORF ASG-BILDUNGSFORUM
SUMMARY:Väterinitiative: Zeit mit Papa Für Väter und Kinder von 6 Monaten bis 2,5 Jahren (2602621242) 
LOCATION:Familienzentrum St. Margareta, Gerricusstraße 14, 40625 Düsseldorf
END:VEVENT
BEGIN:VEVENT
DTSTAMP:20260421T102202
DTSTART;TZID=Europe/Berlin:20260606T100000
DTEND;TZID=Europe/Berlin:20260606T113000
UID:2602621242-20260606T100000@DÜSSELDORF ASG-BILDUNGSFORUM
SUMMARY:Väterinitiative: Zeit mit Papa Für Väter und Kinder von 6 Monaten bis 2,5 Jahren (2602621242) 
LOCATION:Familienzentrum St. Margareta, Gerricusstraße 14, 40625 Düsseldorf
END:VEVENT
BEGIN:VEVENT
DTSTAMP:20260421T102202
DTSTART;TZID=Europe/Berlin:20260613T100000
DTEND;TZID=Europe/Berlin:20260613T113000
UID:2602621242-20260613T100000@DÜSSELDORF ASG-BILDUNGSFORUM
SUMMARY:Väterinitiative: Zeit mit Papa Für Väter und Kinder von 6 Monaten bis 2,5 Jahren (2602621242) 
LOCATION:Familienzentrum St. Margareta, Gerricusstraße 14, 40625 Düsseldorf
END:VEVENT
BEGIN:VEVENT
DTSTAMP:20260421T102202
DTSTART;TZID=Europe/Berlin:20260620T100000
DTEND;TZID=Europe/Berlin:20260620T113000
UID:2602621242-20260620T100000@DÜSSELDORF ASG-BILDUNGSFORUM
SUMMARY:Väterinitiative: Zeit mit Papa Für Väter und Kinder von 6 Monaten bis 2,5 Jahren (2602621242) 
LOCATION:Familienzentrum St. Margareta, Gerricusstraße 14, 40625 Düsseldorf
END:VEVENT
BEGIN:VEVENT
DTSTAMP:20260421T102202
DTSTART;TZID=Europe/Berlin:20260627T100000
DTEND;TZID=Europe/Berlin:20260627T113000
UID:2602621242-20260627T100000@DÜSSELDORF ASG-BILDUNGSFORUM
SUMMARY:Väterinitiative: Zeit mit Papa Für Väter und Kinder von 6 Monaten bis 2,5 Jahren (2602621242) 
LOCATION:Familienzentrum St. Margareta, Gerricusstraße 14, 40625 Düsseldorf
END:VEVENT
BEGIN:VEVENT
DTSTAMP:20260421T102202
DTSTART;TZID=Europe/Berlin:20260704T100000
DTEND;TZID=Europe/Berlin:20260704T113000
UID:2602621242-20260704T100000@DÜSSELDORF ASG-BILDUNGSFORUM
SUMMARY:Väterinitiative: Zeit mit Papa Für Väter und Kinder von 6 Monaten bis 2,5 Jahren (2602621242) 
LOCATION:Familienzentrum St. Margareta, Gerricusstraße 14, 40625 Düsseldorf
END:VEVENT
BEGIN:VEVENT
DTSTAMP:20260421T102202
DTSTART;TZID=Europe/Berlin:20260711T100000
DTEND;TZID=Europe/Berlin:20260711T113000
UID:2602621242-20260711T100000@DÜSSELDORF ASG-BILDUNGSFORUM
SUMMARY:Väterinitiative: Zeit mit Papa Für Väter und Kinder von 6 Monaten bis 2,5 Jahren (2602621242) 
LOCATION:Familienzentrum St. Margareta, Gerricusstraße 14, 40625 Düsseldorf
END:VEVENT
BEGIN:VEVENT
DTSTAMP:20260421T102202
DTSTART;TZID=Europe/Berlin:20260718T100000
DTEND;TZID=Europe/Berlin:20260718T113000
UID:2602621242-20260718T100000@DÜSSELDORF ASG-BILDUNGSFORUM
SUMMARY:Väterinitiative: Zeit mit Papa Für Väter und Kinder von 6 Monaten bis 2,5 Jahren (2602621242) 
LOCATION:Familienzentrum St. Margareta, Gerricusstraße 14, 40625 Düsseldorf
END:VEVENT
END:VCALENDAR