BEGIN:VCALENDAR
VERSION:2.0
PRODID:https://www.kufer.de/kuferweb / DE
METHOD:PUBLISH
CALSCALE:GREGORIAN
X-WR-TIMEZONE:Europe/Berlin
BEGIN:VTIMEZONE
TZID:Europe/Berlin
X-LIC-LOCATION:Europe/Berlin
BEGIN:DAYLIGHT
TZOFFSETFROM:+0100
TZOFFSETTO:+0200
TZNAME:CEST
DTSTART:19700329T020000
RRULE:FREQ=YEARLY;INTERVAL=1;BYDAY=-1SU;BYMONTH=3
END:DAYLIGHT
BEGIN:STANDARD
TZOFFSETFROM:+0200
TZOFFSETTO:+0100
TZNAME:CET
DTSTART:19701025T030000
RRULE:FREQ=YEARLY;INTERVAL=1;BYDAY=-1SU;BYMONTH=10
END:STANDARD
END:VTIMEZONE
BEGIN:VEVENT
DTSTAMP:20260420T134211
DTSTART;TZID=Europe/Berlin:20260124T101500
DTEND;TZID=Europe/Berlin:20260124T114500
UID:2602621247-20260124T101500@DÜSSELDORF ASG-BILDUNGSFORUM
SUMMARY:Brasilianische Spielgruppe: Für Eltern und Kinder von 3 bis 6 Jahren Kurs aus dem Programm Sempre-Viva a Língua Portuguesa (2602621247) 
LOCATION:ASG-G90;E0.02, Gerresheimer Straße 90, 40233 Düsseldorf
END:VEVENT
BEGIN:VEVENT
DTSTAMP:20260420T134211
DTSTART;TZID=Europe/Berlin:20260214T101500
DTEND;TZID=Europe/Berlin:20260214T114500
UID:2602621247-20260214T101500@DÜSSELDORF ASG-BILDUNGSFORUM
SUMMARY:Brasilianische Spielgruppe: Für Eltern und Kinder von 3 bis 6 Jahren Kurs aus dem Programm Sempre-Viva a Língua Portuguesa (2602621247) 
LOCATION:ASG-G90;E0.02, Gerresheimer Straße 90, 40233 Düsseldorf
END:VEVENT
BEGIN:VEVENT
DTSTAMP:20260420T134211
DTSTART;TZID=Europe/Berlin:20260321T101500
DTEND;TZID=Europe/Berlin:20260321T114500
UID:2602621247-20260321T101500@DÜSSELDORF ASG-BILDUNGSFORUM
SUMMARY:Brasilianische Spielgruppe: Für Eltern und Kinder von 3 bis 6 Jahren Kurs aus dem Programm Sempre-Viva a Língua Portuguesa (2602621247) 
LOCATION:ASG-G90;E0.02, Gerresheimer Straße 90, 40233 Düsseldorf
END:VEVENT
BEGIN:VEVENT
DTSTAMP:20260420T134211
DTSTART;TZID=Europe/Berlin:20260509T101500
DTEND;TZID=Europe/Berlin:20260509T114500
UID:2602621247-20260509T101500@DÜSSELDORF ASG-BILDUNGSFORUM
SUMMARY:Brasilianische Spielgruppe: Für Eltern und Kinder von 3 bis 6 Jahren Kurs aus dem Programm Sempre-Viva a Língua Portuguesa (2602621247) 
LOCATION:ASG-G90;E0.02, Gerresheimer Straße 90, 40233 Düsseldorf
END:VEVENT
BEGIN:VEVENT
DTSTAMP:20260420T134211
DTSTART;TZID=Europe/Berlin:20260620T101500
DTEND;TZID=Europe/Berlin:20260620T114500
UID:2602621247-20260620T101500@DÜSSELDORF ASG-BILDUNGSFORUM
SUMMARY:Brasilianische Spielgruppe: Für Eltern und Kinder von 3 bis 6 Jahren Kurs aus dem Programm Sempre-Viva a Língua Portuguesa (2602621247) 
LOCATION:ASG-G90;E0.02, Gerresheimer Straße 90, 40233 Düsseldorf
END:VEVENT
END:VCALENDAR