BEGIN:VCALENDAR
VERSION:2.0
PRODID:https://www.kufer.de/kuferweb / DE
METHOD:PUBLISH
CALSCALE:GREGORIAN
X-WR-TIMEZONE:Europe/Berlin
BEGIN:VTIMEZONE
TZID:Europe/Berlin
X-LIC-LOCATION:Europe/Berlin
BEGIN:DAYLIGHT
TZOFFSETFROM:+0100
TZOFFSETTO:+0200
TZNAME:CEST
DTSTART:19700329T020000
RRULE:FREQ=YEARLY;INTERVAL=1;BYDAY=-1SU;BYMONTH=3
END:DAYLIGHT
BEGIN:STANDARD
TZOFFSETFROM:+0200
TZOFFSETTO:+0100
TZNAME:CET
DTSTART:19701025T030000
RRULE:FREQ=YEARLY;INTERVAL=1;BYDAY=-1SU;BYMONTH=10
END:STANDARD
END:VTIMEZONE
BEGIN:VEVENT
DTSTAMP:20260422T005002
DTSTART;TZID=Europe/Berlin:20260414T144500
DTEND;TZID=Europe/Berlin:20260414T154500
UID:2602622033-20260414T144500@DÜSSELDORF ASG-BILDUNGSFORUM
SUMMARY:Spiel und Bewegung in Anlehnung an Emmi Pikler Für Eltern und Kinder von 1 bis 2 Jahren (2602622033) 
LOCATION:Familienzentrum St. Margareta, Gerricusstraße 14, 40625 Düsseldorf
END:VEVENT
BEGIN:VEVENT
DTSTAMP:20260422T005002
DTSTART;TZID=Europe/Berlin:20260421T144500
DTEND;TZID=Europe/Berlin:20260421T154500
UID:2602622033-20260421T144500@DÜSSELDORF ASG-BILDUNGSFORUM
SUMMARY:Spiel und Bewegung in Anlehnung an Emmi Pikler Für Eltern und Kinder von 1 bis 2 Jahren (2602622033) 
LOCATION:Familienzentrum St. Margareta, Gerricusstraße 14, 40625 Düsseldorf
END:VEVENT
BEGIN:VEVENT
DTSTAMP:20260422T005002
DTSTART;TZID=Europe/Berlin:20260428T144500
DTEND;TZID=Europe/Berlin:20260428T154500
UID:2602622033-20260428T144500@DÜSSELDORF ASG-BILDUNGSFORUM
SUMMARY:Spiel und Bewegung in Anlehnung an Emmi Pikler Für Eltern und Kinder von 1 bis 2 Jahren (2602622033) 
LOCATION:Familienzentrum St. Margareta, Gerricusstraße 14, 40625 Düsseldorf
END:VEVENT
BEGIN:VEVENT
DTSTAMP:20260422T005002
DTSTART;TZID=Europe/Berlin:20260505T144500
DTEND;TZID=Europe/Berlin:20260505T154500
UID:2602622033-20260505T144500@DÜSSELDORF ASG-BILDUNGSFORUM
SUMMARY:Spiel und Bewegung in Anlehnung an Emmi Pikler Für Eltern und Kinder von 1 bis 2 Jahren (2602622033) 
LOCATION:Familienzentrum St. Margareta, Gerricusstraße 14, 40625 Düsseldorf
END:VEVENT
BEGIN:VEVENT
DTSTAMP:20260422T005002
DTSTART;TZID=Europe/Berlin:20260512T144500
DTEND;TZID=Europe/Berlin:20260512T154500
UID:2602622033-20260512T144500@DÜSSELDORF ASG-BILDUNGSFORUM
SUMMARY:Spiel und Bewegung in Anlehnung an Emmi Pikler Für Eltern und Kinder von 1 bis 2 Jahren (2602622033) 
LOCATION:Familienzentrum St. Margareta, Gerricusstraße 14, 40625 Düsseldorf
END:VEVENT
BEGIN:VEVENT
DTSTAMP:20260422T005002
DTSTART;TZID=Europe/Berlin:20260519T144500
DTEND;TZID=Europe/Berlin:20260519T154500
UID:2602622033-20260519T144500@DÜSSELDORF ASG-BILDUNGSFORUM
SUMMARY:Spiel und Bewegung in Anlehnung an Emmi Pikler Für Eltern und Kinder von 1 bis 2 Jahren (2602622033) 
LOCATION:Familienzentrum St. Margareta, Gerricusstraße 14, 40625 Düsseldorf
END:VEVENT
BEGIN:VEVENT
DTSTAMP:20260422T005002
DTSTART;TZID=Europe/Berlin:20260602T144500
DTEND;TZID=Europe/Berlin:20260602T154500
UID:2602622033-20260602T144500@DÜSSELDORF ASG-BILDUNGSFORUM
SUMMARY:Spiel und Bewegung in Anlehnung an Emmi Pikler Für Eltern und Kinder von 1 bis 2 Jahren (2602622033) 
LOCATION:Familienzentrum St. Margareta, Gerricusstraße 14, 40625 Düsseldorf
END:VEVENT
BEGIN:VEVENT
DTSTAMP:20260422T005002
DTSTART;TZID=Europe/Berlin:20260609T144500
DTEND;TZID=Europe/Berlin:20260609T154500
UID:2602622033-20260609T144500@DÜSSELDORF ASG-BILDUNGSFORUM
SUMMARY:Spiel und Bewegung in Anlehnung an Emmi Pikler Für Eltern und Kinder von 1 bis 2 Jahren (2602622033) 
LOCATION:Familienzentrum St. Margareta, Gerricusstraße 14, 40625 Düsseldorf
END:VEVENT
BEGIN:VEVENT
DTSTAMP:20260422T005002
DTSTART;TZID=Europe/Berlin:20260616T144500
DTEND;TZID=Europe/Berlin:20260616T154500
UID:2602622033-20260616T144500@DÜSSELDORF ASG-BILDUNGSFORUM
SUMMARY:Spiel und Bewegung in Anlehnung an Emmi Pikler Für Eltern und Kinder von 1 bis 2 Jahren (2602622033) 
LOCATION:Familienzentrum St. Margareta, Gerricusstraße 14, 40625 Düsseldorf
END:VEVENT
BEGIN:VEVENT
DTSTAMP:20260422T005002
DTSTART;TZID=Europe/Berlin:20260623T144500
DTEND;TZID=Europe/Berlin:20260623T154500
UID:2602622033-20260623T144500@DÜSSELDORF ASG-BILDUNGSFORUM
SUMMARY:Spiel und Bewegung in Anlehnung an Emmi Pikler Für Eltern und Kinder von 1 bis 2 Jahren (2602622033) 
LOCATION:Familienzentrum St. Margareta, Gerricusstraße 14, 40625 Düsseldorf
END:VEVENT
BEGIN:VEVENT
DTSTAMP:20260422T005002
DTSTART;TZID=Europe/Berlin:20260630T144500
DTEND;TZID=Europe/Berlin:20260630T154500
UID:2602622033-20260630T144500@DÜSSELDORF ASG-BILDUNGSFORUM
SUMMARY:Spiel und Bewegung in Anlehnung an Emmi Pikler Für Eltern und Kinder von 1 bis 2 Jahren (2602622033) 
LOCATION:Familienzentrum St. Margareta, Gerricusstraße 14, 40625 Düsseldorf
END:VEVENT
BEGIN:VEVENT
DTSTAMP:20260422T005002
DTSTART;TZID=Europe/Berlin:20260707T144500
DTEND;TZID=Europe/Berlin:20260707T154500
UID:2602622033-20260707T144500@DÜSSELDORF ASG-BILDUNGSFORUM
SUMMARY:Spiel und Bewegung in Anlehnung an Emmi Pikler Für Eltern und Kinder von 1 bis 2 Jahren (2602622033) 
LOCATION:Familienzentrum St. Margareta, Gerricusstraße 14, 40625 Düsseldorf
END:VEVENT
BEGIN:VEVENT
DTSTAMP:20260422T005002
DTSTART;TZID=Europe/Berlin:20260714T144500
DTEND;TZID=Europe/Berlin:20260714T154500
UID:2602622033-20260714T144500@DÜSSELDORF ASG-BILDUNGSFORUM
SUMMARY:Spiel und Bewegung in Anlehnung an Emmi Pikler Für Eltern und Kinder von 1 bis 2 Jahren (2602622033) 
LOCATION:Familienzentrum St. Margareta, Gerricusstraße 14, 40625 Düsseldorf
END:VEVENT
END:VCALENDAR