BEGIN:VCALENDAR
VERSION:2.0
PRODID:https://www.kufer.de/kuferweb / DE
METHOD:PUBLISH
CALSCALE:GREGORIAN
X-WR-TIMEZONE:Europe/Berlin
BEGIN:VTIMEZONE
TZID:Europe/Berlin
X-LIC-LOCATION:Europe/Berlin
BEGIN:DAYLIGHT
TZOFFSETFROM:+0100
TZOFFSETTO:+0200
TZNAME:CEST
DTSTART:19700329T020000
RRULE:FREQ=YEARLY;INTERVAL=1;BYDAY=-1SU;BYMONTH=3
END:DAYLIGHT
BEGIN:STANDARD
TZOFFSETFROM:+0200
TZOFFSETTO:+0100
TZNAME:CET
DTSTART:19701025T030000
RRULE:FREQ=YEARLY;INTERVAL=1;BYDAY=-1SU;BYMONTH=10
END:STANDARD
END:VTIMEZONE
BEGIN:VEVENT
DTSTAMP:20260419T232334
DTSTART;TZID=Europe/Berlin:20260414T153000
DTEND;TZID=Europe/Berlin:20260414T163000
UID:2602622101-20260414T153000@DÜSSELDORF ASG-BILDUNGSFORUM
SUMMARY:Tanzen für Minis  Für Eltern und Kinder von 1,5 bis 2,5 Jahren (2602622101) 
LOCATION:ASG-W27;001, Wildenbruchstraße 27, 40545 Düsseldorf
END:VEVENT
BEGIN:VEVENT
DTSTAMP:20260419T232334
DTSTART;TZID=Europe/Berlin:20260421T153000
DTEND;TZID=Europe/Berlin:20260421T163000
UID:2602622101-20260421T153000@DÜSSELDORF ASG-BILDUNGSFORUM
SUMMARY:Tanzen für Minis  Für Eltern und Kinder von 1,5 bis 2,5 Jahren (2602622101) 
LOCATION:ASG-W27;001, Wildenbruchstraße 27, 40545 Düsseldorf
END:VEVENT
BEGIN:VEVENT
DTSTAMP:20260419T232334
DTSTART;TZID=Europe/Berlin:20260428T153000
DTEND;TZID=Europe/Berlin:20260428T163000
UID:2602622101-20260428T153000@DÜSSELDORF ASG-BILDUNGSFORUM
SUMMARY:Tanzen für Minis  Für Eltern und Kinder von 1,5 bis 2,5 Jahren (2602622101) 
LOCATION:ASG-W27;001, Wildenbruchstraße 27, 40545 Düsseldorf
END:VEVENT
BEGIN:VEVENT
DTSTAMP:20260419T232334
DTSTART;TZID=Europe/Berlin:20260505T153000
DTEND;TZID=Europe/Berlin:20260505T163000
UID:2602622101-20260505T153000@DÜSSELDORF ASG-BILDUNGSFORUM
SUMMARY:Tanzen für Minis  Für Eltern und Kinder von 1,5 bis 2,5 Jahren (2602622101) 
LOCATION:ASG-W27;001, Wildenbruchstraße 27, 40545 Düsseldorf
END:VEVENT
BEGIN:VEVENT
DTSTAMP:20260419T232334
DTSTART;TZID=Europe/Berlin:20260512T153000
DTEND;TZID=Europe/Berlin:20260512T163000
UID:2602622101-20260512T153000@DÜSSELDORF ASG-BILDUNGSFORUM
SUMMARY:Tanzen für Minis  Für Eltern und Kinder von 1,5 bis 2,5 Jahren (2602622101) 
LOCATION:ASG-W27;001, Wildenbruchstraße 27, 40545 Düsseldorf
END:VEVENT
BEGIN:VEVENT
DTSTAMP:20260419T232334
DTSTART;TZID=Europe/Berlin:20260519T153000
DTEND;TZID=Europe/Berlin:20260519T163000
UID:2602622101-20260519T153000@DÜSSELDORF ASG-BILDUNGSFORUM
SUMMARY:Tanzen für Minis  Für Eltern und Kinder von 1,5 bis 2,5 Jahren (2602622101) 
LOCATION:ASG-W27;001, Wildenbruchstraße 27, 40545 Düsseldorf
END:VEVENT
BEGIN:VEVENT
DTSTAMP:20260419T232334
DTSTART;TZID=Europe/Berlin:20260602T153000
DTEND;TZID=Europe/Berlin:20260602T163000
UID:2602622101-20260602T153000@DÜSSELDORF ASG-BILDUNGSFORUM
SUMMARY:Tanzen für Minis  Für Eltern und Kinder von 1,5 bis 2,5 Jahren (2602622101) 
LOCATION:ASG-W27;001, Wildenbruchstraße 27, 40545 Düsseldorf
END:VEVENT
BEGIN:VEVENT
DTSTAMP:20260419T232334
DTSTART;TZID=Europe/Berlin:20260609T153000
DTEND;TZID=Europe/Berlin:20260609T163000
UID:2602622101-20260609T153000@DÜSSELDORF ASG-BILDUNGSFORUM
SUMMARY:Tanzen für Minis  Für Eltern und Kinder von 1,5 bis 2,5 Jahren (2602622101) 
LOCATION:ASG-W27;001, Wildenbruchstraße 27, 40545 Düsseldorf
END:VEVENT
BEGIN:VEVENT
DTSTAMP:20260419T232334
DTSTART;TZID=Europe/Berlin:20260616T153000
DTEND;TZID=Europe/Berlin:20260616T163000
UID:2602622101-20260616T153000@DÜSSELDORF ASG-BILDUNGSFORUM
SUMMARY:Tanzen für Minis  Für Eltern und Kinder von 1,5 bis 2,5 Jahren (2602622101) 
LOCATION:ASG-W27;001, Wildenbruchstraße 27, 40545 Düsseldorf
END:VEVENT
BEGIN:VEVENT
DTSTAMP:20260419T232334
DTSTART;TZID=Europe/Berlin:20260623T153000
DTEND;TZID=Europe/Berlin:20260623T163000
UID:2602622101-20260623T153000@DÜSSELDORF ASG-BILDUNGSFORUM
SUMMARY:Tanzen für Minis  Für Eltern und Kinder von 1,5 bis 2,5 Jahren (2602622101) 
LOCATION:ASG-W27;001, Wildenbruchstraße 27, 40545 Düsseldorf
END:VEVENT
END:VCALENDAR