BEGIN:VCALENDAR
VERSION:2.0
PRODID:https://www.kufer.de/kuferweb / DE
METHOD:PUBLISH
CALSCALE:GREGORIAN
X-WR-TIMEZONE:Europe/Berlin
BEGIN:VTIMEZONE
TZID:Europe/Berlin
X-LIC-LOCATION:Europe/Berlin
BEGIN:DAYLIGHT
TZOFFSETFROM:+0100
TZOFFSETTO:+0200
TZNAME:CEST
DTSTART:19700329T020000
RRULE:FREQ=YEARLY;INTERVAL=1;BYDAY=-1SU;BYMONTH=3
END:DAYLIGHT
BEGIN:STANDARD
TZOFFSETFROM:+0200
TZOFFSETTO:+0100
TZNAME:CET
DTSTART:19701025T030000
RRULE:FREQ=YEARLY;INTERVAL=1;BYDAY=-1SU;BYMONTH=10
END:STANDARD
END:VTIMEZONE
BEGIN:VEVENT
DTSTAMP:20260421T202412
DTSTART;TZID=Europe/Berlin:20260417T154500
DTEND;TZID=Europe/Berlin:20260417T164500
UID:2602622110-20260417T154500@DÜSSELDORF ASG-BILDUNGSFORUM
SUMMARY:Kreativer Tanz  Für Eltern und Kinder von 3 bis 5 Jahren (2602622110) 
LOCATION:ASG-W27;001, Wildenbruchstraße 27, 40545 Düsseldorf
END:VEVENT
BEGIN:VEVENT
DTSTAMP:20260421T202412
DTSTART;TZID=Europe/Berlin:20260508T154500
DTEND;TZID=Europe/Berlin:20260508T164500
UID:2602622110-20260508T154500@DÜSSELDORF ASG-BILDUNGSFORUM
SUMMARY:Kreativer Tanz  Für Eltern und Kinder von 3 bis 5 Jahren (2602622110) 
LOCATION:ASG-W27;001, Wildenbruchstraße 27, 40545 Düsseldorf
END:VEVENT
BEGIN:VEVENT
DTSTAMP:20260421T202412
DTSTART;TZID=Europe/Berlin:20260515T154500
DTEND;TZID=Europe/Berlin:20260515T164500
UID:2602622110-20260515T154500@DÜSSELDORF ASG-BILDUNGSFORUM
SUMMARY:Kreativer Tanz  Für Eltern und Kinder von 3 bis 5 Jahren (2602622110) 
LOCATION:ASG-W27;001, Wildenbruchstraße 27, 40545 Düsseldorf
END:VEVENT
BEGIN:VEVENT
DTSTAMP:20260421T202412
DTSTART;TZID=Europe/Berlin:20260529T154500
DTEND;TZID=Europe/Berlin:20260529T164500
UID:2602622110-20260529T154500@DÜSSELDORF ASG-BILDUNGSFORUM
SUMMARY:Kreativer Tanz  Für Eltern und Kinder von 3 bis 5 Jahren (2602622110) 
LOCATION:ASG-W27;001, Wildenbruchstraße 27, 40545 Düsseldorf
END:VEVENT
BEGIN:VEVENT
DTSTAMP:20260421T202412
DTSTART;TZID=Europe/Berlin:20260605T154500
DTEND;TZID=Europe/Berlin:20260605T164500
UID:2602622110-20260605T154500@DÜSSELDORF ASG-BILDUNGSFORUM
SUMMARY:Kreativer Tanz  Für Eltern und Kinder von 3 bis 5 Jahren (2602622110) 
LOCATION:ASG-W27;001, Wildenbruchstraße 27, 40545 Düsseldorf
END:VEVENT
BEGIN:VEVENT
DTSTAMP:20260421T202412
DTSTART;TZID=Europe/Berlin:20260612T154500
DTEND;TZID=Europe/Berlin:20260612T164500
UID:2602622110-20260612T154500@DÜSSELDORF ASG-BILDUNGSFORUM
SUMMARY:Kreativer Tanz  Für Eltern und Kinder von 3 bis 5 Jahren (2602622110) 
LOCATION:ASG-W27;001, Wildenbruchstraße 27, 40545 Düsseldorf
END:VEVENT
BEGIN:VEVENT
DTSTAMP:20260421T202412
DTSTART;TZID=Europe/Berlin:20260703T154500
DTEND;TZID=Europe/Berlin:20260703T164500
UID:2602622110-20260703T154500@DÜSSELDORF ASG-BILDUNGSFORUM
SUMMARY:Kreativer Tanz  Für Eltern und Kinder von 3 bis 5 Jahren (2602622110) 
LOCATION:ASG-W27;001, Wildenbruchstraße 27, 40545 Düsseldorf
END:VEVENT
BEGIN:VEVENT
DTSTAMP:20260421T202412
DTSTART;TZID=Europe/Berlin:20260717T154500
DTEND;TZID=Europe/Berlin:20260717T164500
UID:2602622110-20260717T154500@DÜSSELDORF ASG-BILDUNGSFORUM
SUMMARY:Kreativer Tanz  Für Eltern und Kinder von 3 bis 5 Jahren (2602622110) 
LOCATION:ASG-W27;001, Wildenbruchstraße 27, 40545 Düsseldorf
END:VEVENT
END:VCALENDAR