BEGIN:VCALENDAR
VERSION:2.0
PRODID:https://www.kufer.de/kuferweb / DE
METHOD:PUBLISH
CALSCALE:GREGORIAN
X-WR-TIMEZONE:Europe/Berlin
BEGIN:VTIMEZONE
TZID:Europe/Berlin
X-LIC-LOCATION:Europe/Berlin
BEGIN:DAYLIGHT
TZOFFSETFROM:+0100
TZOFFSETTO:+0200
TZNAME:CEST
DTSTART:19700329T020000
RRULE:FREQ=YEARLY;INTERVAL=1;BYDAY=-1SU;BYMONTH=3
END:DAYLIGHT
BEGIN:STANDARD
TZOFFSETFROM:+0200
TZOFFSETTO:+0100
TZNAME:CET
DTSTART:19701025T030000
RRULE:FREQ=YEARLY;INTERVAL=1;BYDAY=-1SU;BYMONTH=10
END:STANDARD
END:VTIMEZONE
BEGIN:VEVENT
DTSTAMP:20260419T185324
DTSTART;TZID=Europe/Berlin:20260416T104500
DTEND;TZID=Europe/Berlin:20260416T121500
UID:2602622203-20260416T104500@DÜSSELDORF ASG-BILDUNGSFORUM
SUMMARY:Eltern-Kind-Kurs: Spiel und Bewegung in Anlehnung an Emmi Pikler (2602622203) 
LOCATION:ASG-G90;E0.02, Gerresheimer Straße 90, 40233 Düsseldorf
END:VEVENT
BEGIN:VEVENT
DTSTAMP:20260419T185324
DTSTART;TZID=Europe/Berlin:20260423T104500
DTEND;TZID=Europe/Berlin:20260423T121500
UID:2602622203-20260423T104500@DÜSSELDORF ASG-BILDUNGSFORUM
SUMMARY:Eltern-Kind-Kurs: Spiel und Bewegung in Anlehnung an Emmi Pikler (2602622203) 
LOCATION:ASG-G90;E0.02, Gerresheimer Straße 90, 40233 Düsseldorf
END:VEVENT
BEGIN:VEVENT
DTSTAMP:20260419T185324
DTSTART;TZID=Europe/Berlin:20260430T104500
DTEND;TZID=Europe/Berlin:20260430T121500
UID:2602622203-20260430T104500@DÜSSELDORF ASG-BILDUNGSFORUM
SUMMARY:Eltern-Kind-Kurs: Spiel und Bewegung in Anlehnung an Emmi Pikler (2602622203) 
LOCATION:ASG-G90;E0.02, Gerresheimer Straße 90, 40233 Düsseldorf
END:VEVENT
BEGIN:VEVENT
DTSTAMP:20260419T185324
DTSTART;TZID=Europe/Berlin:20260507T104500
DTEND;TZID=Europe/Berlin:20260507T121500
UID:2602622203-20260507T104500@DÜSSELDORF ASG-BILDUNGSFORUM
SUMMARY:Eltern-Kind-Kurs: Spiel und Bewegung in Anlehnung an Emmi Pikler (2602622203) 
LOCATION:ASG-G90;E0.02, Gerresheimer Straße 90, 40233 Düsseldorf
END:VEVENT
BEGIN:VEVENT
DTSTAMP:20260419T185324
DTSTART;TZID=Europe/Berlin:20260521T104500
DTEND;TZID=Europe/Berlin:20260521T121500
UID:2602622203-20260521T104500@DÜSSELDORF ASG-BILDUNGSFORUM
SUMMARY:Eltern-Kind-Kurs: Spiel und Bewegung in Anlehnung an Emmi Pikler (2602622203) 
LOCATION:ASG-G90;E0.02, Gerresheimer Straße 90, 40233 Düsseldorf
END:VEVENT
BEGIN:VEVENT
DTSTAMP:20260419T185324
DTSTART;TZID=Europe/Berlin:20260528T104500
DTEND;TZID=Europe/Berlin:20260528T121500
UID:2602622203-20260528T104500@DÜSSELDORF ASG-BILDUNGSFORUM
SUMMARY:Eltern-Kind-Kurs: Spiel und Bewegung in Anlehnung an Emmi Pikler (2602622203) 
LOCATION:ASG-G90;E0.02, Gerresheimer Straße 90, 40233 Düsseldorf
END:VEVENT
BEGIN:VEVENT
DTSTAMP:20260419T185324
DTSTART;TZID=Europe/Berlin:20260611T104500
DTEND;TZID=Europe/Berlin:20260611T121500
UID:2602622203-20260611T104500@DÜSSELDORF ASG-BILDUNGSFORUM
SUMMARY:Eltern-Kind-Kurs: Spiel und Bewegung in Anlehnung an Emmi Pikler (2602622203) 
LOCATION:ASG-G90;E0.02, Gerresheimer Straße 90, 40233 Düsseldorf
END:VEVENT
BEGIN:VEVENT
DTSTAMP:20260419T185324
DTSTART;TZID=Europe/Berlin:20260618T104500
DTEND;TZID=Europe/Berlin:20260618T121500
UID:2602622203-20260618T104500@DÜSSELDORF ASG-BILDUNGSFORUM
SUMMARY:Eltern-Kind-Kurs: Spiel und Bewegung in Anlehnung an Emmi Pikler (2602622203) 
LOCATION:ASG-G90;E0.02, Gerresheimer Straße 90, 40233 Düsseldorf
END:VEVENT
BEGIN:VEVENT
DTSTAMP:20260419T185324
DTSTART;TZID=Europe/Berlin:20260625T104500
DTEND;TZID=Europe/Berlin:20260625T121500
UID:2602622203-20260625T104500@DÜSSELDORF ASG-BILDUNGSFORUM
SUMMARY:Eltern-Kind-Kurs: Spiel und Bewegung in Anlehnung an Emmi Pikler (2602622203) 
LOCATION:ASG-G90;E0.02, Gerresheimer Straße 90, 40233 Düsseldorf
END:VEVENT
BEGIN:VEVENT
DTSTAMP:20260419T185324
DTSTART;TZID=Europe/Berlin:20260702T104500
DTEND;TZID=Europe/Berlin:20260702T121500
UID:2602622203-20260702T104500@DÜSSELDORF ASG-BILDUNGSFORUM
SUMMARY:Eltern-Kind-Kurs: Spiel und Bewegung in Anlehnung an Emmi Pikler (2602622203) 
LOCATION:ASG-G90;E0.02, Gerresheimer Straße 90, 40233 Düsseldorf
END:VEVENT
BEGIN:VEVENT
DTSTAMP:20260419T185324
DTSTART;TZID=Europe/Berlin:20260709T104500
DTEND;TZID=Europe/Berlin:20260709T121500
UID:2602622203-20260709T104500@DÜSSELDORF ASG-BILDUNGSFORUM
SUMMARY:Eltern-Kind-Kurs: Spiel und Bewegung in Anlehnung an Emmi Pikler (2602622203) 
LOCATION:ASG-G90;E0.02, Gerresheimer Straße 90, 40233 Düsseldorf
END:VEVENT
END:VCALENDAR