BEGIN:VCALENDAR
VERSION:2.0
PRODID:https://www.kufer.de/kuferweb / DE
METHOD:PUBLISH
CALSCALE:GREGORIAN
X-WR-TIMEZONE:Europe/Berlin
BEGIN:VTIMEZONE
TZID:Europe/Berlin
X-LIC-LOCATION:Europe/Berlin
BEGIN:DAYLIGHT
TZOFFSETFROM:+0100
TZOFFSETTO:+0200
TZNAME:CEST
DTSTART:19700329T020000
RRULE:FREQ=YEARLY;INTERVAL=1;BYDAY=-1SU;BYMONTH=3
END:DAYLIGHT
BEGIN:STANDARD
TZOFFSETFROM:+0200
TZOFFSETTO:+0100
TZNAME:CET
DTSTART:19701025T030000
RRULE:FREQ=YEARLY;INTERVAL=1;BYDAY=-1SU;BYMONTH=10
END:STANDARD
END:VTIMEZONE
BEGIN:VEVENT
DTSTAMP:20260420T035132
DTSTART;TZID=Europe/Berlin:20260416T111500
DTEND;TZID=Europe/Berlin:20260416T124500
UID:2602622222-20260416T111500@DÜSSELDORF ASG-BILDUNGSFORUM
SUMMARY:Sing- und Bewegungsspiele für Babys Für Eltern und Babys von 7 bis 12 Monaten (2602622222) 
LOCATION:Familienzentrum St. Margareta, Gerricusstraße 14, 40625 Düsseldorf
END:VEVENT
BEGIN:VEVENT
DTSTAMP:20260420T035132
DTSTART;TZID=Europe/Berlin:20260430T111500
DTEND;TZID=Europe/Berlin:20260430T124500
UID:2602622222-20260430T111500@DÜSSELDORF ASG-BILDUNGSFORUM
SUMMARY:Sing- und Bewegungsspiele für Babys Für Eltern und Babys von 7 bis 12 Monaten (2602622222) 
LOCATION:Familienzentrum St. Margareta, Gerricusstraße 14, 40625 Düsseldorf
END:VEVENT
BEGIN:VEVENT
DTSTAMP:20260420T035132
DTSTART;TZID=Europe/Berlin:20260507T111500
DTEND;TZID=Europe/Berlin:20260507T124500
UID:2602622222-20260507T111500@DÜSSELDORF ASG-BILDUNGSFORUM
SUMMARY:Sing- und Bewegungsspiele für Babys Für Eltern und Babys von 7 bis 12 Monaten (2602622222) 
LOCATION:Familienzentrum St. Margareta, Gerricusstraße 14, 40625 Düsseldorf
END:VEVENT
BEGIN:VEVENT
DTSTAMP:20260420T035132
DTSTART;TZID=Europe/Berlin:20260521T111500
DTEND;TZID=Europe/Berlin:20260521T124500
UID:2602622222-20260521T111500@DÜSSELDORF ASG-BILDUNGSFORUM
SUMMARY:Sing- und Bewegungsspiele für Babys Für Eltern und Babys von 7 bis 12 Monaten (2602622222) 
LOCATION:Familienzentrum St. Margareta, Gerricusstraße 14, 40625 Düsseldorf
END:VEVENT
BEGIN:VEVENT
DTSTAMP:20260420T035132
DTSTART;TZID=Europe/Berlin:20260528T111500
DTEND;TZID=Europe/Berlin:20260528T124500
UID:2602622222-20260528T111500@DÜSSELDORF ASG-BILDUNGSFORUM
SUMMARY:Sing- und Bewegungsspiele für Babys Für Eltern und Babys von 7 bis 12 Monaten (2602622222) 
LOCATION:Familienzentrum St. Margareta, Gerricusstraße 14, 40625 Düsseldorf
END:VEVENT
BEGIN:VEVENT
DTSTAMP:20260420T035132
DTSTART;TZID=Europe/Berlin:20260611T111500
DTEND;TZID=Europe/Berlin:20260611T124500
UID:2602622222-20260611T111500@DÜSSELDORF ASG-BILDUNGSFORUM
SUMMARY:Sing- und Bewegungsspiele für Babys Für Eltern und Babys von 7 bis 12 Monaten (2602622222) 
LOCATION:Familienzentrum St. Margareta, Gerricusstraße 14, 40625 Düsseldorf
END:VEVENT
BEGIN:VEVENT
DTSTAMP:20260420T035132
DTSTART;TZID=Europe/Berlin:20260618T111500
DTEND;TZID=Europe/Berlin:20260618T124500
UID:2602622222-20260618T111500@DÜSSELDORF ASG-BILDUNGSFORUM
SUMMARY:Sing- und Bewegungsspiele für Babys Für Eltern und Babys von 7 bis 12 Monaten (2602622222) 
LOCATION:Familienzentrum St. Margareta, Gerricusstraße 14, 40625 Düsseldorf
END:VEVENT
BEGIN:VEVENT
DTSTAMP:20260420T035132
DTSTART;TZID=Europe/Berlin:20260625T111500
DTEND;TZID=Europe/Berlin:20260625T124500
UID:2602622222-20260625T111500@DÜSSELDORF ASG-BILDUNGSFORUM
SUMMARY:Sing- und Bewegungsspiele für Babys Für Eltern und Babys von 7 bis 12 Monaten (2602622222) 
LOCATION:Familienzentrum St. Margareta, Gerricusstraße 14, 40625 Düsseldorf
END:VEVENT
BEGIN:VEVENT
DTSTAMP:20260420T035132
DTSTART;TZID=Europe/Berlin:20260702T111500
DTEND;TZID=Europe/Berlin:20260702T124500
UID:2602622222-20260702T111500@DÜSSELDORF ASG-BILDUNGSFORUM
SUMMARY:Sing- und Bewegungsspiele für Babys Für Eltern und Babys von 7 bis 12 Monaten (2602622222) 
LOCATION:Familienzentrum St. Margareta, Gerricusstraße 14, 40625 Düsseldorf
END:VEVENT
BEGIN:VEVENT
DTSTAMP:20260420T035132
DTSTART;TZID=Europe/Berlin:20260709T111500
DTEND;TZID=Europe/Berlin:20260709T124500
UID:2602622222-20260709T111500@DÜSSELDORF ASG-BILDUNGSFORUM
SUMMARY:Sing- und Bewegungsspiele für Babys Für Eltern und Babys von 7 bis 12 Monaten (2602622222) 
LOCATION:Familienzentrum St. Margareta, Gerricusstraße 14, 40625 Düsseldorf
END:VEVENT
BEGIN:VEVENT
DTSTAMP:20260420T035132
DTSTART;TZID=Europe/Berlin:20260716T111500
DTEND;TZID=Europe/Berlin:20260716T124500
UID:2602622222-20260716T111500@DÜSSELDORF ASG-BILDUNGSFORUM
SUMMARY:Sing- und Bewegungsspiele für Babys Für Eltern und Babys von 7 bis 12 Monaten (2602622222) 
LOCATION:Familienzentrum St. Margareta, Gerricusstraße 14, 40625 Düsseldorf
END:VEVENT
END:VCALENDAR