BEGIN:VCALENDAR
VERSION:2.0
PRODID:https://www.kufer.de/kuferweb / DE
METHOD:PUBLISH
CALSCALE:GREGORIAN
X-WR-TIMEZONE:Europe/Berlin
BEGIN:VTIMEZONE
TZID:Europe/Berlin
X-LIC-LOCATION:Europe/Berlin
BEGIN:DAYLIGHT
TZOFFSETFROM:+0100
TZOFFSETTO:+0200
TZNAME:CEST
DTSTART:19700329T020000
RRULE:FREQ=YEARLY;INTERVAL=1;BYDAY=-1SU;BYMONTH=3
END:DAYLIGHT
BEGIN:STANDARD
TZOFFSETFROM:+0200
TZOFFSETTO:+0100
TZNAME:CET
DTSTART:19701025T030000
RRULE:FREQ=YEARLY;INTERVAL=1;BYDAY=-1SU;BYMONTH=10
END:STANDARD
END:VTIMEZONE
BEGIN:VEVENT
DTSTAMP:20260422T220355
DTSTART;TZID=Europe/Berlin:20260413T153000
DTEND;TZID=Europe/Berlin:20260413T174500
UID:2602622235-20260413T153000@DÜSSELDORF ASG-BILDUNGSFORUM
SUMMARY:Eltern-Kind-Kurs:Frühlingsblumen und Sonnenstrahlen Bastelspaß für Eltern und Kinder von ca.  2 bis 4 Jahren (2602622235) 
LOCATION:ASG-R43;Großer Kindergruppenraum, Rather Kreuzweg 43, 40472 Düsseldorf
END:VEVENT
BEGIN:VEVENT
DTSTAMP:20260422T220355
DTSTART;TZID=Europe/Berlin:20260420T153000
DTEND;TZID=Europe/Berlin:20260420T174500
UID:2602622235-20260420T153000@DÜSSELDORF ASG-BILDUNGSFORUM
SUMMARY:Eltern-Kind-Kurs:Frühlingsblumen und Sonnenstrahlen Bastelspaß für Eltern und Kinder von ca.  2 bis 4 Jahren (2602622235) 
LOCATION:ASG-R43;Großer Kindergruppenraum, Rather Kreuzweg 43, 40472 Düsseldorf
END:VEVENT
BEGIN:VEVENT
DTSTAMP:20260422T220355
DTSTART;TZID=Europe/Berlin:20260427T153000
DTEND;TZID=Europe/Berlin:20260427T174500
UID:2602622235-20260427T153000@DÜSSELDORF ASG-BILDUNGSFORUM
SUMMARY:Eltern-Kind-Kurs:Frühlingsblumen und Sonnenstrahlen Bastelspaß für Eltern und Kinder von ca.  2 bis 4 Jahren (2602622235) 
LOCATION:ASG-R43;Großer Kindergruppenraum, Rather Kreuzweg 43, 40472 Düsseldorf
END:VEVENT
BEGIN:VEVENT
DTSTAMP:20260422T220355
DTSTART;TZID=Europe/Berlin:20260504T153000
DTEND;TZID=Europe/Berlin:20260504T174500
UID:2602622235-20260504T153000@DÜSSELDORF ASG-BILDUNGSFORUM
SUMMARY:Eltern-Kind-Kurs:Frühlingsblumen und Sonnenstrahlen Bastelspaß für Eltern und Kinder von ca.  2 bis 4 Jahren (2602622235) 
LOCATION:ASG-R43;Großer Kindergruppenraum, Rather Kreuzweg 43, 40472 Düsseldorf
END:VEVENT
BEGIN:VEVENT
DTSTAMP:20260422T220355
DTSTART;TZID=Europe/Berlin:20260511T153000
DTEND;TZID=Europe/Berlin:20260511T174500
UID:2602622235-20260511T153000@DÜSSELDORF ASG-BILDUNGSFORUM
SUMMARY:Eltern-Kind-Kurs:Frühlingsblumen und Sonnenstrahlen Bastelspaß für Eltern und Kinder von ca.  2 bis 4 Jahren (2602622235) 
LOCATION:ASG-R43;Großer Kindergruppenraum, Rather Kreuzweg 43, 40472 Düsseldorf
END:VEVENT
END:VCALENDAR