BEGIN:VCALENDAR
VERSION:2.0
PRODID:https://www.kufer.de/kuferweb / DE
METHOD:PUBLISH
CALSCALE:GREGORIAN
X-WR-TIMEZONE:Europe/Berlin
BEGIN:VTIMEZONE
TZID:Europe/Berlin
X-LIC-LOCATION:Europe/Berlin
BEGIN:DAYLIGHT
TZOFFSETFROM:+0100
TZOFFSETTO:+0200
TZNAME:CEST
DTSTART:19700329T020000
RRULE:FREQ=YEARLY;INTERVAL=1;BYDAY=-1SU;BYMONTH=3
END:DAYLIGHT
BEGIN:STANDARD
TZOFFSETFROM:+0200
TZOFFSETTO:+0100
TZNAME:CET
DTSTART:19701025T030000
RRULE:FREQ=YEARLY;INTERVAL=1;BYDAY=-1SU;BYMONTH=10
END:STANDARD
END:VTIMEZONE
BEGIN:VEVENT
DTSTAMP:20260422T203822
DTSTART;TZID=Europe/Berlin:20260720T153000
DTEND;TZID=Europe/Berlin:20260720T173000
UID:2602622237-20260720T153000@DÜSSELDORF ASG-BILDUNGSFORUM
SUMMARY:Sommerferienzeit: Spielen im Garten für große und kleine Entdecker Für Eltern und Kinder 0 bis 6 Jahren (2602622237) 
LOCATION:ASG-R43;Großer Kindergruppenraum, Rather Kreuzweg 43, 40472 Düsseldorf
END:VEVENT
BEGIN:VEVENT
DTSTAMP:20260422T203822
DTSTART;TZID=Europe/Berlin:20260721T153000
DTEND;TZID=Europe/Berlin:20260721T173000
UID:2602622237-20260721T153000@DÜSSELDORF ASG-BILDUNGSFORUM
SUMMARY:Sommerferienzeit: Spielen im Garten für große und kleine Entdecker Für Eltern und Kinder 0 bis 6 Jahren (2602622237) 
LOCATION:ASG-R43;Großer Kindergruppenraum, Rather Kreuzweg 43, 40472 Düsseldorf
END:VEVENT
BEGIN:VEVENT
DTSTAMP:20260422T203822
DTSTART;TZID=Europe/Berlin:20260722T153000
DTEND;TZID=Europe/Berlin:20260722T173000
UID:2602622237-20260722T153000@DÜSSELDORF ASG-BILDUNGSFORUM
SUMMARY:Sommerferienzeit: Spielen im Garten für große und kleine Entdecker Für Eltern und Kinder 0 bis 6 Jahren (2602622237) 
LOCATION:ASG-R43;Großer Kindergruppenraum, Rather Kreuzweg 43, 40472 Düsseldorf
END:VEVENT
BEGIN:VEVENT
DTSTAMP:20260422T203822
DTSTART;TZID=Europe/Berlin:20260723T153000
DTEND;TZID=Europe/Berlin:20260723T173000
UID:2602622237-20260723T153000@DÜSSELDORF ASG-BILDUNGSFORUM
SUMMARY:Sommerferienzeit: Spielen im Garten für große und kleine Entdecker Für Eltern und Kinder 0 bis 6 Jahren (2602622237) 
LOCATION:ASG-R43;Großer Kindergruppenraum, Rather Kreuzweg 43, 40472 Düsseldorf
END:VEVENT
BEGIN:VEVENT
DTSTAMP:20260422T203822
DTSTART;TZID=Europe/Berlin:20260727T153000
DTEND;TZID=Europe/Berlin:20260727T173000
UID:2602622237-20260727T153000@DÜSSELDORF ASG-BILDUNGSFORUM
SUMMARY:Sommerferienzeit: Spielen im Garten für große und kleine Entdecker Für Eltern und Kinder 0 bis 6 Jahren (2602622237) 
LOCATION:ASG-R43;Großer Kindergruppenraum, Rather Kreuzweg 43, 40472 Düsseldorf
END:VEVENT
BEGIN:VEVENT
DTSTAMP:20260422T203822
DTSTART;TZID=Europe/Berlin:20260728T153000
DTEND;TZID=Europe/Berlin:20260728T173000
UID:2602622237-20260728T153000@DÜSSELDORF ASG-BILDUNGSFORUM
SUMMARY:Sommerferienzeit: Spielen im Garten für große und kleine Entdecker Für Eltern und Kinder 0 bis 6 Jahren (2602622237) 
LOCATION:ASG-R43;Großer Kindergruppenraum, Rather Kreuzweg 43, 40472 Düsseldorf
END:VEVENT
BEGIN:VEVENT
DTSTAMP:20260422T203822
DTSTART;TZID=Europe/Berlin:20260729T153000
DTEND;TZID=Europe/Berlin:20260729T173000
UID:2602622237-20260729T153000@DÜSSELDORF ASG-BILDUNGSFORUM
SUMMARY:Sommerferienzeit: Spielen im Garten für große und kleine Entdecker Für Eltern und Kinder 0 bis 6 Jahren (2602622237) 
LOCATION:ASG-R43;Großer Kindergruppenraum, Rather Kreuzweg 43, 40472 Düsseldorf
END:VEVENT
BEGIN:VEVENT
DTSTAMP:20260422T203822
DTSTART;TZID=Europe/Berlin:20260730T153000
DTEND;TZID=Europe/Berlin:20260730T173000
UID:2602622237-20260730T153000@DÜSSELDORF ASG-BILDUNGSFORUM
SUMMARY:Sommerferienzeit: Spielen im Garten für große und kleine Entdecker Für Eltern und Kinder 0 bis 6 Jahren (2602622237) 
LOCATION:ASG-R43;Großer Kindergruppenraum, Rather Kreuzweg 43, 40472 Düsseldorf
END:VEVENT
BEGIN:VEVENT
DTSTAMP:20260422T203822
DTSTART;TZID=Europe/Berlin:20260803T153000
DTEND;TZID=Europe/Berlin:20260803T173000
UID:2602622237-20260803T153000@DÜSSELDORF ASG-BILDUNGSFORUM
SUMMARY:Sommerferienzeit: Spielen im Garten für große und kleine Entdecker Für Eltern und Kinder 0 bis 6 Jahren (2602622237) 
LOCATION:ASG-R43;Großer Kindergruppenraum, Rather Kreuzweg 43, 40472 Düsseldorf
END:VEVENT
BEGIN:VEVENT
DTSTAMP:20260422T203822
DTSTART;TZID=Europe/Berlin:20260804T153000
DTEND;TZID=Europe/Berlin:20260804T173000
UID:2602622237-20260804T153000@DÜSSELDORF ASG-BILDUNGSFORUM
SUMMARY:Sommerferienzeit: Spielen im Garten für große und kleine Entdecker Für Eltern und Kinder 0 bis 6 Jahren (2602622237) 
LOCATION:ASG-R43;Großer Kindergruppenraum, Rather Kreuzweg 43, 40472 Düsseldorf
END:VEVENT
BEGIN:VEVENT
DTSTAMP:20260422T203822
DTSTART;TZID=Europe/Berlin:20260805T153000
DTEND;TZID=Europe/Berlin:20260805T173000
UID:2602622237-20260805T153000@DÜSSELDORF ASG-BILDUNGSFORUM
SUMMARY:Sommerferienzeit: Spielen im Garten für große und kleine Entdecker Für Eltern und Kinder 0 bis 6 Jahren (2602622237) 
LOCATION:ASG-R43;Großer Kindergruppenraum, Rather Kreuzweg 43, 40472 Düsseldorf
END:VEVENT
BEGIN:VEVENT
DTSTAMP:20260422T203822
DTSTART;TZID=Europe/Berlin:20260806T153000
DTEND;TZID=Europe/Berlin:20260806T173000
UID:2602622237-20260806T153000@DÜSSELDORF ASG-BILDUNGSFORUM
SUMMARY:Sommerferienzeit: Spielen im Garten für große und kleine Entdecker Für Eltern und Kinder 0 bis 6 Jahren (2602622237) 
LOCATION:ASG-R43;Großer Kindergruppenraum, Rather Kreuzweg 43, 40472 Düsseldorf
END:VEVENT
END:VCALENDAR