BEGIN:VCALENDAR
VERSION:2.0
PRODID:https://www.kufer.de/kuferweb / DE
METHOD:PUBLISH
CALSCALE:GREGORIAN
X-WR-TIMEZONE:Europe/Berlin
BEGIN:VTIMEZONE
TZID:Europe/Berlin
X-LIC-LOCATION:Europe/Berlin
BEGIN:DAYLIGHT
TZOFFSETFROM:+0100
TZOFFSETTO:+0200
TZNAME:CEST
DTSTART:19700329T020000
RRULE:FREQ=YEARLY;INTERVAL=1;BYDAY=-1SU;BYMONTH=3
END:DAYLIGHT
BEGIN:STANDARD
TZOFFSETFROM:+0200
TZOFFSETTO:+0100
TZNAME:CET
DTSTART:19701025T030000
RRULE:FREQ=YEARLY;INTERVAL=1;BYDAY=-1SU;BYMONTH=10
END:STANDARD
END:VTIMEZONE
BEGIN:VEVENT
DTSTAMP:20260422T131023
DTSTART;TZID=Europe/Berlin:20260416T160000
DTEND;TZID=Europe/Berlin:20260416T173000
UID:2602622238-20260416T160000@DÜSSELDORF ASG-BILDUNGSFORUM
SUMMARY:Eltern-Kind-Kurs: Bewegung, Spiel und Spaß Für Eltern und Kinder von 1,5 bis 3 Jahren (2602622238) 
LOCATION:ASG-R43;Großer Kindergruppenraum, Rather Kreuzweg 43, 40472 Düsseldorf
END:VEVENT
BEGIN:VEVENT
DTSTAMP:20260422T131023
DTSTART;TZID=Europe/Berlin:20260423T160000
DTEND;TZID=Europe/Berlin:20260423T173000
UID:2602622238-20260423T160000@DÜSSELDORF ASG-BILDUNGSFORUM
SUMMARY:Eltern-Kind-Kurs: Bewegung, Spiel und Spaß Für Eltern und Kinder von 1,5 bis 3 Jahren (2602622238) 
LOCATION:ASG-R43;Großer Kindergruppenraum, Rather Kreuzweg 43, 40472 Düsseldorf
END:VEVENT
BEGIN:VEVENT
DTSTAMP:20260422T131023
DTSTART;TZID=Europe/Berlin:20260430T160000
DTEND;TZID=Europe/Berlin:20260430T173000
UID:2602622238-20260430T160000@DÜSSELDORF ASG-BILDUNGSFORUM
SUMMARY:Eltern-Kind-Kurs: Bewegung, Spiel und Spaß Für Eltern und Kinder von 1,5 bis 3 Jahren (2602622238) 
LOCATION:ASG-R43;Großer Kindergruppenraum, Rather Kreuzweg 43, 40472 Düsseldorf
END:VEVENT
BEGIN:VEVENT
DTSTAMP:20260422T131023
DTSTART;TZID=Europe/Berlin:20260507T160000
DTEND;TZID=Europe/Berlin:20260507T173000
UID:2602622238-20260507T160000@DÜSSELDORF ASG-BILDUNGSFORUM
SUMMARY:Eltern-Kind-Kurs: Bewegung, Spiel und Spaß Für Eltern und Kinder von 1,5 bis 3 Jahren (2602622238) 
LOCATION:ASG-R43;Großer Kindergruppenraum, Rather Kreuzweg 43, 40472 Düsseldorf
END:VEVENT
BEGIN:VEVENT
DTSTAMP:20260422T131023
DTSTART;TZID=Europe/Berlin:20260521T160000
DTEND;TZID=Europe/Berlin:20260521T173000
UID:2602622238-20260521T160000@DÜSSELDORF ASG-BILDUNGSFORUM
SUMMARY:Eltern-Kind-Kurs: Bewegung, Spiel und Spaß Für Eltern und Kinder von 1,5 bis 3 Jahren (2602622238) 
LOCATION:ASG-R43;Großer Kindergruppenraum, Rather Kreuzweg 43, 40472 Düsseldorf
END:VEVENT
BEGIN:VEVENT
DTSTAMP:20260422T131023
DTSTART;TZID=Europe/Berlin:20260611T160000
DTEND;TZID=Europe/Berlin:20260611T173000
UID:2602622238-20260611T160000@DÜSSELDORF ASG-BILDUNGSFORUM
SUMMARY:Eltern-Kind-Kurs: Bewegung, Spiel und Spaß Für Eltern und Kinder von 1,5 bis 3 Jahren (2602622238) 
LOCATION:ASG-R43;Großer Kindergruppenraum, Rather Kreuzweg 43, 40472 Düsseldorf
END:VEVENT
BEGIN:VEVENT
DTSTAMP:20260422T131023
DTSTART;TZID=Europe/Berlin:20260618T160000
DTEND;TZID=Europe/Berlin:20260618T173000
UID:2602622238-20260618T160000@DÜSSELDORF ASG-BILDUNGSFORUM
SUMMARY:Eltern-Kind-Kurs: Bewegung, Spiel und Spaß Für Eltern und Kinder von 1,5 bis 3 Jahren (2602622238) 
LOCATION:ASG-R43;Großer Kindergruppenraum, Rather Kreuzweg 43, 40472 Düsseldorf
END:VEVENT
BEGIN:VEVENT
DTSTAMP:20260422T131023
DTSTART;TZID=Europe/Berlin:20260625T160000
DTEND;TZID=Europe/Berlin:20260625T173000
UID:2602622238-20260625T160000@DÜSSELDORF ASG-BILDUNGSFORUM
SUMMARY:Eltern-Kind-Kurs: Bewegung, Spiel und Spaß Für Eltern und Kinder von 1,5 bis 3 Jahren (2602622238) 
LOCATION:ASG-R43;Großer Kindergruppenraum, Rather Kreuzweg 43, 40472 Düsseldorf
END:VEVENT
BEGIN:VEVENT
DTSTAMP:20260422T131023
DTSTART;TZID=Europe/Berlin:20260702T160000
DTEND;TZID=Europe/Berlin:20260702T173000
UID:2602622238-20260702T160000@DÜSSELDORF ASG-BILDUNGSFORUM
SUMMARY:Eltern-Kind-Kurs: Bewegung, Spiel und Spaß Für Eltern und Kinder von 1,5 bis 3 Jahren (2602622238) 
LOCATION:ASG-R43;Großer Kindergruppenraum, Rather Kreuzweg 43, 40472 Düsseldorf
END:VEVENT
BEGIN:VEVENT
DTSTAMP:20260422T131023
DTSTART;TZID=Europe/Berlin:20260709T160000
DTEND;TZID=Europe/Berlin:20260709T173000
UID:2602622238-20260709T160000@DÜSSELDORF ASG-BILDUNGSFORUM
SUMMARY:Eltern-Kind-Kurs: Bewegung, Spiel und Spaß Für Eltern und Kinder von 1,5 bis 3 Jahren (2602622238) 
LOCATION:ASG-R43;Großer Kindergruppenraum, Rather Kreuzweg 43, 40472 Düsseldorf
END:VEVENT
BEGIN:VEVENT
DTSTAMP:20260422T131023
DTSTART;TZID=Europe/Berlin:20260716T160000
DTEND;TZID=Europe/Berlin:20260716T173000
UID:2602622238-20260716T160000@DÜSSELDORF ASG-BILDUNGSFORUM
SUMMARY:Eltern-Kind-Kurs: Bewegung, Spiel und Spaß Für Eltern und Kinder von 1,5 bis 3 Jahren (2602622238) 
LOCATION:ASG-R43;Großer Kindergruppenraum, Rather Kreuzweg 43, 40472 Düsseldorf
END:VEVENT
END:VCALENDAR