BEGIN:VCALENDAR
VERSION:2.0
PRODID:https://www.kufer.de/kuferweb / DE
METHOD:PUBLISH
CALSCALE:GREGORIAN
X-WR-TIMEZONE:Europe/Berlin
BEGIN:VTIMEZONE
TZID:Europe/Berlin
X-LIC-LOCATION:Europe/Berlin
BEGIN:DAYLIGHT
TZOFFSETFROM:+0100
TZOFFSETTO:+0200
TZNAME:CEST
DTSTART:19700329T020000
RRULE:FREQ=YEARLY;INTERVAL=1;BYDAY=-1SU;BYMONTH=3
END:DAYLIGHT
BEGIN:STANDARD
TZOFFSETFROM:+0200
TZOFFSETTO:+0100
TZNAME:CET
DTSTART:19701025T030000
RRULE:FREQ=YEARLY;INTERVAL=1;BYDAY=-1SU;BYMONTH=10
END:STANDARD
END:VTIMEZONE
BEGIN:VEVENT
DTSTAMP:20260419T141034
DTSTART;TZID=Europe/Berlin:20260508T143000
DTEND;TZID=Europe/Berlin:20260508T164500
UID:2602622334-20260508T143000@DÜSSELDORF ASG-BILDUNGSFORUM
SUMMARY:Forscherworkshop: Abenteuer Wasser Für Väter, Großväter, Onkel und Kinder von 4 bis 6 Jahren (2602622334) 
LOCATION:Familienzentrum St. Blasius, Florensstraße 28, 40221 Düsseldorf
END:VEVENT
END:VCALENDAR