BEGIN:VCALENDAR
VERSION:2.0
PRODID:https://www.kufer.de/kuferweb / DE
METHOD:PUBLISH
CALSCALE:GREGORIAN
X-WR-TIMEZONE:Europe/Berlin
BEGIN:VTIMEZONE
TZID:Europe/Berlin
X-LIC-LOCATION:Europe/Berlin
BEGIN:DAYLIGHT
TZOFFSETFROM:+0100
TZOFFSETTO:+0200
TZNAME:CEST
DTSTART:19700329T020000
RRULE:FREQ=YEARLY;INTERVAL=1;BYDAY=-1SU;BYMONTH=3
END:DAYLIGHT
BEGIN:STANDARD
TZOFFSETFROM:+0200
TZOFFSETTO:+0100
TZNAME:CET
DTSTART:19701025T030000
RRULE:FREQ=YEARLY;INTERVAL=1;BYDAY=-1SU;BYMONTH=10
END:STANDARD
END:VTIMEZONE
BEGIN:VEVENT
DTSTAMP:20260421T171401
DTSTART;TZID=Europe/Berlin:20260422T164500
DTEND;TZID=Europe/Berlin:20260422T174500
UID:2602622343-20260422T164500@DÜSSELDORF ASG-BILDUNGSFORUM
SUMMARY:Natürlich bunt! Malen & Matschen mit essbaren Farben Für Eltern und Kinder von 1,5 bis 2 Jahren (2602622343) 
LOCATION:ASG-W27;001, Wildenbruchstraße 27, 40545 Düsseldorf
END:VEVENT
BEGIN:VEVENT
DTSTAMP:20260421T171401
DTSTART;TZID=Europe/Berlin:20260429T164500
DTEND;TZID=Europe/Berlin:20260429T174500
UID:2602622343-20260429T164500@DÜSSELDORF ASG-BILDUNGSFORUM
SUMMARY:Natürlich bunt! Malen & Matschen mit essbaren Farben Für Eltern und Kinder von 1,5 bis 2 Jahren (2602622343) 
LOCATION:ASG-W27;001, Wildenbruchstraße 27, 40545 Düsseldorf
END:VEVENT
BEGIN:VEVENT
DTSTAMP:20260421T171401
DTSTART;TZID=Europe/Berlin:20260506T164500
DTEND;TZID=Europe/Berlin:20260506T174500
UID:2602622343-20260506T164500@DÜSSELDORF ASG-BILDUNGSFORUM
SUMMARY:Natürlich bunt! Malen & Matschen mit essbaren Farben Für Eltern und Kinder von 1,5 bis 2 Jahren (2602622343) 
LOCATION:ASG-W27;001, Wildenbruchstraße 27, 40545 Düsseldorf
END:VEVENT
BEGIN:VEVENT
DTSTAMP:20260421T171401
DTSTART;TZID=Europe/Berlin:20260513T164500
DTEND;TZID=Europe/Berlin:20260513T174500
UID:2602622343-20260513T164500@DÜSSELDORF ASG-BILDUNGSFORUM
SUMMARY:Natürlich bunt! Malen & Matschen mit essbaren Farben Für Eltern und Kinder von 1,5 bis 2 Jahren (2602622343) 
LOCATION:ASG-W27;001, Wildenbruchstraße 27, 40545 Düsseldorf
END:VEVENT
BEGIN:VEVENT
DTSTAMP:20260421T171401
DTSTART;TZID=Europe/Berlin:20260520T164500
DTEND;TZID=Europe/Berlin:20260520T174500
UID:2602622343-20260520T164500@DÜSSELDORF ASG-BILDUNGSFORUM
DESCRIPTION:Ersatz für Ausfall am 15.04.2026
SUMMARY:Natürlich bunt! Malen & Matschen mit essbaren Farben Für Eltern und Kinder von 1,5 bis 2 Jahren (2602622343) 
LOCATION:ASG-W27;001, Wildenbruchstraße 27, 40545 Düsseldorf
END:VEVENT
END:VCALENDAR