BEGIN:VCALENDAR
VERSION:2.0
PRODID:https://www.kufer.de/kuferweb / DE
METHOD:PUBLISH
CALSCALE:GREGORIAN
X-WR-TIMEZONE:Europe/Berlin
BEGIN:VTIMEZONE
TZID:Europe/Berlin
X-LIC-LOCATION:Europe/Berlin
BEGIN:DAYLIGHT
TZOFFSETFROM:+0100
TZOFFSETTO:+0200
TZNAME:CEST
DTSTART:19700329T020000
RRULE:FREQ=YEARLY;INTERVAL=1;BYDAY=-1SU;BYMONTH=3
END:DAYLIGHT
BEGIN:STANDARD
TZOFFSETFROM:+0200
TZOFFSETTO:+0100
TZNAME:CET
DTSTART:19701025T030000
RRULE:FREQ=YEARLY;INTERVAL=1;BYDAY=-1SU;BYMONTH=10
END:STANDARD
END:VTIMEZONE
BEGIN:VEVENT
DTSTAMP:20260419T223409
DTSTART;TZID=Europe/Berlin:20260904T093000
DTEND;TZID=Europe/Berlin:20260904T110000
UID:2602623058-20260904T093000@DÜSSELDORF ASG-BILDUNGSFORUM
SUMMARY:Elternstart NRW: Internationaler Babytreff Für Eltern und Babys im ersten Lebensjahr International baby group
For parents and babies in their first year (2602623058) 
LOCATION:ASG-W27;001, Wildenbruchstraße 27, 40545 Düsseldorf
END:VEVENT
BEGIN:VEVENT
DTSTAMP:20260419T223409
DTSTART;TZID=Europe/Berlin:20260911T093000
DTEND;TZID=Europe/Berlin:20260911T110000
UID:2602623058-20260911T093000@DÜSSELDORF ASG-BILDUNGSFORUM
SUMMARY:Elternstart NRW: Internationaler Babytreff Für Eltern und Babys im ersten Lebensjahr International baby group
For parents and babies in their first year (2602623058) 
LOCATION:ASG-W27;001, Wildenbruchstraße 27, 40545 Düsseldorf
END:VEVENT
BEGIN:VEVENT
DTSTAMP:20260419T223409
DTSTART;TZID=Europe/Berlin:20260918T093000
DTEND;TZID=Europe/Berlin:20260918T110000
UID:2602623058-20260918T093000@DÜSSELDORF ASG-BILDUNGSFORUM
SUMMARY:Elternstart NRW: Internationaler Babytreff Für Eltern und Babys im ersten Lebensjahr International baby group
For parents and babies in their first year (2602623058) 
LOCATION:ASG-W27;001, Wildenbruchstraße 27, 40545 Düsseldorf
END:VEVENT
BEGIN:VEVENT
DTSTAMP:20260419T223409
DTSTART;TZID=Europe/Berlin:20260925T093000
DTEND;TZID=Europe/Berlin:20260925T110000
UID:2602623058-20260925T093000@DÜSSELDORF ASG-BILDUNGSFORUM
SUMMARY:Elternstart NRW: Internationaler Babytreff Für Eltern und Babys im ersten Lebensjahr International baby group
For parents and babies in their first year (2602623058) 
LOCATION:ASG-W27;001, Wildenbruchstraße 27, 40545 Düsseldorf
END:VEVENT
BEGIN:VEVENT
DTSTAMP:20260419T223409
DTSTART;TZID=Europe/Berlin:20261002T093000
DTEND;TZID=Europe/Berlin:20261002T110000
UID:2602623058-20261002T093000@DÜSSELDORF ASG-BILDUNGSFORUM
SUMMARY:Elternstart NRW: Internationaler Babytreff Für Eltern und Babys im ersten Lebensjahr International baby group
For parents and babies in their first year (2602623058) 
LOCATION:ASG-W27;001, Wildenbruchstraße 27, 40545 Düsseldorf
END:VEVENT
BEGIN:VEVENT
DTSTAMP:20260419T223409
DTSTART;TZID=Europe/Berlin:20261009T093000
DTEND;TZID=Europe/Berlin:20261009T110000
UID:2602623058-20261009T093000@DÜSSELDORF ASG-BILDUNGSFORUM
SUMMARY:Elternstart NRW: Internationaler Babytreff Für Eltern und Babys im ersten Lebensjahr International baby group
For parents and babies in their first year (2602623058) 
LOCATION:ASG-W27;001, Wildenbruchstraße 27, 40545 Düsseldorf
END:VEVENT
BEGIN:VEVENT
DTSTAMP:20260419T223409
DTSTART;TZID=Europe/Berlin:20261016T093000
DTEND;TZID=Europe/Berlin:20261016T110000
UID:2602623058-20261016T093000@DÜSSELDORF ASG-BILDUNGSFORUM
SUMMARY:Elternstart NRW: Internationaler Babytreff Für Eltern und Babys im ersten Lebensjahr International baby group
For parents and babies in their first year (2602623058) 
LOCATION:ASG-W27;001, Wildenbruchstraße 27, 40545 Düsseldorf
END:VEVENT
BEGIN:VEVENT
DTSTAMP:20260419T223409
DTSTART;TZID=Europe/Berlin:20261023T093000
DTEND;TZID=Europe/Berlin:20261023T110000
UID:2602623058-20261023T093000@DÜSSELDORF ASG-BILDUNGSFORUM
SUMMARY:Elternstart NRW: Internationaler Babytreff Für Eltern und Babys im ersten Lebensjahr International baby group
For parents and babies in their first year (2602623058) 
LOCATION:ASG-W27;001, Wildenbruchstraße 27, 40545 Düsseldorf
END:VEVENT
BEGIN:VEVENT
DTSTAMP:20260419T223409
DTSTART;TZID=Europe/Berlin:20261030T093000
DTEND;TZID=Europe/Berlin:20261030T110000
UID:2602623058-20261030T093000@DÜSSELDORF ASG-BILDUNGSFORUM
SUMMARY:Elternstart NRW: Internationaler Babytreff Für Eltern und Babys im ersten Lebensjahr International baby group
For parents and babies in their first year (2602623058) 
LOCATION:ASG-W27;001, Wildenbruchstraße 27, 40545 Düsseldorf
END:VEVENT
BEGIN:VEVENT
DTSTAMP:20260419T223409
DTSTART;TZID=Europe/Berlin:20261106T093000
DTEND;TZID=Europe/Berlin:20261106T110000
UID:2602623058-20261106T093000@DÜSSELDORF ASG-BILDUNGSFORUM
SUMMARY:Elternstart NRW: Internationaler Babytreff Für Eltern und Babys im ersten Lebensjahr International baby group
For parents and babies in their first year (2602623058) 
LOCATION:ASG-W27;001, Wildenbruchstraße 27, 40545 Düsseldorf
END:VEVENT
BEGIN:VEVENT
DTSTAMP:20260419T223409
DTSTART;TZID=Europe/Berlin:20261113T093000
DTEND;TZID=Europe/Berlin:20261113T110000
UID:2602623058-20261113T093000@DÜSSELDORF ASG-BILDUNGSFORUM
SUMMARY:Elternstart NRW: Internationaler Babytreff Für Eltern und Babys im ersten Lebensjahr International baby group
For parents and babies in their first year (2602623058) 
LOCATION:ASG-W27;001, Wildenbruchstraße 27, 40545 Düsseldorf
END:VEVENT
BEGIN:VEVENT
DTSTAMP:20260419T223409
DTSTART;TZID=Europe/Berlin:20261120T093000
DTEND;TZID=Europe/Berlin:20261120T110000
UID:2602623058-20261120T093000@DÜSSELDORF ASG-BILDUNGSFORUM
SUMMARY:Elternstart NRW: Internationaler Babytreff Für Eltern und Babys im ersten Lebensjahr International baby group
For parents and babies in their first year (2602623058) 
LOCATION:ASG-W27;001, Wildenbruchstraße 27, 40545 Düsseldorf
END:VEVENT
BEGIN:VEVENT
DTSTAMP:20260419T223409
DTSTART;TZID=Europe/Berlin:20261127T093000
DTEND;TZID=Europe/Berlin:20261127T110000
UID:2602623058-20261127T093000@DÜSSELDORF ASG-BILDUNGSFORUM
SUMMARY:Elternstart NRW: Internationaler Babytreff Für Eltern und Babys im ersten Lebensjahr International baby group
For parents and babies in their first year (2602623058) 
LOCATION:ASG-W27;001, Wildenbruchstraße 27, 40545 Düsseldorf
END:VEVENT
BEGIN:VEVENT
DTSTAMP:20260419T223409
DTSTART;TZID=Europe/Berlin:20261204T093000
DTEND;TZID=Europe/Berlin:20261204T110000
UID:2602623058-20261204T093000@DÜSSELDORF ASG-BILDUNGSFORUM
SUMMARY:Elternstart NRW: Internationaler Babytreff Für Eltern und Babys im ersten Lebensjahr International baby group
For parents and babies in their first year (2602623058) 
LOCATION:ASG-W27;001, Wildenbruchstraße 27, 40545 Düsseldorf
END:VEVENT
BEGIN:VEVENT
DTSTAMP:20260419T223409
DTSTART;TZID=Europe/Berlin:20261211T093000
DTEND;TZID=Europe/Berlin:20261211T110000
UID:2602623058-20261211T093000@DÜSSELDORF ASG-BILDUNGSFORUM
SUMMARY:Elternstart NRW: Internationaler Babytreff Für Eltern und Babys im ersten Lebensjahr International baby group
For parents and babies in their first year (2602623058) 
LOCATION:ASG-W27;001, Wildenbruchstraße 27, 40545 Düsseldorf
END:VEVENT
END:VCALENDAR