BEGIN:VCALENDAR
VERSION:2.0
PRODID:https://www.kufer.de/kuferweb / DE
METHOD:PUBLISH
CALSCALE:GREGORIAN
X-WR-TIMEZONE:Europe/Berlin
BEGIN:VTIMEZONE
TZID:Europe/Berlin
X-LIC-LOCATION:Europe/Berlin
BEGIN:DAYLIGHT
TZOFFSETFROM:+0100
TZOFFSETTO:+0200
TZNAME:CEST
DTSTART:19700329T020000
RRULE:FREQ=YEARLY;INTERVAL=1;BYDAY=-1SU;BYMONTH=3
END:DAYLIGHT
BEGIN:STANDARD
TZOFFSETFROM:+0200
TZOFFSETTO:+0100
TZNAME:CET
DTSTART:19701025T030000
RRULE:FREQ=YEARLY;INTERVAL=1;BYDAY=-1SU;BYMONTH=10
END:STANDARD
END:VTIMEZONE
BEGIN:VEVENT
DTSTAMP:20260421T183622
DTSTART;TZID=Europe/Berlin:20260909T100000
DTEND;TZID=Europe/Berlin:20260909T121500
UID:2602623072-20260909T100000@DÜSSELDORF ASG-BILDUNGSFORUM
SUMMARY:Selbstgeleitete Spielgruppe und Müttertreff Hl.Familie (2602623072) 
LOCATION:Kath. Kirchengemeinde Hl. Familie, Carl-Sonnenschein-Straße 37, 40468 Düsseldorf
END:VEVENT
BEGIN:VEVENT
DTSTAMP:20260421T183622
DTSTART;TZID=Europe/Berlin:20260916T100000
DTEND;TZID=Europe/Berlin:20260916T121500
UID:2602623072-20260916T100000@DÜSSELDORF ASG-BILDUNGSFORUM
SUMMARY:Selbstgeleitete Spielgruppe und Müttertreff Hl.Familie (2602623072) 
LOCATION:Kath. Kirchengemeinde Hl. Familie, Carl-Sonnenschein-Straße 37, 40468 Düsseldorf
END:VEVENT
BEGIN:VEVENT
DTSTAMP:20260421T183622
DTSTART;TZID=Europe/Berlin:20260923T100000
DTEND;TZID=Europe/Berlin:20260923T121500
UID:2602623072-20260923T100000@DÜSSELDORF ASG-BILDUNGSFORUM
SUMMARY:Selbstgeleitete Spielgruppe und Müttertreff Hl.Familie (2602623072) 
LOCATION:Kath. Kirchengemeinde Hl. Familie, Carl-Sonnenschein-Straße 37, 40468 Düsseldorf
END:VEVENT
BEGIN:VEVENT
DTSTAMP:20260421T183622
DTSTART;TZID=Europe/Berlin:20260930T100000
DTEND;TZID=Europe/Berlin:20260930T121500
UID:2602623072-20260930T100000@DÜSSELDORF ASG-BILDUNGSFORUM
SUMMARY:Selbstgeleitete Spielgruppe und Müttertreff Hl.Familie (2602623072) 
LOCATION:Kath. Kirchengemeinde Hl. Familie, Carl-Sonnenschein-Straße 37, 40468 Düsseldorf
END:VEVENT
BEGIN:VEVENT
DTSTAMP:20260421T183622
DTSTART;TZID=Europe/Berlin:20261007T100000
DTEND;TZID=Europe/Berlin:20261007T121500
UID:2602623072-20261007T100000@DÜSSELDORF ASG-BILDUNGSFORUM
SUMMARY:Selbstgeleitete Spielgruppe und Müttertreff Hl.Familie (2602623072) 
LOCATION:Kath. Kirchengemeinde Hl. Familie, Carl-Sonnenschein-Straße 37, 40468 Düsseldorf
END:VEVENT
BEGIN:VEVENT
DTSTAMP:20260421T183622
DTSTART;TZID=Europe/Berlin:20261014T100000
DTEND;TZID=Europe/Berlin:20261014T121500
UID:2602623072-20261014T100000@DÜSSELDORF ASG-BILDUNGSFORUM
SUMMARY:Selbstgeleitete Spielgruppe und Müttertreff Hl.Familie (2602623072) 
LOCATION:Kath. Kirchengemeinde Hl. Familie, Carl-Sonnenschein-Straße 37, 40468 Düsseldorf
END:VEVENT
BEGIN:VEVENT
DTSTAMP:20260421T183622
DTSTART;TZID=Europe/Berlin:20261104T100000
DTEND;TZID=Europe/Berlin:20261104T121500
UID:2602623072-20261104T100000@DÜSSELDORF ASG-BILDUNGSFORUM
SUMMARY:Selbstgeleitete Spielgruppe und Müttertreff Hl.Familie (2602623072) 
LOCATION:Kath. Kirchengemeinde Hl. Familie, Carl-Sonnenschein-Straße 37, 40468 Düsseldorf
END:VEVENT
BEGIN:VEVENT
DTSTAMP:20260421T183622
DTSTART;TZID=Europe/Berlin:20261111T100000
DTEND;TZID=Europe/Berlin:20261111T121500
UID:2602623072-20261111T100000@DÜSSELDORF ASG-BILDUNGSFORUM
SUMMARY:Selbstgeleitete Spielgruppe und Müttertreff Hl.Familie (2602623072) 
LOCATION:Kath. Kirchengemeinde Hl. Familie, Carl-Sonnenschein-Straße 37, 40468 Düsseldorf
END:VEVENT
BEGIN:VEVENT
DTSTAMP:20260421T183622
DTSTART;TZID=Europe/Berlin:20261118T100000
DTEND;TZID=Europe/Berlin:20261118T121500
UID:2602623072-20261118T100000@DÜSSELDORF ASG-BILDUNGSFORUM
SUMMARY:Selbstgeleitete Spielgruppe und Müttertreff Hl.Familie (2602623072) 
LOCATION:Kath. Kirchengemeinde Hl. Familie, Carl-Sonnenschein-Straße 37, 40468 Düsseldorf
END:VEVENT
BEGIN:VEVENT
DTSTAMP:20260421T183622
DTSTART;TZID=Europe/Berlin:20261125T100000
DTEND;TZID=Europe/Berlin:20261125T121500
UID:2602623072-20261125T100000@DÜSSELDORF ASG-BILDUNGSFORUM
SUMMARY:Selbstgeleitete Spielgruppe und Müttertreff Hl.Familie (2602623072) 
LOCATION:Kath. Kirchengemeinde Hl. Familie, Carl-Sonnenschein-Straße 37, 40468 Düsseldorf
END:VEVENT
BEGIN:VEVENT
DTSTAMP:20260421T183622
DTSTART;TZID=Europe/Berlin:20261202T100000
DTEND;TZID=Europe/Berlin:20261202T121500
UID:2602623072-20261202T100000@DÜSSELDORF ASG-BILDUNGSFORUM
SUMMARY:Selbstgeleitete Spielgruppe und Müttertreff Hl.Familie (2602623072) 
LOCATION:Kath. Kirchengemeinde Hl. Familie, Carl-Sonnenschein-Straße 37, 40468 Düsseldorf
END:VEVENT
BEGIN:VEVENT
DTSTAMP:20260421T183622
DTSTART;TZID=Europe/Berlin:20261209T100000
DTEND;TZID=Europe/Berlin:20261209T121500
UID:2602623072-20261209T100000@DÜSSELDORF ASG-BILDUNGSFORUM
SUMMARY:Selbstgeleitete Spielgruppe und Müttertreff Hl.Familie (2602623072) 
LOCATION:Kath. Kirchengemeinde Hl. Familie, Carl-Sonnenschein-Straße 37, 40468 Düsseldorf
END:VEVENT
BEGIN:VEVENT
DTSTAMP:20260421T183622
DTSTART;TZID=Europe/Berlin:20261216T100000
DTEND;TZID=Europe/Berlin:20261216T121500
UID:2602623072-20261216T100000@DÜSSELDORF ASG-BILDUNGSFORUM
SUMMARY:Selbstgeleitete Spielgruppe und Müttertreff Hl.Familie (2602623072) 
LOCATION:Kath. Kirchengemeinde Hl. Familie, Carl-Sonnenschein-Straße 37, 40468 Düsseldorf
END:VEVENT
END:VCALENDAR