BEGIN:VCALENDAR
VERSION:2.0
PRODID:https://www.kufer.de/kuferweb / DE
METHOD:PUBLISH
CALSCALE:GREGORIAN
X-WR-TIMEZONE:Europe/Berlin
BEGIN:VTIMEZONE
TZID:Europe/Berlin
X-LIC-LOCATION:Europe/Berlin
BEGIN:DAYLIGHT
TZOFFSETFROM:+0100
TZOFFSETTO:+0200
TZNAME:CEST
DTSTART:19700329T020000
RRULE:FREQ=YEARLY;INTERVAL=1;BYDAY=-1SU;BYMONTH=3
END:DAYLIGHT
BEGIN:STANDARD
TZOFFSETFROM:+0200
TZOFFSETTO:+0100
TZNAME:CET
DTSTART:19701025T030000
RRULE:FREQ=YEARLY;INTERVAL=1;BYDAY=-1SU;BYMONTH=10
END:STANDARD
END:VTIMEZONE
BEGIN:VEVENT
DTSTAMP:20260420T005020
DTSTART;TZID=Europe/Berlin:20260909T093000
DTEND;TZID=Europe/Berlin:20260909T114500
UID:2602623115-20260909T093000@DÜSSELDORF ASG-BILDUNGSFORUM
SUMMARY:Das erste, zweite, dritte Lebensjahr Eltern-Kind-Kurs für Kinder ab 1 Jahr (2602623115) 
LOCATION:ASG-R43;Großer Kindergruppenraum, Rather Kreuzweg 43, 40472 Düsseldorf
END:VEVENT
BEGIN:VEVENT
DTSTAMP:20260420T005020
DTSTART;TZID=Europe/Berlin:20260916T093000
DTEND;TZID=Europe/Berlin:20260916T114500
UID:2602623115-20260916T093000@DÜSSELDORF ASG-BILDUNGSFORUM
SUMMARY:Das erste, zweite, dritte Lebensjahr Eltern-Kind-Kurs für Kinder ab 1 Jahr (2602623115) 
LOCATION:ASG-R43;Großer Kindergruppenraum, Rather Kreuzweg 43, 40472 Düsseldorf
END:VEVENT
BEGIN:VEVENT
DTSTAMP:20260420T005020
DTSTART;TZID=Europe/Berlin:20260923T093000
DTEND;TZID=Europe/Berlin:20260923T114500
UID:2602623115-20260923T093000@DÜSSELDORF ASG-BILDUNGSFORUM
SUMMARY:Das erste, zweite, dritte Lebensjahr Eltern-Kind-Kurs für Kinder ab 1 Jahr (2602623115) 
LOCATION:ASG-R43;Großer Kindergruppenraum, Rather Kreuzweg 43, 40472 Düsseldorf
END:VEVENT
BEGIN:VEVENT
DTSTAMP:20260420T005020
DTSTART;TZID=Europe/Berlin:20260930T093000
DTEND;TZID=Europe/Berlin:20260930T114500
UID:2602623115-20260930T093000@DÜSSELDORF ASG-BILDUNGSFORUM
SUMMARY:Das erste, zweite, dritte Lebensjahr Eltern-Kind-Kurs für Kinder ab 1 Jahr (2602623115) 
LOCATION:ASG-R43;Großer Kindergruppenraum, Rather Kreuzweg 43, 40472 Düsseldorf
END:VEVENT
BEGIN:VEVENT
DTSTAMP:20260420T005020
DTSTART;TZID=Europe/Berlin:20261007T093000
DTEND;TZID=Europe/Berlin:20261007T114500
UID:2602623115-20261007T093000@DÜSSELDORF ASG-BILDUNGSFORUM
SUMMARY:Das erste, zweite, dritte Lebensjahr Eltern-Kind-Kurs für Kinder ab 1 Jahr (2602623115) 
LOCATION:ASG-R43;Großer Kindergruppenraum, Rather Kreuzweg 43, 40472 Düsseldorf
END:VEVENT
BEGIN:VEVENT
DTSTAMP:20260420T005020
DTSTART;TZID=Europe/Berlin:20261014T093000
DTEND;TZID=Europe/Berlin:20261014T114500
UID:2602623115-20261014T093000@DÜSSELDORF ASG-BILDUNGSFORUM
SUMMARY:Das erste, zweite, dritte Lebensjahr Eltern-Kind-Kurs für Kinder ab 1 Jahr (2602623115) 
LOCATION:ASG-R43;Großer Kindergruppenraum, Rather Kreuzweg 43, 40472 Düsseldorf
END:VEVENT
END:VCALENDAR