BEGIN:VCALENDAR
VERSION:2.0
PRODID:https://www.kufer.de/kuferweb / DE
METHOD:PUBLISH
CALSCALE:GREGORIAN
X-WR-TIMEZONE:Europe/Berlin
BEGIN:VTIMEZONE
TZID:Europe/Berlin
X-LIC-LOCATION:Europe/Berlin
BEGIN:DAYLIGHT
TZOFFSETFROM:+0100
TZOFFSETTO:+0200
TZNAME:CEST
DTSTART:19700329T020000
RRULE:FREQ=YEARLY;INTERVAL=1;BYDAY=-1SU;BYMONTH=3
END:DAYLIGHT
BEGIN:STANDARD
TZOFFSETFROM:+0200
TZOFFSETTO:+0100
TZNAME:CET
DTSTART:19701025T030000
RRULE:FREQ=YEARLY;INTERVAL=1;BYDAY=-1SU;BYMONTH=10
END:STANDARD
END:VTIMEZONE
BEGIN:VEVENT
DTSTAMP:20260420T190557
DTSTART;TZID=Europe/Berlin:20260930T093000
DTEND;TZID=Europe/Berlin:20260930T114500
UID:2602623220-20260930T093000@DÜSSELDORF ASG-BILDUNGSFORUM
SUMMARY:Elternstart NRW: Offener Spieltreff für Eltern und Babys im 1. Lebensjahr ab ca. 3 Monaten (2602623220) 
LOCATION:ASG-W27;001, Wildenbruchstraße 27, 40545 Düsseldorf
END:VEVENT
BEGIN:VEVENT
DTSTAMP:20260420T190557
DTSTART;TZID=Europe/Berlin:20261007T093000
DTEND;TZID=Europe/Berlin:20261007T114500
UID:2602623220-20261007T093000@DÜSSELDORF ASG-BILDUNGSFORUM
SUMMARY:Elternstart NRW: Offener Spieltreff für Eltern und Babys im 1. Lebensjahr ab ca. 3 Monaten (2602623220) 
LOCATION:ASG-W27;001, Wildenbruchstraße 27, 40545 Düsseldorf
END:VEVENT
BEGIN:VEVENT
DTSTAMP:20260420T190557
DTSTART;TZID=Europe/Berlin:20261014T093000
DTEND;TZID=Europe/Berlin:20261014T114500
UID:2602623220-20261014T093000@DÜSSELDORF ASG-BILDUNGSFORUM
SUMMARY:Elternstart NRW: Offener Spieltreff für Eltern und Babys im 1. Lebensjahr ab ca. 3 Monaten (2602623220) 
LOCATION:ASG-W27;001, Wildenbruchstraße 27, 40545 Düsseldorf
END:VEVENT
BEGIN:VEVENT
DTSTAMP:20260420T190557
DTSTART;TZID=Europe/Berlin:20261104T093000
DTEND;TZID=Europe/Berlin:20261104T114500
UID:2602623220-20261104T093000@DÜSSELDORF ASG-BILDUNGSFORUM
SUMMARY:Elternstart NRW: Offener Spieltreff für Eltern und Babys im 1. Lebensjahr ab ca. 3 Monaten (2602623220) 
LOCATION:ASG-W27;001, Wildenbruchstraße 27, 40545 Düsseldorf
END:VEVENT
BEGIN:VEVENT
DTSTAMP:20260420T190557
DTSTART;TZID=Europe/Berlin:20261111T093000
DTEND;TZID=Europe/Berlin:20261111T114500
UID:2602623220-20261111T093000@DÜSSELDORF ASG-BILDUNGSFORUM
SUMMARY:Elternstart NRW: Offener Spieltreff für Eltern und Babys im 1. Lebensjahr ab ca. 3 Monaten (2602623220) 
LOCATION:ASG-W27;001, Wildenbruchstraße 27, 40545 Düsseldorf
END:VEVENT
BEGIN:VEVENT
DTSTAMP:20260420T190557
DTSTART;TZID=Europe/Berlin:20261118T093000
DTEND;TZID=Europe/Berlin:20261118T114500
UID:2602623220-20261118T093000@DÜSSELDORF ASG-BILDUNGSFORUM
SUMMARY:Elternstart NRW: Offener Spieltreff für Eltern und Babys im 1. Lebensjahr ab ca. 3 Monaten (2602623220) 
LOCATION:ASG-W27;001, Wildenbruchstraße 27, 40545 Düsseldorf
END:VEVENT
BEGIN:VEVENT
DTSTAMP:20260420T190557
DTSTART;TZID=Europe/Berlin:20261125T093000
DTEND;TZID=Europe/Berlin:20261125T114500
UID:2602623220-20261125T093000@DÜSSELDORF ASG-BILDUNGSFORUM
SUMMARY:Elternstart NRW: Offener Spieltreff für Eltern und Babys im 1. Lebensjahr ab ca. 3 Monaten (2602623220) 
LOCATION:ASG-W27;001, Wildenbruchstraße 27, 40545 Düsseldorf
END:VEVENT
BEGIN:VEVENT
DTSTAMP:20260420T190557
DTSTART;TZID=Europe/Berlin:20261202T093000
DTEND;TZID=Europe/Berlin:20261202T114500
UID:2602623220-20261202T093000@DÜSSELDORF ASG-BILDUNGSFORUM
SUMMARY:Elternstart NRW: Offener Spieltreff für Eltern und Babys im 1. Lebensjahr ab ca. 3 Monaten (2602623220) 
LOCATION:ASG-W27;001, Wildenbruchstraße 27, 40545 Düsseldorf
END:VEVENT
END:VCALENDAR