BEGIN:VCALENDAR
VERSION:2.0
PRODID:https://www.kufer.de/kuferweb / DE
METHOD:PUBLISH
CALSCALE:GREGORIAN
X-WR-TIMEZONE:Europe/Berlin
BEGIN:VTIMEZONE
TZID:Europe/Berlin
X-LIC-LOCATION:Europe/Berlin
BEGIN:DAYLIGHT
TZOFFSETFROM:+0100
TZOFFSETTO:+0200
TZNAME:CEST
DTSTART:19700329T020000
RRULE:FREQ=YEARLY;INTERVAL=1;BYDAY=-1SU;BYMONTH=3
END:DAYLIGHT
BEGIN:STANDARD
TZOFFSETFROM:+0200
TZOFFSETTO:+0100
TZNAME:CET
DTSTART:19701025T030000
RRULE:FREQ=YEARLY;INTERVAL=1;BYDAY=-1SU;BYMONTH=10
END:STANDARD
END:VTIMEZONE
BEGIN:VEVENT
DTSTAMP:20260419T170719
DTSTART;TZID=Europe/Berlin:20260907T153000
DTEND;TZID=Europe/Berlin:20260907T173000
UID:2602623236-20260907T153000@DÜSSELDORF ASG-BILDUNGSFORUM
SUMMARY:Eltern-Kind-Kreativkurs: Der Herbst ist da - die Blätter fallen  Bastelspaß für Eltern und Kinder von ca. 2 bis 4 Jahren (2602623236) 
LOCATION:ASG-R43;Großer Kindergruppenraum, Rather Kreuzweg 43, 40472 Düsseldorf
END:VEVENT
BEGIN:VEVENT
DTSTAMP:20260419T170719
DTSTART;TZID=Europe/Berlin:20260914T153000
DTEND;TZID=Europe/Berlin:20260914T173000
UID:2602623236-20260914T153000@DÜSSELDORF ASG-BILDUNGSFORUM
SUMMARY:Eltern-Kind-Kreativkurs: Der Herbst ist da - die Blätter fallen  Bastelspaß für Eltern und Kinder von ca. 2 bis 4 Jahren (2602623236) 
LOCATION:ASG-R43;Großer Kindergruppenraum, Rather Kreuzweg 43, 40472 Düsseldorf
END:VEVENT
BEGIN:VEVENT
DTSTAMP:20260419T170719
DTSTART;TZID=Europe/Berlin:20260921T153000
DTEND;TZID=Europe/Berlin:20260921T173000
UID:2602623236-20260921T153000@DÜSSELDORF ASG-BILDUNGSFORUM
SUMMARY:Eltern-Kind-Kreativkurs: Der Herbst ist da - die Blätter fallen  Bastelspaß für Eltern und Kinder von ca. 2 bis 4 Jahren (2602623236) 
LOCATION:ASG-R43;Großer Kindergruppenraum, Rather Kreuzweg 43, 40472 Düsseldorf
END:VEVENT
BEGIN:VEVENT
DTSTAMP:20260419T170719
DTSTART;TZID=Europe/Berlin:20260928T153000
DTEND;TZID=Europe/Berlin:20260928T173000
UID:2602623236-20260928T153000@DÜSSELDORF ASG-BILDUNGSFORUM
SUMMARY:Eltern-Kind-Kreativkurs: Der Herbst ist da - die Blätter fallen  Bastelspaß für Eltern und Kinder von ca. 2 bis 4 Jahren (2602623236) 
LOCATION:ASG-R43;Großer Kindergruppenraum, Rather Kreuzweg 43, 40472 Düsseldorf
END:VEVENT
BEGIN:VEVENT
DTSTAMP:20260419T170719
DTSTART;TZID=Europe/Berlin:20261005T153000
DTEND;TZID=Europe/Berlin:20261005T173000
UID:2602623236-20261005T153000@DÜSSELDORF ASG-BILDUNGSFORUM
SUMMARY:Eltern-Kind-Kreativkurs: Der Herbst ist da - die Blätter fallen  Bastelspaß für Eltern und Kinder von ca. 2 bis 4 Jahren (2602623236) 
LOCATION:ASG-R43;Großer Kindergruppenraum, Rather Kreuzweg 43, 40472 Düsseldorf
END:VEVENT
BEGIN:VEVENT
DTSTAMP:20260419T170719
DTSTART;TZID=Europe/Berlin:20261012T153000
DTEND;TZID=Europe/Berlin:20261012T173000
UID:2602623236-20261012T153000@DÜSSELDORF ASG-BILDUNGSFORUM
SUMMARY:Eltern-Kind-Kreativkurs: Der Herbst ist da - die Blätter fallen  Bastelspaß für Eltern und Kinder von ca. 2 bis 4 Jahren (2602623236) 
LOCATION:ASG-R43;Großer Kindergruppenraum, Rather Kreuzweg 43, 40472 Düsseldorf
END:VEVENT
END:VCALENDAR