BEGIN:VCALENDAR
VERSION:2.0
PRODID:https://www.kufer.de/kuferweb / DE
METHOD:PUBLISH
CALSCALE:GREGORIAN
X-WR-TIMEZONE:Europe/Berlin
BEGIN:VTIMEZONE
TZID:Europe/Berlin
X-LIC-LOCATION:Europe/Berlin
BEGIN:DAYLIGHT
TZOFFSETFROM:+0100
TZOFFSETTO:+0200
TZNAME:CEST
DTSTART:19700329T020000
RRULE:FREQ=YEARLY;INTERVAL=1;BYDAY=-1SU;BYMONTH=3
END:DAYLIGHT
BEGIN:STANDARD
TZOFFSETFROM:+0200
TZOFFSETTO:+0100
TZNAME:CET
DTSTART:19701025T030000
RRULE:FREQ=YEARLY;INTERVAL=1;BYDAY=-1SU;BYMONTH=10
END:STANDARD
END:VTIMEZONE
BEGIN:VEVENT
DTSTAMP:20260419T223344
DTSTART;TZID=Europe/Berlin:20260908T093000
DTEND;TZID=Europe/Berlin:20260908T110000
UID:2602623241-20260908T093000@DÜSSELDORF ASG-BILDUNGSFORUM
SUMMARY:Eltern-Kind-Spielgruppe (2602623241) 
LOCATION:Familienzentrum (städt.) Sankt-Franziskus-Straße, Sankt-Franziskus-Straße 157, 40470 Düsseldorf
END:VEVENT
BEGIN:VEVENT
DTSTAMP:20260419T223344
DTSTART;TZID=Europe/Berlin:20260915T093000
DTEND;TZID=Europe/Berlin:20260915T110000
UID:2602623241-20260915T093000@DÜSSELDORF ASG-BILDUNGSFORUM
SUMMARY:Eltern-Kind-Spielgruppe (2602623241) 
LOCATION:Familienzentrum (städt.) Sankt-Franziskus-Straße, Sankt-Franziskus-Straße 157, 40470 Düsseldorf
END:VEVENT
BEGIN:VEVENT
DTSTAMP:20260419T223344
DTSTART;TZID=Europe/Berlin:20260922T093000
DTEND;TZID=Europe/Berlin:20260922T110000
UID:2602623241-20260922T093000@DÜSSELDORF ASG-BILDUNGSFORUM
SUMMARY:Eltern-Kind-Spielgruppe (2602623241) 
LOCATION:Familienzentrum (städt.) Sankt-Franziskus-Straße, Sankt-Franziskus-Straße 157, 40470 Düsseldorf
END:VEVENT
BEGIN:VEVENT
DTSTAMP:20260419T223344
DTSTART;TZID=Europe/Berlin:20260929T093000
DTEND;TZID=Europe/Berlin:20260929T110000
UID:2602623241-20260929T093000@DÜSSELDORF ASG-BILDUNGSFORUM
SUMMARY:Eltern-Kind-Spielgruppe (2602623241) 
LOCATION:Familienzentrum (städt.) Sankt-Franziskus-Straße, Sankt-Franziskus-Straße 157, 40470 Düsseldorf
END:VEVENT
BEGIN:VEVENT
DTSTAMP:20260419T223344
DTSTART;TZID=Europe/Berlin:20261006T093000
DTEND;TZID=Europe/Berlin:20261006T110000
UID:2602623241-20261006T093000@DÜSSELDORF ASG-BILDUNGSFORUM
SUMMARY:Eltern-Kind-Spielgruppe (2602623241) 
LOCATION:Familienzentrum (städt.) Sankt-Franziskus-Straße, Sankt-Franziskus-Straße 157, 40470 Düsseldorf
END:VEVENT
BEGIN:VEVENT
DTSTAMP:20260419T223344
DTSTART;TZID=Europe/Berlin:20261013T093000
DTEND;TZID=Europe/Berlin:20261013T110000
UID:2602623241-20261013T093000@DÜSSELDORF ASG-BILDUNGSFORUM
SUMMARY:Eltern-Kind-Spielgruppe (2602623241) 
LOCATION:Familienzentrum (städt.) Sankt-Franziskus-Straße, Sankt-Franziskus-Straße 157, 40470 Düsseldorf
END:VEVENT
BEGIN:VEVENT
DTSTAMP:20260419T223344
DTSTART;TZID=Europe/Berlin:20261103T093000
DTEND;TZID=Europe/Berlin:20261103T110000
UID:2602623241-20261103T093000@DÜSSELDORF ASG-BILDUNGSFORUM
SUMMARY:Eltern-Kind-Spielgruppe (2602623241) 
LOCATION:Familienzentrum (städt.) Sankt-Franziskus-Straße, Sankt-Franziskus-Straße 157, 40470 Düsseldorf
END:VEVENT
BEGIN:VEVENT
DTSTAMP:20260419T223344
DTSTART;TZID=Europe/Berlin:20261110T093000
DTEND;TZID=Europe/Berlin:20261110T110000
UID:2602623241-20261110T093000@DÜSSELDORF ASG-BILDUNGSFORUM
SUMMARY:Eltern-Kind-Spielgruppe (2602623241) 
LOCATION:Familienzentrum (städt.) Sankt-Franziskus-Straße, Sankt-Franziskus-Straße 157, 40470 Düsseldorf
END:VEVENT
BEGIN:VEVENT
DTSTAMP:20260419T223344
DTSTART;TZID=Europe/Berlin:20261117T093000
DTEND;TZID=Europe/Berlin:20261117T110000
UID:2602623241-20261117T093000@DÜSSELDORF ASG-BILDUNGSFORUM
SUMMARY:Eltern-Kind-Spielgruppe (2602623241) 
LOCATION:Familienzentrum (städt.) Sankt-Franziskus-Straße, Sankt-Franziskus-Straße 157, 40470 Düsseldorf
END:VEVENT
BEGIN:VEVENT
DTSTAMP:20260419T223344
DTSTART;TZID=Europe/Berlin:20261124T093000
DTEND;TZID=Europe/Berlin:20261124T110000
UID:2602623241-20261124T093000@DÜSSELDORF ASG-BILDUNGSFORUM
SUMMARY:Eltern-Kind-Spielgruppe (2602623241) 
LOCATION:Familienzentrum (städt.) Sankt-Franziskus-Straße, Sankt-Franziskus-Straße 157, 40470 Düsseldorf
END:VEVENT
BEGIN:VEVENT
DTSTAMP:20260419T223344
DTSTART;TZID=Europe/Berlin:20261201T093000
DTEND;TZID=Europe/Berlin:20261201T110000
UID:2602623241-20261201T093000@DÜSSELDORF ASG-BILDUNGSFORUM
SUMMARY:Eltern-Kind-Spielgruppe (2602623241) 
LOCATION:Familienzentrum (städt.) Sankt-Franziskus-Straße, Sankt-Franziskus-Straße 157, 40470 Düsseldorf
END:VEVENT
BEGIN:VEVENT
DTSTAMP:20260419T223344
DTSTART;TZID=Europe/Berlin:20261208T093000
DTEND;TZID=Europe/Berlin:20261208T110000
UID:2602623241-20261208T093000@DÜSSELDORF ASG-BILDUNGSFORUM
SUMMARY:Eltern-Kind-Spielgruppe (2602623241) 
LOCATION:Familienzentrum (städt.) Sankt-Franziskus-Straße, Sankt-Franziskus-Straße 157, 40470 Düsseldorf
END:VEVENT
BEGIN:VEVENT
DTSTAMP:20260419T223344
DTSTART;TZID=Europe/Berlin:20261215T093000
DTEND;TZID=Europe/Berlin:20261215T110000
UID:2602623241-20261215T093000@DÜSSELDORF ASG-BILDUNGSFORUM
SUMMARY:Eltern-Kind-Spielgruppe (2602623241) 
LOCATION:Familienzentrum (städt.) Sankt-Franziskus-Straße, Sankt-Franziskus-Straße 157, 40470 Düsseldorf
END:VEVENT
END:VCALENDAR