BEGIN:VCALENDAR
VERSION:2.0
PRODID:https://www.kufer.de/kuferweb / DE
METHOD:PUBLISH
CALSCALE:GREGORIAN
X-WR-TIMEZONE:Europe/Berlin
BEGIN:VTIMEZONE
TZID:Europe/Berlin
X-LIC-LOCATION:Europe/Berlin
BEGIN:DAYLIGHT
TZOFFSETFROM:+0100
TZOFFSETTO:+0200
TZNAME:CEST
DTSTART:19700329T020000
RRULE:FREQ=YEARLY;INTERVAL=1;BYDAY=-1SU;BYMONTH=3
END:DAYLIGHT
BEGIN:STANDARD
TZOFFSETFROM:+0200
TZOFFSETTO:+0100
TZNAME:CET
DTSTART:19701025T030000
RRULE:FREQ=YEARLY;INTERVAL=1;BYDAY=-1SU;BYMONTH=10
END:STANDARD
END:VTIMEZONE
BEGIN:VEVENT
DTSTAMP:20260419T184211
DTSTART;TZID=Europe/Berlin:20261128T100000
DTEND;TZID=Europe/Berlin:20261128T121500
UID:2602623338-20261128T100000@DÜSSELDORF ASG-BILDUNGSFORUM
SUMMARY:Eltern-Kind-Turnworkshop: Tatütata, die Feuerwehr ist da!  Für Eltern und Kinder von 2 bis 4 Jahren (2602623338) 
LOCATION:Familienzentrum Heilige Familie, Carl-Sonnenschein-Straße 61, 40468 Düsseldorf
END:VEVENT
END:VCALENDAR