BEGIN:VCALENDAR
VERSION:2.0
PRODID:https://www.kufer.de/kuferweb / DE
METHOD:PUBLISH
CALSCALE:GREGORIAN
X-WR-TIMEZONE:Europe/Berlin
BEGIN:VTIMEZONE
TZID:Europe/Berlin
X-LIC-LOCATION:Europe/Berlin
BEGIN:DAYLIGHT
TZOFFSETFROM:+0100
TZOFFSETTO:+0200
TZNAME:CEST
DTSTART:19700329T020000
RRULE:FREQ=YEARLY;INTERVAL=1;BYDAY=-1SU;BYMONTH=3
END:DAYLIGHT
BEGIN:STANDARD
TZOFFSETFROM:+0200
TZOFFSETTO:+0100
TZNAME:CET
DTSTART:19701025T030000
RRULE:FREQ=YEARLY;INTERVAL=1;BYDAY=-1SU;BYMONTH=10
END:STANDARD
END:VTIMEZONE
BEGIN:VEVENT
DTSTAMP:20260419T181032
DTSTART;TZID=Europe/Berlin:20261023T143000
DTEND;TZID=Europe/Berlin:20261023T164500
UID:2602623342-20261023T143000@DÜSSELDORF ASG-BILDUNGSFORUM
SUMMARY:Eltern-Kind-Workshop: Kürbis schnitzen Für Eltern und Kinder von 3 bis 10 Jahren (2602623342) 
LOCATION:Caritas Stadtteilladen Wersten, Liebfrauenstraße 30, 40591 Düsseldorf
END:VEVENT
END:VCALENDAR