BEGIN:VCALENDAR
VERSION:2.0
PRODID:https://www.kufer.de/kuferweb / DE
METHOD:PUBLISH
CALSCALE:GREGORIAN
X-WR-TIMEZONE:Europe/Berlin
BEGIN:VTIMEZONE
TZID:Europe/Berlin
X-LIC-LOCATION:Europe/Berlin
BEGIN:DAYLIGHT
TZOFFSETFROM:+0100
TZOFFSETTO:+0200
TZNAME:CEST
DTSTART:19700329T020000
RRULE:FREQ=YEARLY;INTERVAL=1;BYDAY=-1SU;BYMONTH=3
END:DAYLIGHT
BEGIN:STANDARD
TZOFFSETFROM:+0200
TZOFFSETTO:+0100
TZNAME:CET
DTSTART:19701025T030000
RRULE:FREQ=YEARLY;INTERVAL=1;BYDAY=-1SU;BYMONTH=10
END:STANDARD
END:VTIMEZONE
BEGIN:VEVENT
DTSTAMP:20260419T174050
DTSTART;TZID=Europe/Berlin:20260926T100000
DTEND;TZID=Europe/Berlin:20260926T130000
UID:2602623370-20260926T100000@DÜSSELDORF ASG-BILDUNGSFORUM
SUMMARY:Im Rahmen des Sommerfestes: "Hokuspokus Fidibus" – Zauberworkshop                                                                                                             Für Eltern und Kinder von 4 bis 6 Jahren (2602623370) 
LOCATION:Familienzentrum (städt.) Hülsmeyerstraße, Hülsmeyerstraße 28, 40629 Düsseldorf
END:VEVENT
END:VCALENDAR