BEGIN:VCALENDAR
VERSION:2.0
PRODID:https://www.kufer.de/kuferweb / DE
METHOD:PUBLISH
CALSCALE:GREGORIAN
X-WR-TIMEZONE:Europe/Berlin
BEGIN:VTIMEZONE
TZID:Europe/Berlin
X-LIC-LOCATION:Europe/Berlin
BEGIN:DAYLIGHT
TZOFFSETFROM:+0100
TZOFFSETTO:+0200
TZNAME:CEST
DTSTART:19700329T020000
RRULE:FREQ=YEARLY;INTERVAL=1;BYDAY=-1SU;BYMONTH=3
END:DAYLIGHT
BEGIN:STANDARD
TZOFFSETFROM:+0200
TZOFFSETTO:+0100
TZNAME:CET
DTSTART:19701025T030000
RRULE:FREQ=YEARLY;INTERVAL=1;BYDAY=-1SU;BYMONTH=10
END:STANDARD
END:VTIMEZONE
BEGIN:VEVENT
DTSTAMP:20260422T143544
DTSTART;TZID=Europe/Berlin:20260417T131500
DTEND;TZID=Europe/Berlin:20260417T143000
UID:2602652001-20260417T131500@DÜSSELDORF ASG-BILDUNGSFORUM
SUMMARY:Elternstart NRW mit Elementen aus Babymassage und Baby-Yoga Für Eltern mit Babys von 8 Wochen bis 6 Monaten (2602652001) 
LOCATION:Familienzentrum St. Margareta, Gerricusstraße 14, 40625 Düsseldorf
END:VEVENT
BEGIN:VEVENT
DTSTAMP:20260422T143544
DTSTART;TZID=Europe/Berlin:20260424T131500
DTEND;TZID=Europe/Berlin:20260424T143000
UID:2602652001-20260424T131500@DÜSSELDORF ASG-BILDUNGSFORUM
SUMMARY:Elternstart NRW mit Elementen aus Babymassage und Baby-Yoga Für Eltern mit Babys von 8 Wochen bis 6 Monaten (2602652001) 
LOCATION:Familienzentrum St. Margareta, Gerricusstraße 14, 40625 Düsseldorf
END:VEVENT
BEGIN:VEVENT
DTSTAMP:20260422T143544
DTSTART;TZID=Europe/Berlin:20260508T131500
DTEND;TZID=Europe/Berlin:20260508T143000
UID:2602652001-20260508T131500@DÜSSELDORF ASG-BILDUNGSFORUM
SUMMARY:Elternstart NRW mit Elementen aus Babymassage und Baby-Yoga Für Eltern mit Babys von 8 Wochen bis 6 Monaten (2602652001) 
LOCATION:Familienzentrum St. Margareta, Gerricusstraße 14, 40625 Düsseldorf
END:VEVENT
BEGIN:VEVENT
DTSTAMP:20260422T143544
DTSTART;TZID=Europe/Berlin:20260515T131500
DTEND;TZID=Europe/Berlin:20260515T143000
UID:2602652001-20260515T131500@DÜSSELDORF ASG-BILDUNGSFORUM
SUMMARY:Elternstart NRW mit Elementen aus Babymassage und Baby-Yoga Für Eltern mit Babys von 8 Wochen bis 6 Monaten (2602652001) 
LOCATION:Familienzentrum St. Margareta, Gerricusstraße 14, 40625 Düsseldorf
END:VEVENT
BEGIN:VEVENT
DTSTAMP:20260422T143544
DTSTART;TZID=Europe/Berlin:20260522T131500
DTEND;TZID=Europe/Berlin:20260522T143000
UID:2602652001-20260522T131500@DÜSSELDORF ASG-BILDUNGSFORUM
SUMMARY:Elternstart NRW mit Elementen aus Babymassage und Baby-Yoga Für Eltern mit Babys von 8 Wochen bis 6 Monaten (2602652001) 
LOCATION:Familienzentrum St. Margareta, Gerricusstraße 14, 40625 Düsseldorf
END:VEVENT
BEGIN:VEVENT
DTSTAMP:20260422T143544
DTSTART;TZID=Europe/Berlin:20260529T131500
DTEND;TZID=Europe/Berlin:20260529T143000
UID:2602652001-20260529T131500@DÜSSELDORF ASG-BILDUNGSFORUM
SUMMARY:Elternstart NRW mit Elementen aus Babymassage und Baby-Yoga Für Eltern mit Babys von 8 Wochen bis 6 Monaten (2602652001) 
LOCATION:Familienzentrum St. Margareta, Gerricusstraße 14, 40625 Düsseldorf
END:VEVENT
END:VCALENDAR