BEGIN:VCALENDAR
VERSION:2.0
PRODID:https://www.kufer.de/kuferweb / DE
METHOD:PUBLISH
CALSCALE:GREGORIAN
X-WR-TIMEZONE:Europe/Berlin
BEGIN:VTIMEZONE
TZID:Europe/Berlin
X-LIC-LOCATION:Europe/Berlin
BEGIN:DAYLIGHT
TZOFFSETFROM:+0100
TZOFFSETTO:+0200
TZNAME:CEST
DTSTART:19700329T020000
RRULE:FREQ=YEARLY;INTERVAL=1;BYDAY=-1SU;BYMONTH=3
END:DAYLIGHT
BEGIN:STANDARD
TZOFFSETFROM:+0200
TZOFFSETTO:+0100
TZNAME:CET
DTSTART:19701025T030000
RRULE:FREQ=YEARLY;INTERVAL=1;BYDAY=-1SU;BYMONTH=10
END:STANDARD
END:VTIMEZONE
BEGIN:VEVENT
DTSTAMP:20260420T033832
DTSTART;TZID=Europe/Berlin:20260911T120000
DTEND;TZID=Europe/Berlin:20260911T133000
UID:2602653003-20260911T120000@DÜSSELDORF ASG-BILDUNGSFORUM
SUMMARY:Elternstart NRW mit Elementen aus Babymassage und Rückbildung  Für Mütter und Babys ab 5 Wochen bis 6 Monate (2602653003) 
LOCATION:ASG-G90;E0.02, Gerresheimer Straße 90, 40233 Düsseldorf
END:VEVENT
BEGIN:VEVENT
DTSTAMP:20260420T033832
DTSTART;TZID=Europe/Berlin:20260918T120000
DTEND;TZID=Europe/Berlin:20260918T133000
UID:2602653003-20260918T120000@DÜSSELDORF ASG-BILDUNGSFORUM
SUMMARY:Elternstart NRW mit Elementen aus Babymassage und Rückbildung  Für Mütter und Babys ab 5 Wochen bis 6 Monate (2602653003) 
LOCATION:ASG-G90;E0.02, Gerresheimer Straße 90, 40233 Düsseldorf
END:VEVENT
BEGIN:VEVENT
DTSTAMP:20260420T033832
DTSTART;TZID=Europe/Berlin:20260925T120000
DTEND;TZID=Europe/Berlin:20260925T133000
UID:2602653003-20260925T120000@DÜSSELDORF ASG-BILDUNGSFORUM
SUMMARY:Elternstart NRW mit Elementen aus Babymassage und Rückbildung  Für Mütter und Babys ab 5 Wochen bis 6 Monate (2602653003) 
LOCATION:ASG-G90;E0.02, Gerresheimer Straße 90, 40233 Düsseldorf
END:VEVENT
BEGIN:VEVENT
DTSTAMP:20260420T033832
DTSTART;TZID=Europe/Berlin:20261002T120000
DTEND;TZID=Europe/Berlin:20261002T133000
UID:2602653003-20261002T120000@DÜSSELDORF ASG-BILDUNGSFORUM
SUMMARY:Elternstart NRW mit Elementen aus Babymassage und Rückbildung  Für Mütter und Babys ab 5 Wochen bis 6 Monate (2602653003) 
LOCATION:ASG-G90;E0.02, Gerresheimer Straße 90, 40233 Düsseldorf
END:VEVENT
BEGIN:VEVENT
DTSTAMP:20260420T033832
DTSTART;TZID=Europe/Berlin:20261009T120000
DTEND;TZID=Europe/Berlin:20261009T133000
UID:2602653003-20261009T120000@DÜSSELDORF ASG-BILDUNGSFORUM
SUMMARY:Elternstart NRW mit Elementen aus Babymassage und Rückbildung  Für Mütter und Babys ab 5 Wochen bis 6 Monate (2602653003) 
LOCATION:ASG-G90;E0.02, Gerresheimer Straße 90, 40233 Düsseldorf
END:VEVENT
END:VCALENDAR