BEGIN:VCALENDAR
VERSION:2.0
PRODID:https://www.kufer.de/kuferweb / DE
METHOD:PUBLISH
CALSCALE:GREGORIAN
X-WR-TIMEZONE:Europe/Berlin
BEGIN:VTIMEZONE
TZID:Europe/Berlin
X-LIC-LOCATION:Europe/Berlin
BEGIN:DAYLIGHT
TZOFFSETFROM:+0100
TZOFFSETTO:+0200
TZNAME:CEST
DTSTART:19700329T020000
RRULE:FREQ=YEARLY;INTERVAL=1;BYDAY=-1SU;BYMONTH=3
END:DAYLIGHT
BEGIN:STANDARD
TZOFFSETFROM:+0200
TZOFFSETTO:+0100
TZNAME:CET
DTSTART:19701025T030000
RRULE:FREQ=YEARLY;INTERVAL=1;BYDAY=-1SU;BYMONTH=10
END:STANDARD
END:VTIMEZONE
BEGIN:VEVENT
DTSTAMP:20260419T162435
DTSTART;TZID=Europe/Berlin:20260908T113000
DTEND;TZID=Europe/Berlin:20260908T124500
UID:2602653004-20260908T113000@DÜSSELDORF ASG-BILDUNGSFORUM
SUMMARY:Elternstart NRW mit Elementen der Babymassage Für japanische Eltern mit Babys von 4 Wochen bis 12 Monaten  Elternstart NRW（ベビーマッサージの要素を含む）
生後8週間から6か月までの赤ちゃんを持つ日本人の保護者向け (2602653004) 
LOCATION:ASG-W27;001, Wildenbruchstraße 27, 40545 Düsseldorf
END:VEVENT
BEGIN:VEVENT
DTSTAMP:20260419T162435
DTSTART;TZID=Europe/Berlin:20260915T113000
DTEND;TZID=Europe/Berlin:20260915T124500
UID:2602653004-20260915T113000@DÜSSELDORF ASG-BILDUNGSFORUM
SUMMARY:Elternstart NRW mit Elementen der Babymassage Für japanische Eltern mit Babys von 4 Wochen bis 12 Monaten  Elternstart NRW（ベビーマッサージの要素を含む）
生後8週間から6か月までの赤ちゃんを持つ日本人の保護者向け (2602653004) 
LOCATION:ASG-W27;001, Wildenbruchstraße 27, 40545 Düsseldorf
END:VEVENT
BEGIN:VEVENT
DTSTAMP:20260419T162435
DTSTART;TZID=Europe/Berlin:20260922T113000
DTEND;TZID=Europe/Berlin:20260922T124500
UID:2602653004-20260922T113000@DÜSSELDORF ASG-BILDUNGSFORUM
SUMMARY:Elternstart NRW mit Elementen der Babymassage Für japanische Eltern mit Babys von 4 Wochen bis 12 Monaten  Elternstart NRW（ベビーマッサージの要素を含む）
生後8週間から6か月までの赤ちゃんを持つ日本人の保護者向け (2602653004) 
LOCATION:ASG-W27;001, Wildenbruchstraße 27, 40545 Düsseldorf
END:VEVENT
BEGIN:VEVENT
DTSTAMP:20260419T162435
DTSTART;TZID=Europe/Berlin:20260929T113000
DTEND;TZID=Europe/Berlin:20260929T124500
UID:2602653004-20260929T113000@DÜSSELDORF ASG-BILDUNGSFORUM
SUMMARY:Elternstart NRW mit Elementen der Babymassage Für japanische Eltern mit Babys von 4 Wochen bis 12 Monaten  Elternstart NRW（ベビーマッサージの要素を含む）
生後8週間から6か月までの赤ちゃんを持つ日本人の保護者向け (2602653004) 
LOCATION:ASG-W27;001, Wildenbruchstraße 27, 40545 Düsseldorf
END:VEVENT
BEGIN:VEVENT
DTSTAMP:20260419T162435
DTSTART;TZID=Europe/Berlin:20261006T113000
DTEND;TZID=Europe/Berlin:20261006T124500
UID:2602653004-20261006T113000@DÜSSELDORF ASG-BILDUNGSFORUM
SUMMARY:Elternstart NRW mit Elementen der Babymassage Für japanische Eltern mit Babys von 4 Wochen bis 12 Monaten  Elternstart NRW（ベビーマッサージの要素を含む）
生後8週間から6か月までの赤ちゃんを持つ日本人の保護者向け (2602653004) 
LOCATION:ASG-W27;001, Wildenbruchstraße 27, 40545 Düsseldorf
END:VEVENT
BEGIN:VEVENT
DTSTAMP:20260419T162435
DTSTART;TZID=Europe/Berlin:20261013T113000
DTEND;TZID=Europe/Berlin:20261013T124500
UID:2602653004-20261013T113000@DÜSSELDORF ASG-BILDUNGSFORUM
SUMMARY:Elternstart NRW mit Elementen der Babymassage Für japanische Eltern mit Babys von 4 Wochen bis 12 Monaten  Elternstart NRW（ベビーマッサージの要素を含む）
生後8週間から6か月までの赤ちゃんを持つ日本人の保護者向け (2602653004) 
LOCATION:ASG-W27;001, Wildenbruchstraße 27, 40545 Düsseldorf
END:VEVENT
END:VCALENDAR